BEGIN:VCALENDAR
METHOD:PUBLISH
PRODID:-//webcollect/bfyc//NONSGML v1.0//EN
BEGIN:VTIMEZONE
TZID:Europe/London
BEGIN:DAYLIGHT
TZOFFSETFROM:+0000
RRULE:FREQ=YEARLY;BYMONTH=3;BYDAY=-1SU
DTSTART:19810329T010000
TZNAME:BST
TZOFFSETTO:+0100
END:DAYLIGHT
BEGIN:STANDARD
TZOFFSETFROM:+0100
RRULE:FREQ=YEARLY;BYMONTH=10;BYDAY=-1SU
DTSTART:19961027T020000
TZNAME:GMT
TZOFFSETTO:+0000
END:STANDARD
END:VTIMEZONE
BEGIN:VEVENT
UID:event_product_271514@webcollect.org.uk
DTSTAMP:20260423T083316Z
ORGANIZER;CN=Peter G Jackson:MAILTO:peter.g.jackson@btinternet.com
DTSTART;VALUE=DATE:20271231
DESCRIPTION:If you require a compound Key to access your boat or dinghy\, please purchase via this link.The Key opens the Dinghy\, Keelboat and Powerboat compound gates. If you return the key when no longer needed a full refund will be given.Please ensure the gates are closed and locked after use. Most dinghy insurance is only valid if the boat is kept in a LOCKED compound.Please advise your contact details...
SUMMARY:Compound Keys - Blackpool and Fleetwood YC
LOCATION:Blackpool and Fleetwood Yacht Club
END:VEVENT
END:VCALENDAR
