BEGIN:VCALENDAR
METHOD:PUBLISH
PRODID:-//webcollect/bfyc//NONSGML v1.0//EN
BEGIN:VTIMEZONE
TZID:Europe/London
BEGIN:DAYLIGHT
TZOFFSETFROM:+0000
RRULE:FREQ=YEARLY;BYMONTH=3;BYDAY=-1SU
DTSTART:19810329T010000
TZNAME:BST
TZOFFSETTO:+0100
END:DAYLIGHT
BEGIN:STANDARD
TZOFFSETFROM:+0100
RRULE:FREQ=YEARLY;BYMONTH=10;BYDAY=-1SU
DTSTART:19961027T020000
TZNAME:GMT
TZOFFSETTO:+0000
END:STANDARD
END:VTIMEZONE
BEGIN:VEVENT
UID:event_product_453366@webcollect.org.uk
DTSTAMP:20260423T083413Z
ORGANIZER;CN=Adam Chaplin:MAILTO:adamchaplin@hotmail.com
DTSTART;VALUE=DATE:20260502
DESCRIPTION:The RYA L2 course builds on the fundamentals of RYA L1. Pupils will be aware of sail setting\, boat trim\, balance and the best course to sail. They will be aware of Lee shore dangers and the ‘rules of the road’ and know how to recover a capsized boat.You do need to be able to sail competently to L1 standard as a pre-requisite for this course. This means being comfortable sailing a single-handed...
SUMMARY:Day 1 2nd May\, Day 2 9th May\, Day 3 16th May Start Sailing RYA Level 2(8 places avail) - Blackpool and Fleetwood YC
LOCATION:Blackpool and Fleetwood YC
END:VEVENT
BEGIN:VEVENT
UID:event_product_453367@webcollect.org.uk
DTSTAMP:20260423T083413Z
ORGANIZER;CN=Adam Chaplin:MAILTO:adamchaplin@hotmail.com
DTSTART;VALUE=DATE:20260606
DESCRIPTION:The RYA L2 course builds on the fundamentals of RYA L1. Pupils will be aware of sail setting\, boat trim\, balance and the best course to sail. They will be aware of Lee shore dangers and the ‘rules of the road’ and know how to recover a capsized boat.You do need to be able to sail competently to L1 standard as a pre-requisite for this course. This means being comfortable sailing a single-handed...
SUMMARY:Day 1 6th June\, Day 2 13th June\, Day 3 20th June Start Sailing RYA Level 2(8 places avail) - Blackpool and Fleetwood YC
LOCATION:Blackpool and Fleetwood YC
END:VEVENT
BEGIN:VEVENT
UID:event_product_453368@webcollect.org.uk
DTSTAMP:20260423T083413Z
ORGANIZER;CN=Adam Chaplin:MAILTO:adamchaplin@hotmail.com
DTSTART;VALUE=DATE:20260704
DESCRIPTION:The RYA L2 course builds on the fundamentals of RYA L1. Pupils will be aware of sail setting\, boat trim\, balance and the best course to sail. They will be aware of Lee shore dangers and the ‘rules of the road’ and know how to recover a capsized boat.You do need to be able to sail competently to L1 standard as a pre-requisite for this course. This means being comfortable sailing a single-handed...
SUMMARY:Day 1 4th July\, Day 2 18th July\, Day 3 25th July Start Sailing RYA Level 2(8 places avail) - Blackpool and Fleetwood YC
LOCATION:Blackpool and Fleetwood YC
END:VEVENT
BEGIN:VEVENT
UID:event_product_453369@webcollect.org.uk
DTSTAMP:20260423T083413Z
ORGANIZER;CN=Adam Chaplin:MAILTO:adamchaplin@hotmail.com
DTSTART;VALUE=DATE:20260801
DESCRIPTION:The RYA L2 course builds on the fundamentals of RYA L1. Pupils will be aware of sail setting\, boat trim\, balance and the best course to sail. They will be aware of Lee shore dangers and the ‘rules of the road’ and know how to recover a capsized boat.You do need to be able to sail competently to L1 standard as a pre-requisite for this course. This means being comfortable sailing a single-handed...
SUMMARY:Day 1 1st Aug\, Day 2 15th Aug\, Day 3 29th Aug Start Sailing RYA Level 2(8 places avail) - Blackpool and Fleetwood YC
LOCATION:Blackpool and Fleetwood YC
END:VEVENT
BEGIN:VEVENT
UID:event_product_453370@webcollect.org.uk
DTSTAMP:20260423T083413Z
ORGANIZER;CN=Adam Chaplin:MAILTO:adamchaplin@hotmail.com
DTSTART;VALUE=DATE:20260912
DESCRIPTION:The RYA L2 course builds on the fundamentals of RYA L1. Pupils will be aware of sail setting\, boat trim\, balance and the best course to sail. They will be aware of Lee shore dangers and the ‘rules of the road’ and know how to recover a capsized boat.You do need to be able to sail competently to L1 standard as a pre-requisite for this course. This means being comfortable sailing a single-handed...
SUMMARY:Day 1 12th Sept\, Day 2 19th Sept\, Day 3 26th Sept Start Sailing RYA Level 2(8 places avail) - Blackpool and Fleetwood YC
LOCATION:Blackpool and Fleetwood YC
END:VEVENT
END:VCALENDAR
