BEGIN:VCALENDAR
METHOD:PUBLISH
PRODID:-//webcollect/bfyc//NONSGML v1.0//EN
BEGIN:VTIMEZONE
TZID:Europe/London
BEGIN:DAYLIGHT
TZOFFSETFROM:+0000
RRULE:FREQ=YEARLY;BYMONTH=3;BYDAY=-1SU
DTSTART:19810329T010000
TZNAME:BST
TZOFFSETTO:+0100
END:DAYLIGHT
BEGIN:STANDARD
TZOFFSETFROM:+0100
RRULE:FREQ=YEARLY;BYMONTH=10;BYDAY=-1SU
DTSTART:19961027T020000
TZNAME:GMT
TZOFFSETTO:+0000
END:STANDARD
END:VTIMEZONE
BEGIN:VEVENT
UID:event_product_270290@webcollect.org.uk
DTSTAMP:20260421T091108Z
ORGANIZER;CN=Adam Chaplin:MAILTO:adamchaplin@hotmail.com
DTSTART;VALUE=DATE:20271231
DESCRIPTION:Please pay the appropriate fee for each boat used. Boats are available when not being used for training. Boats may only be used in wind speeds less than 15 knts. Toppers are available for junior development activities (racing\, coaching or practice) for youth sailors who have completed either the Start Racing or RYA L2 course. Boats are available on a first-come first-served basis. Please pay...
SUMMARY:Pay for use of boats - Blackpool and Fleetwood YC
LOCATION:Blackpool and Fleetwood Yacht Club
END:VEVENT
END:VCALENDAR
