BEGIN:VCALENDAR
METHOD:PUBLISH
PRODID:-//webcollect/broadstairssailingclub//NONSGML v1.0//EN
BEGIN:VTIMEZONE
TZID:Europe/London
BEGIN:DAYLIGHT
TZOFFSETFROM:+0000
RRULE:FREQ=YEARLY;BYMONTH=3;BYDAY=-1SU
DTSTART:19810329T010000
TZNAME:BST
TZOFFSETTO:+0100
END:DAYLIGHT
BEGIN:STANDARD
TZOFFSETFROM:+0100
RRULE:FREQ=YEARLY;BYMONTH=10;BYDAY=-1SU
DTSTART:19961027T020000
TZNAME:GMT
TZOFFSETTO:+0000
END:STANDARD
END:VTIMEZONE
BEGIN:VEVENT
UID:event_product_458781@webcollect.org.uk
DTSTAMP:20260423T132054Z
ORGANIZER;CN=Membership Admin:MAILTO:membership@broadstairssailingclub.com
DTSTART;VALUE=DATE:20260606
DESCRIPTION:£6 per person Served between 2.30 & 4.30pm Payment is required to secure place/s.If you need to pay by card at the kitchen till (Offline card)\, please pop into the club to make your payment.Payment methods (to be selected upon booking)Online Direct Debit\, Simple payment by direct debit (GoCardless). Can be used to make one-off or repeated payments. Internet banking is not required\, all you need...
SUMMARY:Afternoon Tea Afternoon Tea Saturday 6th June(40 places avail) - Broadstairs Sailing Club
LOCATION:Broadstairs Sailing Club
END:VEVENT
END:VCALENDAR
