BEGIN:VCALENDAR
METHOD:PUBLISH
PRODID:-//webcollect/broadstairssailingclub//NONSGML v1.0//EN
BEGIN:VTIMEZONE
TZID:Europe/London
BEGIN:DAYLIGHT
TZOFFSETFROM:+0000
RRULE:FREQ=YEARLY;BYMONTH=3;BYDAY=-1SU
DTSTART:19810329T010000
TZNAME:BST
TZOFFSETTO:+0100
END:DAYLIGHT
BEGIN:STANDARD
TZOFFSETFROM:+0100
RRULE:FREQ=YEARLY;BYMONTH=10;BYDAY=-1SU
DTSTART:19961027T020000
TZNAME:GMT
TZOFFSETTO:+0000
END:STANDARD
END:VTIMEZONE
BEGIN:VEVENT
UID:event_product_461637@webcollect.org.uk
DTSTAMP:20260423T121050Z
ORGANIZER;CN=Membership Admin:MAILTO:membership@broadstairssailingclub.com
DTSTART;VALUE=DATE:20260423
DESCRIPTION:Before you checkout you'll be asked to complete your choice/s of meal options.Meals are priced at £8 for members\, £10 for non members and £6 for Junior members Under 12 years of age. Please ensure that you select the correct pricing as you order.Payment methods (to be selected upon booking)Online Direct Debit\, Simple payment by direct debit (GoCardless). Can be used to make one-off or repeated...
SUMMARY:Evening meal Evening meal - Thursday 23rd April - Food served from 8pm(11 places avail) - Broadstairs Sailing Club
LOCATION:Broadstairs Sailing Club
END:VEVENT
BEGIN:VEVENT
UID:event_product_462908@webcollect.org.uk
DTSTAMP:20260423T121050Z
ORGANIZER;CN=Membership Admin:MAILTO:membership@broadstairssailingclub.com
DTSTART;VALUE=DATE:20260430
DESCRIPTION:Before you checkout you'll be asked to complete your choice/s of meal options.Meals are priced at £8 for members\, £10 for non members and £6 for Junior members Under 12 years of age. Please ensure that you select the correct pricing as you order.Payment methods (to be selected upon booking)Online Direct Debit\, Simple payment by direct debit (GoCardless). Can be used to make one-off or repeated...
SUMMARY:Evening meal Evening meal - Thursday 30th April - Food served from 8pm(24 places avail) - Broadstairs Sailing Club
LOCATION:Broadstairs Sailing Club
END:VEVENT
BEGIN:VEVENT
UID:event_product_461149@webcollect.org.uk
DTSTAMP:20260423T121050Z
ORGANIZER;CN=Membership Admin:MAILTO:membership@broadstairssailingclub.com
DTSTART;VALUE=DATE:20260502
DESCRIPTION:Before you checkout you'll be asked to complete your choice/s of meal options.Meals are priced at £8 for members\, £10 for non members and £6 for Junior members Under 12 years of age. Please ensure that you select the correct pricing as you order.Payment methods (to be selected upon booking)Online Direct Debit\, Simple payment by direct debit (GoCardless). Can be used to make one-off or repeated...
SUMMARY:Evening meal BSC 90 Trophy Event Supper - Saturday 2nd May 7pm(23 places avail) - Broadstairs Sailing Club
LOCATION:Broadstairs Sailing Club
END:VEVENT
BEGIN:VEVENT
UID:event_product_453819@webcollect.org.uk
DTSTAMP:20260423T121050Z
ORGANIZER;CN=Training Admin:MAILTO:training@broadstairssailingclub.com
DTSTART;VALUE=DATE:20260516
DESCRIPTION:Saturday May 16th and Saturday May 30th The RYA Training is the 2 full days and therefore attendance for the 2 full days is essentialSaturday Training Session (09.00 hrs Start\, finish 17.00hrs)Pricing\;Subsequent courses should only be booked after completion of the first course.Single person first course £80 (subsequent course £60)Family 2 people first course £120 (subsequent course £100)Family...
SUMMARY:Sail Training Sail Training 2026(7 places avail) - Broadstairs Sailing Club
LOCATION:Broadstairs Sailing Club
END:VEVENT
BEGIN:VEVENT
UID:event_product_459424@webcollect.org.uk
DTSTAMP:20260423T121050Z
ORGANIZER;CN=Sailing Secretary:MAILTO:sailing@broadstairssailingclub.com
DTSTART;VALUE=DATE:20260606
DESCRIPTION:Welcome to the 90th Anniversary Open MeetingDates: 6th and 7th June 2026Time: Race briefing 1200hrs SaturdaySaturday races: 3 races back to back first warning signal not before 12:55hrsSunday races: 3 races back to back first warning signal not before 09:55hrsTicket pricingAdvance booking (available until May 31st) £20 per boatTickets purchased from 1st June £25 per boat Booking...
SUMMARY:90th Anniversary Open Meeting - Broadstairs Sailing Club
LOCATION:Broadstairs Sailing Club
END:VEVENT
BEGIN:VEVENT
UID:event_product_458781@webcollect.org.uk
DTSTAMP:20260423T121050Z
ORGANIZER;CN=Membership Admin:MAILTO:membership@broadstairssailingclub.com
DTSTART;VALUE=DATE:20260606
DESCRIPTION:£6 per person Served between 2.30 & 4.30pm Payment is required to secure place/s.If you need to pay by card at the kitchen till (Offline card)\, please pop into the club to make your payment.Payment methods (to be selected upon booking)Online Direct Debit\, Simple payment by direct debit (GoCardless). Can be used to make one-off or repeated payments. Internet banking is not required\, all you need...
SUMMARY:Afternoon Tea Afternoon Tea Saturday 6th June(40 places avail) - Broadstairs Sailing Club
LOCATION:Broadstairs Sailing Club
END:VEVENT
BEGIN:VEVENT
UID:event_product_458782@webcollect.org.uk
DTSTAMP:20260423T121050Z
ORGANIZER;CN=Membership Admin:MAILTO:membership@broadstairssailingclub.com
DTSTART;VALUE=DATE:20260606
DESCRIPTION:£10 per person Served from 6.30pmPayment is required to secure place/s.If you need to pay by card at the kitchen till (Offline card)\, please pop into the club to make your payment.Payment methods (to be selected upon booking)Online Direct Debit\, Simple payment by direct debit (GoCardless). Can be used to make one-off or repeated payments. Internet banking is not required\, all you need are your...
SUMMARY:Buffet Evening Buffet Saturday 6th June(32 places avail) - Broadstairs Sailing Club
LOCATION:Broadstairs Sailing Club
END:VEVENT
BEGIN:VEVENT
UID:event_product_453323@webcollect.org.uk
DTSTAMP:20260423T121050Z
ORGANIZER;CN=Patrol Boat Officer:MAILTO:patrol@broadstairssailingclub.com
DTSTART;VALUE=DATE:20260613
DESCRIPTION:Course dates:Power Boat Level 2 Course 13th & 14th June 2026Direct debit (GoCardless) or Bank transfer payment only\, thanks.The RYA Power Boat Level 2 is the most popular powerboat training course and two days over which it is run gives plenty of time for both practical instruction and theory. The powerboat level 2 course’s aim is to teach powerboat handling and seamanship in powerboats.The...
SUMMARY:RYA Power boat training Level 2(2 places avail) - Broadstairs Sailing Club
LOCATION:Broadstairs Sailing Club
END:VEVENT
BEGIN:VEVENT
UID:event_product_451928@webcollect.org.uk
DTSTAMP:20260423T121050Z
ORGANIZER;CN=Membership Admin:MAILTO:membership@broadstairssailingclub.com
DTSTART;VALUE=DATE:20260620
DESCRIPTION:This event is open to members\, guests and former members until the 30th May (£40 per person)*Payment is required to secure place/s* If you haven't paid by the 30th of May your place/s will be sold Places are limited to 150 personsIf you need to pay by card at the kitchen till (Offline card)\, please pop into the club on a Thursday evening or a Sunday lunch time to make your paymentPayment...
SUMMARY:Dinner & Dance BSC 90th Anniversary Dinner & Dance(35 places avail) - Broadstairs Sailing Club
LOCATION:Broadstairs Pavilion
END:VEVENT
BEGIN:VEVENT
UID:event_product_453324@webcollect.org.uk
DTSTAMP:20260423T121050Z
ORGANIZER;CN=Patrol Boat Officer:MAILTO:patrol@broadstairssailingclub.com
DTSTART;VALUE=DATE:20260704
DESCRIPTION:Course dates:Safety Boat course 4th & 5th JulyDirect debit (GoCardless) or Bank transfer payment only\, thanks.RYA Safety BoatThis two-day course provides the skills required when acting as an escort craft\, safety boat or coach boat for a fleet of dinghies\, windsurfers or canoes\, or for racing or training activities.It includes rescue techniques and elements of race management and mark laying....
SUMMARY:RYA Safety Boat for 2026(9 places avail) - Broadstairs Sailing Club
LOCATION:Broadstairs Sailing Club
END:VEVENT
END:VCALENDAR
