BEGIN:VCALENDAR
METHOD:PUBLISH
PRODID:-//webcollect/bsc//NONSGML v1.0//EN
BEGIN:VTIMEZONE
TZID:Europe/London
BEGIN:DAYLIGHT
TZOFFSETFROM:+0000
RRULE:FREQ=YEARLY;BYMONTH=3;BYDAY=-1SU
DTSTART:19810329T010000
TZNAME:BST
TZOFFSETTO:+0100
END:DAYLIGHT
BEGIN:STANDARD
TZOFFSETFROM:+0100
RRULE:FREQ=YEARLY;BYMONTH=10;BYDAY=-1SU
DTSTART:19961027T020000
TZNAME:GMT
TZOFFSETTO:+0000
END:STANDARD
END:VTIMEZONE
BEGIN:VEVENT
UID:event_product_37477@webcollect.org.uk
DTSTAMP:20260423T083317Z
ORGANIZER;CN=douglas roberts:MAILTO:douglasericroberts@gmail.com
DTSTART;VALUE=DATE:20250827
DESCRIPTION:This page can be used for daily hire or for booking a specific boat on a specific date if you have paid for a subscription to either of the youth or adult schemes. Before booking check availability. Click on show in step 1\, to see boats that have already been booked. Then select date\, this is not the date that you are booking the boat for\, you get to choose this after you have clicked checkout....
SUMMARY:Boat Hire Daily Boat and Trailer Hire and booking for a specific date - Bowmoor Sailing Club
END:VEVENT
END:VCALENDAR
