BEGIN:VCALENDAR
METHOD:PUBLISH
PRODID:-//webcollect/cherwellcc//NONSGML v1.0//EN
BEGIN:VTIMEZONE
TZID:Europe/London
BEGIN:DAYLIGHT
TZOFFSETFROM:+0000
RRULE:FREQ=YEARLY;BYMONTH=3;BYDAY=-1SU
DTSTART:19810329T010000
TZNAME:BST
TZOFFSETTO:+0100
END:DAYLIGHT
BEGIN:STANDARD
TZOFFSETFROM:+0100
RRULE:FREQ=YEARLY;BYMONTH=10;BYDAY=-1SU
DTSTART:19961027T020000
TZNAME:GMT
TZOFFSETTO:+0000
END:STANDARD
END:VTIMEZONE
BEGIN:VEVENT
UID:event_product_453435@webcollect.org.uk
DTSTAMP:20260421T084315Z
ORGANIZER;CN=Tim Ayre:MAILTO:tim@ayre.me.uk
DTSTART;VALUE=DATE:20260531
DESCRIPTION:Can you please purchase a general meal ticket for each person that you need to pay for\, unless you have a named ticket.A ticket covers all of the meals that you had over the weekend.
SUMMARY:General Meal Ticket Dart Trip 7-8 Feb 2026 - Food(1 places avail) - Cherwell Canoe Club CIO Charity No 1201741
END:VEVENT
BEGIN:VEVENT
UID:event_product_462077@webcollect.org.uk
DTSTAMP:20260421T084315Z
ORGANIZER;CN=Michael Punter:MAILTO:m_a_punter@hotmail.com
DTSTART;TZID=Europe/London:20260605T180000
DESCRIPTION:Our annual family Devon weekend surf trip camping at Brightlycott Barton near Barnstaple and surfing at Putsborough. Suitable and welcome for all ages and abilities\, paddlers and non-paddlers - a really good social get-together.Friday 5th June to Sunday 7th June 2026You must book your camping direct with the site using the attached special form (see Downloads below on the right). Full details...
SUMMARY:Cherwell CC Surf Weekend 2025 Cherwell CC Surf Weekend 2026 ~~ Friday 5th to Sunday 7th June (48 places avail) - Cherwell Canoe Club CIO Charity No 1201741
LOCATION:North Devon
END:VEVENT
END:VCALENDAR
