BEGIN:VCALENDAR
METHOD:PUBLISH
PRODID:-//webcollect/cherwellcc//NONSGML v1.0//EN
BEGIN:VTIMEZONE
TZID:Europe/London
BEGIN:DAYLIGHT
TZOFFSETFROM:+0000
RRULE:FREQ=YEARLY;BYMONTH=3;BYDAY=-1SU
DTSTART:19810329T010000
TZNAME:BST
TZOFFSETTO:+0100
END:DAYLIGHT
BEGIN:STANDARD
TZOFFSETFROM:+0100
RRULE:FREQ=YEARLY;BYMONTH=10;BYDAY=-1SU
DTSTART:19961027T020000
TZNAME:GMT
TZOFFSETTO:+0000
END:STANDARD
END:VTIMEZONE
BEGIN:VEVENT
UID:event_product_239062@webcollect.org.uk
DTSTAMP:20260421T082834Z
ORGANIZER;CN=Matthew Caiels:MAILTO:treasurer@cherwellcc.org.uk
DTSTART;VALUE=DATE:20210501
DESCRIPTION:Club branded merchandise is now available to order online! We have the following items currently in stock:Club Polo Shirt Club BeaniesPlease see the attached flyer for pictures and information on sizing. PRICES NOW REDUCEDOrders may be placed below\, please contact Matt Caiels to arrange collection.
SUMMARY:Club Beanie Club Branded Merchandise Orders(35 places avail) - Cherwell Canoe Club CIO Charity No 1201741
END:VEVENT
BEGIN:VEVENT
UID:event_product_239059@webcollect.org.uk
DTSTAMP:20260421T082834Z
ORGANIZER;CN=Matthew Caiels:MAILTO:treasurer@cherwellcc.org.uk
DTSTART;VALUE=DATE:20210501
DESCRIPTION:Club branded merchandise is now available to order online! We have the following items currently in stock:Club Polo Shirt Club BeaniesPlease see the attached flyer for pictures and information on sizing. PRICES NOW REDUCEDOrders may be placed below\, please contact Matt Caiels to arrange collection.
SUMMARY:Club Polo Shirt XL Club Branded Merchandise Orders(full) - Cherwell Canoe Club CIO Charity No 1201741
END:VEVENT
END:VCALENDAR
