BEGIN:VCALENDAR
METHOD:PUBLISH
PRODID:-//webcollect/cherwellcc//NONSGML v1.0//EN
BEGIN:VTIMEZONE
TZID:Europe/London
BEGIN:DAYLIGHT
TZOFFSETFROM:+0000
RRULE:FREQ=YEARLY;BYMONTH=3;BYDAY=-1SU
DTSTART:19810329T010000
TZNAME:BST
TZOFFSETTO:+0100
END:DAYLIGHT
BEGIN:STANDARD
TZOFFSETFROM:+0100
RRULE:FREQ=YEARLY;BYMONTH=10;BYDAY=-1SU
DTSTART:19961027T020000
TZNAME:GMT
TZOFFSETTO:+0000
END:STANDARD
END:VTIMEZONE
BEGIN:VEVENT
UID:event_product_462168@webcollect.org.uk
DTSTAMP:20260421T082835Z
ORGANIZER;CN=Liam Webb:MAILTO:liam_webb@talktalk.net
DTSTART;TZID=Europe/London:20260426T194500
DTEND;TZID=Europe/London:20260426T211500
DESCRIPTION:Canoe Polo Indoor Sessions at Stratford Leisure Centre The session timings are 19:45-21:15 and these will be game-based (please arrive at the pool at 19:30 to start putting the goals up\, so we can be on the water for 19:45)Please sign up on Webcollect before attending\, non-members and beginners are invited to attend\, just message Liam (07561402620) before attending if you require any kit as we...
SUMMARY:SUNDAY Polo Training STRATFORD - Sunday Polosquad Training(18 places avail) - Cherwell Canoe Club CIO Charity No 1201741
LOCATION:Bridgeway\, Stratford-upon-Avon CV37 6YX
END:VEVENT
BEGIN:VEVENT
UID:event_product_457490@webcollect.org.uk
DTSTAMP:20260421T082835Z
ORGANIZER;CN=Liam Webb:MAILTO:liam_webb@talktalk.net
DTSTART;TZID=Europe/London:20260503T180000
DTEND;TZID=Europe/London:20260503T200000
DESCRIPTION:Sunday Summer 2026Woodgreen Leisure Centre\, BanburyOur sessions welcome players of all abilities\, with a mix of skill development and games. Equipment is available for beginners\, so everyone can get involved.Contact Liam for more information- 07561 402620
SUMMARY:Sunday Polo Training WOODGREEN - Sunday Polo squad Training (24 places avail) - Cherwell Canoe Club CIO Charity No 1201741
LOCATION:Woodgreen Leisure Centre
END:VEVENT
BEGIN:VEVENT
UID:event_product_457491@webcollect.org.uk
DTSTAMP:20260421T082835Z
ORGANIZER;CN=Liam Webb:MAILTO:liam_webb@talktalk.net
DTSTART;TZID=Europe/London:20260517T180000
DTEND;TZID=Europe/London:20260517T200000
DESCRIPTION:Sunday Summer 2026Woodgreen Leisure Centre\, BanburyOur sessions welcome players of all abilities\, with a mix of skill development and games. Equipment is available for beginners\, so everyone can get involved.Contact Liam for more information- 07561 402620
SUMMARY:Sunday Polo Training WOODGREEN - Sunday Polo squad Training (24 places avail) - Cherwell Canoe Club CIO Charity No 1201741
LOCATION:Woodgreen Leisure Centre
END:VEVENT
BEGIN:VEVENT
UID:event_product_457492@webcollect.org.uk
DTSTAMP:20260421T082835Z
ORGANIZER;CN=Liam Webb:MAILTO:liam_webb@talktalk.net
DTSTART;TZID=Europe/London:20260524T180000
DTEND;TZID=Europe/London:20260524T200000
DESCRIPTION:Sunday Summer 2026Woodgreen Leisure Centre\, BanburyOur sessions welcome players of all abilities\, with a mix of skill development and games. Equipment is available for beginners\, so everyone can get involved.Contact Liam for more information- 07561 402620
SUMMARY:Sunday Polo Training WOODGREEN - Sunday Polo squad Training (24 places avail) - Cherwell Canoe Club CIO Charity No 1201741
LOCATION:Woodgreen Leisure Centre
END:VEVENT
BEGIN:VEVENT
UID:event_product_457493@webcollect.org.uk
DTSTAMP:20260421T082835Z
ORGANIZER;CN=Liam Webb:MAILTO:liam_webb@talktalk.net
DTSTART;TZID=Europe/London:20260524T180000
DTEND;TZID=Europe/London:20260524T200000
DESCRIPTION:Sunday Summer 2026Woodgreen Leisure Centre\, BanburyOur sessions welcome players of all abilities\, with a mix of skill development and games. Equipment is available for beginners\, so everyone can get involved.Contact Liam for more information- 07561 402620
SUMMARY:Sunday Polo Training WOODGREEN - Sunday Polo squad Training (24 places avail) - Cherwell Canoe Club CIO Charity No 1201741
LOCATION:Woodgreen Leisure Centre
END:VEVENT
BEGIN:VEVENT
UID:event_product_457494@webcollect.org.uk
DTSTAMP:20260421T082835Z
ORGANIZER;CN=Liam Webb:MAILTO:liam_webb@talktalk.net
DTSTART;TZID=Europe/London:20260531T180000
DTEND;TZID=Europe/London:20260531T200000
DESCRIPTION:Sunday Summer 2026Woodgreen Leisure Centre\, BanburyOur sessions welcome players of all abilities\, with a mix of skill development and games. Equipment is available for beginners\, so everyone can get involved.Contact Liam for more information- 07561 402620
SUMMARY:Sunday Polo Training WOODGREEN - Sunday Polo squad Training (24 places avail) - Cherwell Canoe Club CIO Charity No 1201741
LOCATION:Woodgreen Leisure Centre
END:VEVENT
BEGIN:VEVENT
UID:event_product_457495@webcollect.org.uk
DTSTAMP:20260421T082835Z
ORGANIZER;CN=Liam Webb:MAILTO:liam_webb@talktalk.net
DTSTART;TZID=Europe/London:20260607T180000
DTEND;TZID=Europe/London:20260607T200000
DESCRIPTION:Sunday Summer 2026Woodgreen Leisure Centre\, BanburyOur sessions welcome players of all abilities\, with a mix of skill development and games. Equipment is available for beginners\, so everyone can get involved.Contact Liam for more information- 07561 402620
SUMMARY:Sunday Polo Training WOODGREEN - Sunday Polo squad Training (24 places avail) - Cherwell Canoe Club CIO Charity No 1201741
LOCATION:Woodgreen Leisure Centre
END:VEVENT
BEGIN:VEVENT
UID:event_product_457496@webcollect.org.uk
DTSTAMP:20260421T082835Z
ORGANIZER;CN=Liam Webb:MAILTO:liam_webb@talktalk.net
DTSTART;TZID=Europe/London:20260614T180000
DTEND;TZID=Europe/London:20260614T200000
DESCRIPTION:Sunday Summer 2026Woodgreen Leisure Centre\, BanburyOur sessions welcome players of all abilities\, with a mix of skill development and games. Equipment is available for beginners\, so everyone can get involved.Contact Liam for more information- 07561 402620
SUMMARY:Sunday Polo Training WOODGREEN - Sunday Polo squad Training (24 places avail) - Cherwell Canoe Club CIO Charity No 1201741
LOCATION:Woodgreen Leisure Centre
END:VEVENT
BEGIN:VEVENT
UID:event_product_457497@webcollect.org.uk
DTSTAMP:20260421T082835Z
ORGANIZER;CN=Liam Webb:MAILTO:liam_webb@talktalk.net
DTSTART;TZID=Europe/London:20260621T180000
DTEND;TZID=Europe/London:20260621T200000
DESCRIPTION:Sunday Summer 2026Woodgreen Leisure Centre\, BanburyOur sessions welcome players of all abilities\, with a mix of skill development and games. Equipment is available for beginners\, so everyone can get involved.Contact Liam for more information- 07561 402620
SUMMARY:Sunday Polo Training WOODGREEN - Sunday Polo squad Training (24 places avail) - Cherwell Canoe Club CIO Charity No 1201741
LOCATION:Woodgreen Leisure Centre
END:VEVENT
BEGIN:VEVENT
UID:event_product_457498@webcollect.org.uk
DTSTAMP:20260421T082835Z
ORGANIZER;CN=Liam Webb:MAILTO:liam_webb@talktalk.net
DTSTART;TZID=Europe/London:20260712T180000
DTEND;TZID=Europe/London:20260712T200000
DESCRIPTION:Sunday Summer 2026Woodgreen Leisure Centre\, BanburyOur sessions welcome players of all abilities\, with a mix of skill development and games. Equipment is available for beginners\, so everyone can get involved.Contact Liam for more information- 07561 402620
SUMMARY:Sunday Polo Training WOODGREEN - Sunday Polo squad Training (24 places avail) - Cherwell Canoe Club CIO Charity No 1201741
LOCATION:Woodgreen Leisure Centre
END:VEVENT
BEGIN:VEVENT
UID:event_product_457499@webcollect.org.uk
DTSTAMP:20260421T082835Z
ORGANIZER;CN=Liam Webb:MAILTO:liam_webb@talktalk.net
DTSTART;TZID=Europe/London:20260719T180000
DTEND;TZID=Europe/London:20260719T200000
DESCRIPTION:Sunday Summer 2026Woodgreen Leisure Centre\, BanburyOur sessions welcome players of all abilities\, with a mix of skill development and games. Equipment is available for beginners\, so everyone can get involved.Contact Liam for more information- 07561 402620
SUMMARY:Sunday Polo Training WOODGREEN - Sunday Polo squad Training (24 places avail) - Cherwell Canoe Club CIO Charity No 1201741
LOCATION:Woodgreen Leisure Centre
END:VEVENT
BEGIN:VEVENT
UID:event_product_457500@webcollect.org.uk
DTSTAMP:20260421T082835Z
ORGANIZER;CN=Liam Webb:MAILTO:liam_webb@talktalk.net
DTSTART;TZID=Europe/London:20260726T180000
DTEND;TZID=Europe/London:20260726T200000
DESCRIPTION:Sunday Summer 2026Woodgreen Leisure Centre\, BanburyOur sessions welcome players of all abilities\, with a mix of skill development and games. Equipment is available for beginners\, so everyone can get involved.Contact Liam for more information- 07561 402620
SUMMARY:Sunday Polo Training WOODGREEN - Sunday Polo Squad Training (24 places avail) - Cherwell Canoe Club CIO Charity No 1201741
LOCATION:Woodgreen Leisure Centre
END:VEVENT
BEGIN:VEVENT
UID:event_product_457501@webcollect.org.uk
DTSTAMP:20260421T082835Z
ORGANIZER;CN=Liam Webb:MAILTO:liam_webb@talktalk.net
DTSTART;TZID=Europe/London:20260802T180000
DTEND;TZID=Europe/London:20260802T200000
DESCRIPTION:Sunday Summer 2026Woodgreen Leisure Centre\, BanburyOur sessions welcome players of all abilities\, with a mix of skill development and games. Equipment is available for beginners\, so everyone can get involved.Contact Liam for more information- 07561 402620
SUMMARY:Sunday Polo Training WOODGREEN - Sunday Polo Squad Training (24 places avail) - Cherwell Canoe Club CIO Charity No 1201741
LOCATION:Woodgreen Leisure Centre
END:VEVENT
BEGIN:VEVENT
UID:event_product_457502@webcollect.org.uk
DTSTAMP:20260421T082835Z
ORGANIZER;CN=Liam Webb:MAILTO:liam_webb@talktalk.net
DTSTART;TZID=Europe/London:20260809T180000
DTEND;TZID=Europe/London:20260809T200000
DESCRIPTION:Sunday Summer 2026Woodgreen Leisure Centre\, BanburyOur sessions welcome players of all abilities\, with a mix of skill development and games. Equipment is available for beginners\, so everyone can get involved.Contact Liam for more information- 07561 402620
SUMMARY:Sunday Polo Training WOODGREEN - Sunday Polo Squad Training (24 places avail) - Cherwell Canoe Club CIO Charity No 1201741
LOCATION:Woodgreen Leisure Centre
END:VEVENT
BEGIN:VEVENT
UID:event_product_457503@webcollect.org.uk
DTSTAMP:20260421T082835Z
ORGANIZER;CN=Liam Webb:MAILTO:liam_webb@talktalk.net
DTSTART;TZID=Europe/London:20260816T180000
DTEND;TZID=Europe/London:20260816T200000
DESCRIPTION:Sunday Summer 2026Woodgreen Leisure Centre\, BanburyOur sessions welcome players of all abilities\, with a mix of skill development and games. Equipment is available for beginners\, so everyone can get involved.Contact Liam for more information- 07561 402620
SUMMARY:Sunday Polo Training WOODGREEN - Sunday Polo Squad Training (24 places avail) - Cherwell Canoe Club CIO Charity No 1201741
LOCATION:Woodgreen Leisure Centre
END:VEVENT
BEGIN:VEVENT
UID:event_product_457504@webcollect.org.uk
DTSTAMP:20260421T082835Z
ORGANIZER;CN=Liam Webb:MAILTO:liam_webb@talktalk.net
DTSTART;TZID=Europe/London:20260823T180000
DTEND;TZID=Europe/London:20260823T200000
DESCRIPTION:Sunday Summer 2026Woodgreen Leisure Centre\, BanburyOur sessions welcome players of all abilities\, with a mix of skill development and games. Equipment is available for beginners\, so everyone can get involved.Contact Liam for more information- 07561 402620
SUMMARY:Sunday Polo Training WOODGREEN - Sunday Polo Squad Training (24 places avail) - Cherwell Canoe Club CIO Charity No 1201741
LOCATION:Woodgreen Leisure Centre
END:VEVENT
BEGIN:VEVENT
UID:event_product_457505@webcollect.org.uk
DTSTAMP:20260421T082835Z
ORGANIZER;CN=Liam Webb:MAILTO:liam_webb@talktalk.net
DTSTART;TZID=Europe/London:20260830T180000
DTEND;TZID=Europe/London:20260830T200000
DESCRIPTION:Sunday Summer 2026Woodgreen Leisure Centre\, BanburyOur sessions welcome players of all abilities\, with a mix of skill development and games. Equipment is available for beginners\, so everyone can get involved.Contact Liam for more information- 07561 402620
SUMMARY:Sunday Polo Training WOODGREEN - Sunday Polo Squad Training (24 places avail) - Cherwell Canoe Club CIO Charity No 1201741
LOCATION:Woodgreen Leisure Centre
END:VEVENT
BEGIN:VEVENT
UID:event_product_457506@webcollect.org.uk
DTSTAMP:20260421T082835Z
ORGANIZER;CN=Liam Webb:MAILTO:liam_webb@talktalk.net
DTSTART;TZID=Europe/London:20260906T180000
DTEND;TZID=Europe/London:20260906T200000
DESCRIPTION:Sunday Summer 2026Woodgreen Leisure Centre\, BanburyOur sessions welcome players of all abilities\, with a mix of skill development and games. Equipment is available for beginners\, so everyone can get involved.Contact Liam for more information- 07561 402620
SUMMARY:Sunday Polo Training WOODGREEN - Sunday Polo Squad Training (24 places avail) - Cherwell Canoe Club CIO Charity No 1201741
LOCATION:Woodgreen Leisure Centre
END:VEVENT
BEGIN:VEVENT
UID:event_product_457507@webcollect.org.uk
DTSTAMP:20260421T082835Z
ORGANIZER;CN=Liam Webb:MAILTO:liam_webb@talktalk.net
DTSTART;TZID=Europe/London:20260913T180000
DTEND;TZID=Europe/London:20260913T200000
DESCRIPTION:Sunday Summer 2026Woodgreen Leisure Centre\, BanburyOur sessions welcome players of all abilities\, with a mix of skill development and games. Equipment is available for beginners\, so everyone can get involved.Contact Liam for more information- 07561 402620
SUMMARY:Sunday Polo Training WOODGREEN - Sunday Polo Squad Training (24 places avail) - Cherwell Canoe Club CIO Charity No 1201741
LOCATION:Woodgreen Leisure Centre
END:VEVENT
BEGIN:VEVENT
UID:event_product_457508@webcollect.org.uk
DTSTAMP:20260421T082835Z
ORGANIZER;CN=Liam Webb:MAILTO:liam_webb@talktalk.net
DTSTART;TZID=Europe/London:20260920T180000
DTEND;TZID=Europe/London:20260920T200000
DESCRIPTION:Sunday Summer 2026Woodgreen Leisure Centre\, BanburyOur sessions welcome players of all abilities\, with a mix of skill development and games. Equipment is available for beginners\, so everyone can get involved.Contact Liam for more information- 07561 402620
SUMMARY:Sunday Polo Training WOODGREEN - Sunday Polo Squad Training (24 places avail) - Cherwell Canoe Club CIO Charity No 1201741
LOCATION:Woodgreen Leisure Centre
END:VEVENT
BEGIN:VEVENT
UID:event_product_457509@webcollect.org.uk
DTSTAMP:20260421T082835Z
ORGANIZER;CN=Liam Webb:MAILTO:liam_webb@talktalk.net
DTSTART;TZID=Europe/London:20260927T180000
DTEND;TZID=Europe/London:20260927T200000
DESCRIPTION:Sunday Summer 2026Woodgreen Leisure Centre\, BanburyOur sessions welcome players of all abilities\, with a mix of skill development and games. Equipment is available for beginners\, so everyone can get involved.Contact Liam for more information- 07561 402620
SUMMARY:Sunday Polo Training WOODGREEN - Sunday Polo Squad Training (24 places avail) - Cherwell Canoe Club CIO Charity No 1201741
LOCATION:Woodgreen Leisure Centre
END:VEVENT
BEGIN:VEVENT
UID:event_product_457510@webcollect.org.uk
DTSTAMP:20260421T082835Z
ORGANIZER;CN=Liam Webb:MAILTO:liam_webb@talktalk.net
DTSTART;TZID=Europe/London:20261004T180000
DTEND;TZID=Europe/London:20261004T200000
DESCRIPTION:Sunday Summer 2026Woodgreen Leisure Centre\, BanburyOur sessions welcome players of all abilities\, with a mix of skill development and games. Equipment is available for beginners\, so everyone can get involved.Contact Liam for more information- 07561 402620
SUMMARY:Sunday Polo Training WOODGREEN - Sunday Polo Squad Training (24 places avail) - Cherwell Canoe Club CIO Charity No 1201741
LOCATION:Woodgreen Leisure Centre
END:VEVENT
BEGIN:VEVENT
UID:event_product_457512@webcollect.org.uk
DTSTAMP:20260421T082835Z
ORGANIZER;CN=Liam Webb:MAILTO:liam_webb@talktalk.net
DTSTART;TZID=Europe/London:20261011T180000
DTEND;TZID=Europe/London:20261011T200000
DESCRIPTION:Sunday Summer 2026Woodgreen Leisure Centre\, BanburyOur sessions welcome players of all abilities\, with a mix of skill development and games. Equipment is available for beginners\, so everyone can get involved.Contact Liam for more information- 07561 402620
SUMMARY:Sunday Polo Training WOODGREEN - Sunday Polo Squad Training (24 places avail) - Cherwell Canoe Club CIO Charity No 1201741
LOCATION:Woodgreen Leisure Centre
END:VEVENT
BEGIN:VEVENT
UID:event_product_457513@webcollect.org.uk
DTSTAMP:20260421T082835Z
ORGANIZER;CN=Liam Webb:MAILTO:liam_webb@talktalk.net
DTSTART;TZID=Europe/London:20261018T180000
DTEND;TZID=Europe/London:20261018T200000
DESCRIPTION:Sunday Summer 2026Woodgreen Leisure Centre\, BanburyOur sessions welcome players of all abilities\, with a mix of skill development and games. Equipment is available for beginners\, so everyone can get involved.Contact Liam for more information- 07561 402620
SUMMARY:Sunday Polo Training WOODGREEN - Sunday Polo Squad Training (24 places avail) - Cherwell Canoe Club CIO Charity No 1201741
LOCATION:Woodgreen Leisure Centre
END:VEVENT
BEGIN:VEVENT
UID:event_product_457514@webcollect.org.uk
DTSTAMP:20260421T082835Z
ORGANIZER;CN=Liam Webb:MAILTO:liam_webb@talktalk.net
DTSTART;TZID=Europe/London:20261025T180000
DTEND;TZID=Europe/London:20261025T200000
DESCRIPTION:Sunday Summer 2026Woodgreen Leisure Centre\, BanburyOur sessions welcome players of all abilities\, with a mix of skill development and games. Equipment is available for beginners\, so everyone can get involved.Contact Liam for more information- 07561 402620
SUMMARY:Sunday Polo Training WOODGREEN - Sunday Polo Squad Training (24 places avail) - Cherwell Canoe Club CIO Charity No 1201741
LOCATION:Woodgreen Leisure Centre
END:VEVENT
END:VCALENDAR
