BEGIN:VCALENDAR
METHOD:PUBLISH
PRODID:-//webcollect/cransleysc//NONSGML v1.0//EN
BEGIN:VTIMEZONE
TZID:Europe/London
BEGIN:DAYLIGHT
TZOFFSETFROM:+0000
RRULE:FREQ=YEARLY;BYMONTH=3;BYDAY=-1SU
DTSTART:19810329T010000
TZNAME:BST
TZOFFSETTO:+0100
END:DAYLIGHT
BEGIN:STANDARD
TZOFFSETFROM:+0100
RRULE:FREQ=YEARLY;BYMONTH=10;BYDAY=-1SU
DTSTART:19961027T020000
TZNAME:GMT
TZOFFSETTO:+0000
END:STANDARD
END:VTIMEZONE
BEGIN:VEVENT
UID:event_product_452608@webcollect.org.uk
DTSTAMP:20260420T021600Z
ORGANIZER;CN=Susan Bull:MAILTO:principal.cransleysailingclub@gmail.com
DTSTART;VALUE=DATE:20260810
DESCRIPTION:RYA Youths Learn to Sail Course Level 1 & 2 for children aged between 8 to 15 years old.Dates: Monday 10th\, Tuesday 11th\, Wednesday 12th\, Thursday 13th August 2026You will be required to attend all dates to gain your qualificationThis 4 day course starts at 9am prompt and finishes at 5pm. Please come to the club dressed ready to go out on the water.Please bring with you your drinks bottle to...
SUMMARY:4day Learn to sail course 10\,11\,12\,13\,14 Aug Youths Learn to Sail Course(6 places avail) - Cransley Sailing Club
LOCATION:Cransley Sailing Club
END:VEVENT
END:VCALENDAR
