BEGIN:VCALENDAR
METHOD:PUBLISH
PRODID:-//webcollect/cransleysc//NONSGML v1.0//EN
BEGIN:VTIMEZONE
TZID:Europe/London
BEGIN:DAYLIGHT
TZOFFSETFROM:+0000
RRULE:FREQ=YEARLY;BYMONTH=3;BYDAY=-1SU
DTSTART:19810329T010000
TZNAME:BST
TZOFFSETTO:+0100
END:DAYLIGHT
BEGIN:STANDARD
TZOFFSETFROM:+0100
RRULE:FREQ=YEARLY;BYMONTH=10;BYDAY=-1SU
DTSTART:19961027T020000
TZNAME:GMT
TZOFFSETTO:+0000
END:STANDARD
END:VTIMEZONE
BEGIN:VEVENT
UID:event_product_460979@webcollect.org.uk
DTSTAMP:20260420T021138Z
ORGANIZER;CN=Susan Bull:MAILTO:principal.cransleysailingclub@gmail.com
DTSTART;VALUE=DATE:20260801
DESCRIPTION:This event will be held at Cransley Sailing Club\, Eagle Lane\, Cransley NN14 1PR on Saturday 1st August 2026 Four races\, three to count two before lunch and two after lunchBriefing approximately 09:15amRigged and ready to launch for 09:30amEntry fee is £15 for double handers and £10 for single handers\, payable online at time of booking by bank transfer Online entry is required in advance. Please...
SUMMARY:Northants Youth Event Event Booking Northants Youth Series(23 places avail) - Cransley Sailing Club
LOCATION:Cransley Sailing Club
END:VEVENT
END:VCALENDAR
