BEGIN:VCALENDAR
METHOD:PUBLISH
PRODID:-//webcollect/dart18//NONSGML v1.0//EN
BEGIN:VTIMEZONE
TZID:Europe/London
BEGIN:DAYLIGHT
TZOFFSETFROM:+0000
RRULE:FREQ=YEARLY;BYMONTH=3;BYDAY=-1SU
DTSTART:19810329T010000
TZNAME:BST
TZOFFSETTO:+0100
END:DAYLIGHT
BEGIN:STANDARD
TZOFFSETFROM:+0100
RRULE:FREQ=YEARLY;BYMONTH=10;BYDAY=-1SU
DTSTART:19961027T020000
TZNAME:GMT
TZOFFSETTO:+0000
END:STANDARD
END:VTIMEZONE
BEGIN:VEVENT
UID:event_product_462811@webcollect.org.uk
DTSTAMP:20260421T082835Z
ORGANIZER;CN=Joe Franks:MAILTO:joe5329@hotmail.co.uk
DTSTART;VALUE=DATE:20260620
DESCRIPTION:RUNSWICK BAY BEACH AND SAILING CLUBDART 18 – UKIDA TT520th & 21st June 2026# Registration: from 1000am on Saturday 20th June 2026# Competitor Briefing: will be at 1055am on Saturday 20th June 2026.# Six Races are scheduled to be sailed. Three Races on Saturday and Three on Sunday.# The scheduled time of the warning signal for the first race will be 1155 on Saturday 20th June and 1055 on Sunday...
SUMMARY:Early Entry TT5 - Runswick Bay - UKIDA
LOCATION:Runswick Bay Beach and Sailing Club
END:VEVENT
BEGIN:VEVENT
UID:event_product_462812@webcollect.org.uk
DTSTAMP:20260421T082835Z
ORGANIZER;CN=Joe Franks:MAILTO:joe5329@hotmail.co.uk
DTSTART;VALUE=DATE:20260620
DESCRIPTION:RUNSWICK BAY BEACH AND SAILING CLUBDART 18 – UKIDA TT520th & 21st June 2026# Registration: from 1000am on Saturday 20th June 2026# Competitor Briefing: will be at 1055am on Saturday 20th June 2026.# Six Races are scheduled to be sailed. Three Races on Saturday and Three on Sunday.# The scheduled time of the warning signal for the first race will be 1155 on Saturday 20th June and 1055 on Sunday...
SUMMARY:Standard Entry TT5 - Runswick Bay(full) - UKIDA
LOCATION:Runswick Bay Beach and Sailing Club
END:VEVENT
END:VCALENDAR
