BEGIN:VCALENDAR
METHOD:PUBLISH
PRODID:-//webcollect/dovestonesc//NONSGML v1.0//EN
BEGIN:VTIMEZONE
TZID:Europe/London
BEGIN:DAYLIGHT
TZOFFSETFROM:+0000
RRULE:FREQ=YEARLY;BYMONTH=3;BYDAY=-1SU
DTSTART:19810329T010000
TZNAME:BST
TZOFFSETTO:+0100
END:DAYLIGHT
BEGIN:STANDARD
TZOFFSETFROM:+0100
RRULE:FREQ=YEARLY;BYMONTH=10;BYDAY=-1SU
DTSTART:19961027T020000
TZNAME:GMT
TZOFFSETTO:+0000
END:STANDARD
END:VTIMEZONE
BEGIN:VEVENT
UID:event_product_460916@webcollect.org.uk
DTSTAMP:20260424T131634Z
ORGANIZER;CN=Mick Scholes:MAILTO:m.scholes21@outlook.com
DTSTART;VALUE=DATE:20260509
DESCRIPTION:To coincide with our Flying 15 Open we are holding a social event on the Saturday evening.The meal menu will include a choice of vegetarian or non-vegetarian main course. Pie plus a dessert Please advise of any other allergies/dietary requirements in the booking form if neededThis social event is included in the entrance fee for helm and crew of boats taking part our FF OpenOther guests can...
SUMMARY:Flying 15 Social Evening Saturday 9th of May 26 - Dovestone Sailing Club
LOCATION:Clubhouse
END:VEVENT
BEGIN:VEVENT
UID:event_product_460914@webcollect.org.uk
DTSTAMP:20260424T131634Z
ORGANIZER;CN=Mick Scholes:MAILTO:m.scholes21@outlook.com
DTSTART;VALUE=DATE:20260509
DESCRIPTION:Welcome to the Flying Fifteen Open 2026. it is a 5 race event set over 2 days 9th and 10th May 2026 Notice of Race attached.Schedule of RacesBriefing 12 Noon Saturday.Sat 9th of May.The intention is to sail 3 Races – 1st start 1300hrs.Sun 10th of May. The intention is to sail 2 Races – 1st start 10.30Subsequent start times will be given by the race officer.A maximum of 5 races will be sailed.No...
SUMMARY:Flying Fifteen Open 9th-10th May 26 - Dovestone Sailing Club
LOCATION:Dovestone Sailing Club
END:VEVENT
BEGIN:VEVENT
UID:event_product_455255@webcollect.org.uk
DTSTAMP:20260424T131634Z
ORGANIZER;CN=Alice Morris:MAILTO:discoversailing@dovestonesc.org.uk
DTSTART;TZID=Europe/London:20260516T103000
DTEND;TZID=Europe/London:20260516T110000
DESCRIPTION:Discover Sailing 2026 is your chance to get out on the water for 30 minutes with an experienced sailor and see if the sport appeals to you\, and join us for some refreshments after\, included in your fee. If you've walked around the reservoir and thought it would be fun to get out on the water\, now's your opportunity. Full details for the day will be sent to you before the 16th of May\, once you...
SUMMARY:10.30 to 11.00 Slot Discover Sailing 2026: on the 16th May(2 places avail) - Dovestone Sailing Club
LOCATION:Dovestone Sailing Club
END:VEVENT
BEGIN:VEVENT
UID:event_product_455256@webcollect.org.uk
DTSTAMP:20260424T131634Z
ORGANIZER;CN=Alice Morris:MAILTO:discoversailing@dovestonesc.org.uk
DTSTART;TZID=Europe/London:20260516T110000
DTEND;TZID=Europe/London:20260516T113000
DESCRIPTION:Discover Sailing 2026 is your chance to get out on the water for 30 minutes with an experienced sailor and see if the sport appeals to you\, and join us for some refreshments after\, included in your fee. If you've walked around the reservoir and thought it would be fun to get out on the water\, now's your opportunity. Full details for the day will be sent to you before the 16th of May\, once you...
SUMMARY:11.00 to 11.30 Slot Discover Sailing 2026: on the 16th May(8 places avail) - Dovestone Sailing Club
LOCATION:Dovestone Sailing Club
END:VEVENT
BEGIN:VEVENT
UID:event_product_455257@webcollect.org.uk
DTSTAMP:20260424T131634Z
ORGANIZER;CN=Alice Morris:MAILTO:discoversailing@dovestonesc.org.uk
DTSTART;TZID=Europe/London:20260516T113000
DTEND;TZID=Europe/London:20260516T120000
DESCRIPTION:Discover Sailing 2026 is your chance to get out on the water for 30 minutes with an experienced sailor and see if the sport appeals to you\, and join us for some refreshments after\, included in your fee. If you've walked around the reservoir and thought it would be fun to get out on the water\, now's your opportunity. Full details for the day will be sent to you before the 16th of May\, once you...
SUMMARY:11.30 to 12.00 Slot Discover Sailing 2026: on the 16th May(8 places avail) - Dovestone Sailing Club
LOCATION:Dovestone Sailing Club
END:VEVENT
BEGIN:VEVENT
UID:event_product_455258@webcollect.org.uk
DTSTAMP:20260424T131634Z
ORGANIZER;CN=Alice Morris:MAILTO:discoversailing@dovestonesc.org.uk
DTSTART;TZID=Europe/London:20260516T120000
DTEND;TZID=Europe/London:20260516T123000
DESCRIPTION:Discover Sailing 2026 is your chance to get out on the water for 30 minutes with an experienced sailor and see if the sport appeals to you\, and join us for some refreshments after\, included in your fee. If you've walked around the reservoir and thought it would be fun to get out on the water\, now's your opportunity. Full details for the day will be sent to you before the 16th of May\, once you...
SUMMARY:12.00 to 12.30 slot Discover Sailing 2026: on the 16th May(8 places avail) - Dovestone Sailing Club
LOCATION:Dovestone Sailing Club
END:VEVENT
BEGIN:VEVENT
UID:event_product_455259@webcollect.org.uk
DTSTAMP:20260424T131634Z
ORGANIZER;CN=Alice Morris:MAILTO:discoversailing@dovestonesc.org.uk
DTSTART;TZID=Europe/London:20260516T123000
DTEND;TZID=Europe/London:20260516T130000
DESCRIPTION:Discover Sailing 2026 is your chance to get out on the water for 30 minutes with an experienced sailor and see if the sport appeals to you\, and join us for some refreshments after\, included in your fee. If you've walked around the reservoir and thought it would be fun to get out on the water\, now's your opportunity. Full details for the day will be sent to you before the 16th of May\, once you...
SUMMARY:12:30 to 13.00 Slot Discover Sailing 2026: on the 16th May(2 places avail) - Dovestone Sailing Club
LOCATION:Dovestone Sailing Club
END:VEVENT
BEGIN:VEVENT
UID:event_product_455260@webcollect.org.uk
DTSTAMP:20260424T131634Z
ORGANIZER;CN=Alice Morris:MAILTO:discoversailing@dovestonesc.org.uk
DTSTART;TZID=Europe/London:20260516T130000
DTEND;TZID=Europe/London:20260516T140000
DESCRIPTION:Discover Sailing 2026 is your chance to get out on the water for 30 minutes with an experienced sailor and see if the sport appeals to you\, and join us for some refreshments after\, included in your fee. If you've walked around the reservoir and thought it would be fun to get out on the water\, now's your opportunity. Full details for the day will be sent to you before the 16th of May\, once you...
SUMMARY:Lunch Break 1hr Discover Sailing 2026: on the 16th May(full) - Dovestone Sailing Club
LOCATION:Dovestone Sailing Club
END:VEVENT
BEGIN:VEVENT
UID:event_product_455261@webcollect.org.uk
DTSTAMP:20260424T131634Z
ORGANIZER;CN=Alice Morris:MAILTO:discoversailing@dovestonesc.org.uk
DTSTART;TZID=Europe/London:20260516T140000
DTEND;TZID=Europe/London:20260516T143000
DESCRIPTION:Discover Sailing 2026 is your chance to get out on the water for 30 minutes with an experienced sailor and see if the sport appeals to you\, and join us for some refreshments after\, included in your fee. If you've walked around the reservoir and thought it would be fun to get out on the water\, now's your opportunity. Full details for the day will be sent to you before the 16th of May\, once you...
SUMMARY:14.00 to 14.30 Slot Discover Sailing 2026: on the 16th May(8 places avail) - Dovestone Sailing Club
LOCATION:Dovestone Sailing Club
END:VEVENT
BEGIN:VEVENT
UID:event_product_455262@webcollect.org.uk
DTSTAMP:20260424T131634Z
ORGANIZER;CN=Alice Morris:MAILTO:discoversailing@dovestonesc.org.uk
DTSTART;TZID=Europe/London:20260516T143000
DTEND;TZID=Europe/London:20260516T150000
DESCRIPTION:Discover Sailing 2026 is your chance to get out on the water for 30 minutes with an experienced sailor and see if the sport appeals to you\, and join us for some refreshments after\, included in your fee. If you've walked around the reservoir and thought it would be fun to get out on the water\, now's your opportunity. Full details for the day will be sent to you before the 16th of May\, once you...
SUMMARY:14.30 to 15.00 Slot Discover Sailing 2026: on the 16th May(8 places avail) - Dovestone Sailing Club
LOCATION:Dovestone Sailing Club
END:VEVENT
BEGIN:VEVENT
UID:event_product_455263@webcollect.org.uk
DTSTAMP:20260424T131634Z
ORGANIZER;CN=Alice Morris:MAILTO:discoversailing@dovestonesc.org.uk
DTSTART;TZID=Europe/London:20260516T150000
DTEND;TZID=Europe/London:20260516T153000
DESCRIPTION:Discover Sailing 2026 is your chance to get out on the water for 30 minutes with an experienced sailor and see if the sport appeals to you\, and join us for some refreshments after\, included in your fee. If you've walked around the reservoir and thought it would be fun to get out on the water\, now's your opportunity. Full details for the day will be sent to you before the 16th of May\, once you...
SUMMARY:15.00 to 15.30 Slot Discover Sailing 2026: on the 16th May(8 places avail) - Dovestone Sailing Club
LOCATION:Dovestone Sailing Club
END:VEVENT
BEGIN:VEVENT
UID:event_product_455264@webcollect.org.uk
DTSTAMP:20260424T131634Z
ORGANIZER;CN=Alice Morris:MAILTO:discoversailing@dovestonesc.org.uk
DTSTART;TZID=Europe/London:20260516T153000
DTEND;TZID=Europe/London:20260516T160000
DESCRIPTION:Discover Sailing 2026 is your chance to get out on the water for 30 minutes with an experienced sailor and see if the sport appeals to you\, and join us for some refreshments after\, included in your fee. If you've walked around the reservoir and thought it would be fun to get out on the water\, now's your opportunity. Full details for the day will be sent to you before the 16th of May\, once you...
SUMMARY:15.30 to 16.00 Slot Discover Sailing 2026: on the 16th May(4 places avail) - Dovestone Sailing Club
LOCATION:Dovestone Sailing Club
END:VEVENT
END:VCALENDAR
