BEGIN:VCALENDAR
METHOD:PUBLISH
PRODID:-//webcollect/ecc//NONSGML v1.0//EN
BEGIN:VTIMEZONE
TZID:Europe/London
BEGIN:DAYLIGHT
TZOFFSETFROM:+0000
RRULE:FREQ=YEARLY;BYMONTH=3;BYDAY=-1SU
DTSTART:19810329T010000
TZNAME:BST
TZOFFSETTO:+0100
END:DAYLIGHT
BEGIN:STANDARD
TZOFFSETFROM:+0100
RRULE:FREQ=YEARLY;BYMONTH=10;BYDAY=-1SU
DTSTART:19961027T020000
TZNAME:GMT
TZOFFSETTO:+0000
END:STANDARD
END:VTIMEZONE
BEGIN:VEVENT
UID:event_product_452644@webcollect.org.uk
DTSTAMP:20260422T112806Z
ORGANIZER;CN=Shaftab Khalid:MAILTO:shaftabkhalid@live.com
DTSTART;TZID=Europe/London:20260526T083000
DTEND;TZID=Europe/London:20260526T170000
DESCRIPTION:The Extended Stay option is from from 8.30 am until 5 pm for an addition charge of £10 per child per day. The holiday courses run from 10 am to 4.00 pm.The Extended Stay option can only be booked if the holiday course has been booked as well.Most courses run Monday to Thursday but following a Bank Holiday\, they run Tuesday to Friday.
SUMMARY:Tuesday Ext - Extended Stay 2026 Easter & May Half Term(60 places avail) - Ealing Cricket Club
LOCATION:Ealing Cricket Club\, Corfton Road\, Ealing\, W5 2RN
END:VEVENT
BEGIN:VEVENT
UID:event_product_452645@webcollect.org.uk
DTSTAMP:20260422T112806Z
ORGANIZER;CN=Shaftab Khalid:MAILTO:shaftabkhalid@live.com
DTSTART;TZID=Europe/London:20260527T083000
DTEND;TZID=Europe/London:20260527T170000
DESCRIPTION:The Extended Stay option is from from 8.30 am until 5 pm for an addition charge of £10 per child per day. The holiday courses run from 10 am to 4.00 pm.The Extended Stay option can only be booked if the holiday course has been booked as well.Most courses run Monday to Thursday but following a Bank Holiday\, they run Tuesday to Friday.
SUMMARY:Wednesday Ext - Extended Stay 2026 Easter & May Half Term(60 places avail) - Ealing Cricket Club
LOCATION:Ealing Cricket Club\, Corfton Road\, Ealing\, W5 2RN
END:VEVENT
BEGIN:VEVENT
UID:event_product_452646@webcollect.org.uk
DTSTAMP:20260422T112806Z
ORGANIZER;CN=Shaftab Khalid:MAILTO:shaftabkhalid@live.com
DTSTART;TZID=Europe/London:20260528T083000
DTEND;TZID=Europe/London:20260528T170000
DESCRIPTION:The Extended Stay option is from from 8.30 am until 5 pm for an addition charge of £10 per child per day. The holiday courses run from 10 am to 4.00 pm.The Extended Stay option can only be booked if the holiday course has been booked as well.Most courses run Monday to Thursday but following a Bank Holiday\, they run Tuesday to Friday.
SUMMARY:Thursday Ext - Extended Stay 2026 Easter & May Half Term(60 places avail) - Ealing Cricket Club
LOCATION:Ealing Cricket Club\, Corfton Road\, Ealing\, W5 2RN
END:VEVENT
BEGIN:VEVENT
UID:event_product_452647@webcollect.org.uk
DTSTAMP:20260422T112806Z
ORGANIZER;CN=Shaftab Khalid:MAILTO:shaftabkhalid@live.com
DTSTART;TZID=Europe/London:20260529T083000
DTEND;TZID=Europe/London:20260529T170000
DESCRIPTION:The Extended Stay option is from from 8.30 am until 5 pm for an addition charge of £10 per child per day. The holiday courses run from 10 am to 4.00 pm.The Extended Stay option can only be booked if the holiday course has been booked as well.Most courses run Monday to Thursday but following a Bank Holiday\, they run Tuesday to Friday.
SUMMARY:Friday Ext - Extended Stay 2026 Easter & May Half Term(60 places avail) - Ealing Cricket Club
LOCATION:Ealing Cricket Club\, Corfton Road\, Ealing\, W5 2RN
END:VEVENT
END:VCALENDAR
