BEGIN:VCALENDAR
METHOD:PUBLISH
PRODID:-//webcollect/edinburghgeolsoc//NONSGML v1.0//EN
BEGIN:VTIMEZONE
TZID:Europe/London
BEGIN:DAYLIGHT
TZOFFSETFROM:+0000
RRULE:FREQ=YEARLY;BYMONTH=3;BYDAY=-1SU
DTSTART:19810329T010000
TZNAME:BST
TZOFFSETTO:+0100
END:DAYLIGHT
BEGIN:STANDARD
TZOFFSETFROM:+0100
RRULE:FREQ=YEARLY;BYMONTH=10;BYDAY=-1SU
DTSTART:19961027T020000
TZNAME:GMT
TZOFFSETTO:+0000
END:STANDARD
END:VTIMEZONE
BEGIN:VEVENT
UID:event_product_456773@webcollect.org.uk
DTSTAMP:20260423T113747Z
ORGANIZER;CN=Excursion Secretary:MAILTO:excursions@edinburghgeolsoc.org
DTSTART;TZID=Europe/London:20260425T090000
DTEND;TZID=Europe/London:20260425T160000
DESCRIPTION:Leaders: Alison Tymon & Emma BeddaIn 1787 James Hutton and John Clerk of Eldin visited Jedburgh and enjoyed a saunter upstream along the Jed Water riverbank. Here John Clark sketched the famous James Hutton’s unconformity at Jedburgh. Follow in their footsteps and find out more about their journey. View John Clerk of Eldin’s stunning illustration depicting the valuable site and get involved in...
SUMMARY:James Hutton’s Jedburgh Unconformity & the Great Tapestry of Scotland at Galashiels James Hutton’s Jedburgh Unconformity & the Great Tapestry of Scotland at Galashiels(7 places avail) - Edinburgh Geological Society
END:VEVENT
BEGIN:VEVENT
UID:event_product_456774@webcollect.org.uk
DTSTAMP:20260423T113747Z
ORGANIZER;CN=Excursion Secretary:MAILTO:excursions@edinburghgeolsoc.org
DTSTART;TZID=Europe/London:20260425T090000
DTEND;TZID=Europe/London:20260425T160000
DESCRIPTION:Leaders: Alison Tymon & Emma BeddaIn 1787 James Hutton and John Clerk of Eldin visited Jedburgh and enjoyed a saunter upstream along the Jed Water riverbank. Here John Clark sketched the famous James Hutton’s unconformity at Jedburgh. Follow in their footsteps and find out more about their journey. View John Clerk of Eldin’s stunning illustration depicting the valuable site and get involved in...
SUMMARY:WAITING LIST: James Hutton’s Jedburgh Unconformity & the Great Tapestry of Scotland at Galashiels James Hutton’s Jedburgh Unconformity & the Great Tapestry of Scotland at Galashiels - Edinburgh Geological Society
END:VEVENT
BEGIN:VEVENT
UID:event_product_456794@webcollect.org.uk
DTSTAMP:20260423T113747Z
ORGANIZER;CN=Excursion Secretary:MAILTO:excursions@edinburghgeolsoc.org
DTSTART;TZID=Europe/London:20260429T190000
DTEND;TZID=Europe/London:20260429T210000
DESCRIPTION:Leader: Alistair McGowanCalton Hill is part of the wider landscape that has been left by the deposition and erosion of a suite of volcanic and volcaniclastic rocks deposited by igneous activity during the Early Carboniferous.To better understand the igneous activity\, the excursion will trace the geological units from the lowest tufts and lavas that form the cliffs of Calton Craigs up through...
SUMMARY:Calton Hill Calton Hill(full) - Edinburgh Geological Society
END:VEVENT
BEGIN:VEVENT
UID:event_product_456795@webcollect.org.uk
DTSTAMP:20260423T113747Z
ORGANIZER;CN=Excursion Secretary:MAILTO:excursions@edinburghgeolsoc.org
DTSTART;TZID=Europe/London:20260429T190000
DTEND;TZID=Europe/London:20260429T210000
DESCRIPTION:Leader: Alistair McGowanCalton Hill is part of the wider landscape that has been left by the deposition and erosion of a suite of volcanic and volcaniclastic rocks deposited by igneous activity during the Early Carboniferous.To better understand the igneous activity\, the excursion will trace the geological units from the lowest tufts and lavas that form the cliffs of Calton Craigs up through...
SUMMARY:WAITING LIST: Calton Hill Calton Hill - Edinburgh Geological Society
END:VEVENT
BEGIN:VEVENT
UID:event_product_456796@webcollect.org.uk
DTSTAMP:20260423T113747Z
ORGANIZER;CN=Excursion Secretary:MAILTO:excursions@edinburghgeolsoc.org
DTSTART;TZID=Europe/London:20260506T190000
DTEND;TZID=Europe/London:20260506T210000
DESCRIPTION:Leader: Andrew McMillianThis excursion celebrates the publication of a new Lothian & Borders Geoconservation booklet on the Building Stones of the West End of Edinburgh. The walk will include the late 18th Century to early 19th Century Charlotte Square which has been described as ‘one of the major achievements in European civic architecture of the period’.
SUMMARY:West End of New Town West End of New Town(1 places avail) - Edinburgh Geological Society
END:VEVENT
BEGIN:VEVENT
UID:event_product_456797@webcollect.org.uk
DTSTAMP:20260423T113747Z
ORGANIZER;CN=Excursion Secretary:MAILTO:excursions@edinburghgeolsoc.org
DTSTART;TZID=Europe/London:20260506T190000
DTEND;TZID=Europe/London:20260506T210000
DESCRIPTION:Leader: Andrew McMillianThis excursion celebrates the publication of a new Lothian & Borders Geoconservation booklet on the Building Stones of the West End of Edinburgh. The walk will include the late 18th Century to early 19th Century Charlotte Square which has been described as ‘one of the major achievements in European civic architecture of the period’.
SUMMARY:WWAITING LIST: West End of New Town West End of New Town - Edinburgh Geological Society
END:VEVENT
BEGIN:VEVENT
UID:event_product_456775@webcollect.org.uk
DTSTAMP:20260423T113747Z
ORGANIZER;CN=Excursion Secretary:MAILTO:excursions@edinburghgeolsoc.org
DTSTART;TZID=Europe/London:20260509T103000
DTEND;TZID=Europe/London:20260509T160000
DESCRIPTION:Leader: Richard SmithAn excursion to set the spectacular three bridges within their surrounding geological context. This excursion will examine exposed Carboniferous sedimentary cycles of the West Lothian Oil-Shale and Gullane formations deposited in a shallow marine environment over 350 million years ago. Igneous magmas intruded the cool sedimentary units\; this trip explores the relationships...
SUMMARY:South Queensferry to Cramond South Queensferry to Cramond(full) - Edinburgh Geological Society
END:VEVENT
BEGIN:VEVENT
UID:event_product_456776@webcollect.org.uk
DTSTAMP:20260423T113747Z
ORGANIZER;CN=Excursion Secretary:MAILTO:excursions@edinburghgeolsoc.org
DTSTART;TZID=Europe/London:20260509T103000
DTEND;TZID=Europe/London:20260509T160000
DESCRIPTION:Leader: Richard SmithAn excursion to set the spectacular three bridges within their surrounding geological context. This excursion will examine exposed Carboniferous sedimentary cycles of the West Lothian Oil-Shale and Gullane formations deposited in a shallow marine environment over 350 million years ago. Igneous magmas intruded the cool sedimentary units\; this trip explores the relationships...
SUMMARY:WAITING LIST: South Queensferry to Cramond South Queensferry to Cramond - Edinburgh Geological Society
END:VEVENT
BEGIN:VEVENT
UID:event_product_456798@webcollect.org.uk
DTSTAMP:20260423T113747Z
ORGANIZER;CN=Excursion Secretary:MAILTO:excursions@edinburghgeolsoc.org
DTSTART;TZID=Europe/London:20260520T190000
DTEND;TZID=Europe/London:20260520T210000
DESCRIPTION:Leader: Beverly Bergman2026 is a special year for our local Scottish geological legend James Hutton! EGS is celebrating his tercentenary with a special Hutton’s Edinburgh excursion. Join our local James Hutton boffin with a trail to key sites across the city associated with Hutton’ life. With the aid of old maps and pictures\, see where James Hutton lived with his family when he was a child\,...
SUMMARY:James Hutton’s Edinburgh James Hutton’s Edinburgh(12 places avail) - Edinburgh Geological Society
END:VEVENT
BEGIN:VEVENT
UID:event_product_456799@webcollect.org.uk
DTSTAMP:20260423T113747Z
ORGANIZER;CN=Excursion Secretary:MAILTO:excursions@edinburghgeolsoc.org
DTSTART;TZID=Europe/London:20260520T190000
DTEND;TZID=Europe/London:20260520T210000
DESCRIPTION:Leader: Beverly Bergman2026 is a special year for our local Scottish geological legend James Hutton! EGS is celebrating his tercentenary with a special Hutton’s Edinburgh excursion. Join our local James Hutton boffin with a trail to key sites across the city associated with Hutton’ life. With the aid of old maps and pictures\, see where James Hutton lived with his family when he was a child\,...
SUMMARY:WAITING LIST: James Hutton’s Edinburgh James Hutton’s Edinburgh - Edinburgh Geological Society
END:VEVENT
BEGIN:VEVENT
UID:event_product_456802@webcollect.org.uk
DTSTAMP:20260423T113747Z
ORGANIZER;CN=Excursion Secretary:MAILTO:excursions@edinburghgeolsoc.org
DTSTART;TZID=Europe/London:20260610T190000
DTEND;TZID=Europe/London:20260610T210000
DESCRIPTION:Leader: Angus MillerFrom the site of Hutton’s house at St John’s Hill\, visit key locations in Holyrood Park that helped shape and confirm his ideas on the nature of igneous rocks. He didn’t get everything right! We’ll be guided by the ‘Lost Drawings’\, view Arthur’s Seat from near Holyrood Palace\, visit lava flows in the vicinity of St Anthony’s Chapel and then Hutton’s Section and Hutton’s Rock...
SUMMARY:James Hutton in Holyrood Park James Hutton in Holyrood Park(11 places avail) - Edinburgh Geological Society
END:VEVENT
BEGIN:VEVENT
UID:event_product_456803@webcollect.org.uk
DTSTAMP:20260423T113747Z
ORGANIZER;CN=Excursion Secretary:MAILTO:excursions@edinburghgeolsoc.org
DTSTART;TZID=Europe/London:20260610T190000
DTEND;TZID=Europe/London:20260610T210000
DESCRIPTION:Leader: Angus MillerFrom the site of Hutton’s house at St John’s Hill\, visit key locations in Holyrood Park that helped shape and confirm his ideas on the nature of igneous rocks. He didn’t get everything right! We’ll be guided by the ‘Lost Drawings’\, view Arthur’s Seat from near Holyrood Palace\, visit lava flows in the vicinity of St Anthony’s Chapel and then Hutton’s Section and Hutton’s Rock...
SUMMARY:WAITING LIST: James Hutton in Holyrood Park James Hutton in Holyrood Park - Edinburgh Geological Society
END:VEVENT
BEGIN:VEVENT
UID:event_product_456786@webcollect.org.uk
DTSTAMP:20260423T113747Z
ORGANIZER;CN=Excursion Secretary:MAILTO:excursions@edinburghgeolsoc.org
DTSTART;TZID=Europe/London:20260613T090000
DTEND;TZID=Europe/London:20260613T160000
DESCRIPTION:Leader: Alison TymonJames Hutton was an early thinker in understanding the link between geology and agriculture. This unique excursion visits the James Hutton exhibition at the Hayloft Gallery\, Paxton House with an afternoon building stones tour of Gunsgreen House Eyemouth.The James Hutton exhibition at Paxton House includes examples of rocks and images from Hutton’s most famous sites\, as well...
SUMMARY:Hutton 300 Hutton 300: Landscape\, Rocks and Time Exhibition and Gunsgreen House(11 places avail) - Edinburgh Geological Society
END:VEVENT
BEGIN:VEVENT
UID:event_product_456787@webcollect.org.uk
DTSTAMP:20260423T113747Z
ORGANIZER;CN=Excursion Secretary:MAILTO:excursions@edinburghgeolsoc.org
DTSTART;TZID=Europe/London:20260613T090000
DTEND;TZID=Europe/London:20260613T160000
DESCRIPTION:Leader: Alison TymonJames Hutton was an early thinker in understanding the link between geology and agriculture. This unique excursion visits the James Hutton exhibition at the Hayloft Gallery\, Paxton House with an afternoon building stones tour of Gunsgreen House Eyemouth.The James Hutton exhibition at Paxton House includes examples of rocks and images from Hutton’s most famous sites\, as well...
SUMMARY:WAITING LIST: Hutton 300 Hutton 300: Landscape\, Rocks and Time Exhibition and Gunsgreen House - Edinburgh Geological Society
END:VEVENT
BEGIN:VEVENT
UID:event_product_456806@webcollect.org.uk
DTSTAMP:20260423T113747Z
ORGANIZER;CN=Excursion Secretary:MAILTO:excursions@edinburghgeolsoc.org
DTSTART;TZID=Europe/London:20260624T190000
DTEND;TZID=Europe/London:20260624T210000
DESCRIPTION:Leader: Angus MillerFrom the site of Hutton’s house at St John’s Hill\, visit key locations in Holyrood Park that helped shape and confirm his ideas on the nature of igneous rocks. He didn’t get everything right! We’ll be guided by the ‘Lost Drawings’\, view Arthur’s Seat from near Holyrood Palace\, visit lava flows in the vicinity of St Anthony’s Chapel and then Hutton’s Section and Hutton’s Rock...
SUMMARY:James Hutton in Holyrood Park James Hutton in Holyrood Park(9 places avail) - Edinburgh Geological Society
END:VEVENT
BEGIN:VEVENT
UID:event_product_456807@webcollect.org.uk
DTSTAMP:20260423T113747Z
ORGANIZER;CN=Excursion Secretary:MAILTO:excursions@edinburghgeolsoc.org
DTSTART;TZID=Europe/London:20260624T190000
DTEND;TZID=Europe/London:20260624T210000
DESCRIPTION:Leader: Angus MillerFrom the site of Hutton’s house at St John’s Hill\, visit key locations in Holyrood Park that helped shape and confirm his ideas on the nature of igneous rocks. He didn’t get everything right! We’ll be guided by the ‘Lost Drawings’\, view Arthur’s Seat from near Holyrood Palace\, visit lava flows in the vicinity of St Anthony’s Chapel and then Hutton’s Section and Hutton’s Rock...
SUMMARY:WAITING LIST: James Hutton in Holyrood Park James Hutton in Holyrood Park - Edinburgh Geological Society
END:VEVENT
BEGIN:VEVENT
UID:event_product_456804@webcollect.org.uk
DTSTAMP:20260423T113747Z
ORGANIZER;CN=Excursion Secretary:MAILTO:excursions@edinburghgeolsoc.org
DTSTART;TZID=Europe/London:20260701T190000
DTEND;TZID=Europe/London:20260701T210000
DESCRIPTION:Leader: Fiona McGibbonThe Scotsman Steps which connect North Bridge to Market St in Edinburgh became an artwork in 2011 when the Fruitmarket Gallery commissioned Martin Creed to make his Work No.1059\, which involved resurfacing the steps with 104 different ‘marbles’ from all over the world. The colourful slabs of rock are an amazing range of lithologies\, colours and textures\, each with a tale...
SUMMARY:Scotsman’s Steps Scotsman’s Steps(full) - Edinburgh Geological Society
END:VEVENT
BEGIN:VEVENT
UID:event_product_456805@webcollect.org.uk
DTSTAMP:20260423T113747Z
ORGANIZER;CN=Excursion Secretary:MAILTO:excursions@edinburghgeolsoc.org
DTSTART;TZID=Europe/London:20260701T190000
DTEND;TZID=Europe/London:20260701T210000
DESCRIPTION:Leader: Fiona McGibbonThe Scotsman Steps which connect North Bridge to Market St in Edinburgh became an artwork in 2011 when the Fruitmarket Gallery commissioned Martin Creed to make his Work No.1059\, which involved resurfacing the steps with 104 different ‘marbles’ from all over the world. The colourful slabs of rock are an amazing range of lithologies\, colours and textures\, each with a tale...
SUMMARY:WAITING LIST: Scotsman’s Steps Scotsman’s Steps - Edinburgh Geological Society
END:VEVENT
BEGIN:VEVENT
UID:event_product_456788@webcollect.org.uk
DTSTAMP:20260423T113747Z
ORGANIZER;CN=Excursion Secretary:MAILTO:excursions@edinburghgeolsoc.org
DTSTART;TZID=Europe/London:20260711T090000
DTEND;TZID=Europe/London:20260711T160000
DESCRIPTION:Leaders: Graham Leslie\, Mike BrowneSpireslack is an abandoned surface coalmine (SCM) at Glenbuck\, East Ayrshire\, an area with a long history of mining beginning with bell pits sunk for ironstone in the late 18th century. Underground coal extraction in the late 19th/early 20th century\, accessed via the Grasshill Pit\, was followed by the later surface operations. Underground mining ceased in...
SUMMARY:Spireslack Spireslack(full) - Edinburgh Geological Society
END:VEVENT
BEGIN:VEVENT
UID:event_product_456789@webcollect.org.uk
DTSTAMP:20260423T113747Z
ORGANIZER;CN=Excursion Secretary:MAILTO:excursions@edinburghgeolsoc.org
DTSTART;TZID=Europe/London:20260711T090000
DTEND;TZID=Europe/London:20260711T160000
DESCRIPTION:Leaders: Graham Leslie\, Mike BrowneSpireslack is an abandoned surface coalmine (SCM) at Glenbuck\, East Ayrshire\, an area with a long history of mining beginning with bell pits sunk for ironstone in the late 18th century. Underground coal extraction in the late 19th/early 20th century\, accessed via the Grasshill Pit\, was followed by the later surface operations. Underground mining ceased in...
SUMMARY:WAITING LIST: Spireslack Spireslack - Edinburgh Geological Society
END:VEVENT
BEGIN:VEVENT
UID:event_product_456800@webcollect.org.uk
DTSTAMP:20260423T113747Z
ORGANIZER;CN=Excursion Secretary:MAILTO:excursions@edinburghgeolsoc.org
DTSTART;TZID=Europe/London:20260715T190000
DTEND;TZID=Europe/London:20260715T210000
DESCRIPTION:Leader: Beverly Bergman2026 is a special year for our local Scottish geological legend James Hutton! EGS is celebrating his tercentenary with a special Hutton’s Edinburgh excursion. Join our local James Hutton boffin with a trail to key sites across the city associated with Hutton’ life. With the aid of old maps and pictures\, see where James Hutton lived with his family when he was a child\,...
SUMMARY:James Hutton’s Edinburgh James Hutton’s Edinburgh(10 places avail) - Edinburgh Geological Society
END:VEVENT
BEGIN:VEVENT
UID:event_product_456801@webcollect.org.uk
DTSTAMP:20260423T113747Z
ORGANIZER;CN=Excursion Secretary:MAILTO:excursions@edinburghgeolsoc.org
DTSTART;TZID=Europe/London:20260715T190000
DTEND;TZID=Europe/London:20260715T210000
DESCRIPTION:Leader: Beverly Bergman2026 is a special year for our local Scottish geological legend James Hutton! EGS is celebrating his tercentenary with a special Hutton’s Edinburgh excursion. Join our local James Hutton boffin with a trail to key sites across the city associated with Hutton’ life. With the aid of old maps and pictures\, see where James Hutton lived with his family when he was a child\,...
SUMMARY:WAITING LIST: James Hutton’s Edinburgh James Hutton’s Edinburgh - Edinburgh Geological Society
END:VEVENT
BEGIN:VEVENT
UID:event_product_456808@webcollect.org.uk
DTSTAMP:20260423T113747Z
ORGANIZER;CN=Excursion Secretary:MAILTO:excursions@edinburghgeolsoc.org
DTSTART;TZID=Europe/London:20260729T190000
DTEND;TZID=Europe/London:20260729T210000
DESCRIPTION:Leader: Luis Albornoz-ParraA tour of part of Edinburgh’s Old and New Towns\, focusing on buildings and monuments made of both local stone\, and stone brought into the city from further away. Starting at Old College moving downhill to the New Town the walk will zigzag through the streets of the Old Town and stop by buildings and monuments with an interesting building stone story. We will look in...
SUMMARY:Building Stones of Edinburgh Building Stones of Edinburgh(2 places avail) - Edinburgh Geological Society
END:VEVENT
BEGIN:VEVENT
UID:event_product_456809@webcollect.org.uk
DTSTAMP:20260423T113747Z
ORGANIZER;CN=Excursion Secretary:MAILTO:excursions@edinburghgeolsoc.org
DTSTART;TZID=Europe/London:20260729T190000
DTEND;TZID=Europe/London:20260729T210000
DESCRIPTION:Leader: Luis Albornoz-ParraA tour of part of Edinburgh’s Old and New Towns\, focusing on buildings and monuments made of both local stone\, and stone brought into the city from further away. Starting at Old College moving downhill to the New Town the walk will zigzag through the streets of the Old Town and stop by buildings and monuments with an interesting building stone story. We will look in...
SUMMARY:WAITING LIST: Building Stones of Edinburgh Building Stones of Edinburgh - Edinburgh Geological Society
END:VEVENT
BEGIN:VEVENT
UID:event_product_458000@webcollect.org.uk
DTSTAMP:20260423T113747Z
ORGANIZER;CN=Excursion Secretary:MAILTO:excursions@edinburghgeolsoc.org
DTSTART;VALUE=DATE:20260801
DESCRIPTION:Leaders: Stu Clark and Graham LeslieCurious about the evaporite–carbonate successions of the Zechstein Group? Fancy seeing some in outcrop? From Seaham to Tynemouth on the North Sea coast of Northumberland\, Society members will see elements of the Permian marine succession of the UK– including what was traditionally referred to as the Magnesian Limestone. The excursion will examine these...
SUMMARY:The Permian of Northeast England The Permian of Northeast England(18 places avail) - Edinburgh Geological Society
END:VEVENT
BEGIN:VEVENT
UID:event_product_458001@webcollect.org.uk
DTSTAMP:20260423T113747Z
ORGANIZER;CN=Excursion Secretary:MAILTO:excursions@edinburghgeolsoc.org
DTSTART;VALUE=DATE:20260801
DESCRIPTION:Leaders: Stu Clark and Graham LeslieCurious about the evaporite–carbonate successions of the Zechstein Group? Fancy seeing some in outcrop? From Seaham to Tynemouth on the North Sea coast of Northumberland\, Society members will see elements of the Permian marine succession of the UK– including what was traditionally referred to as the Magnesian Limestone. The excursion will examine these...
SUMMARY:WAITING LIST: The Permian of Northeast England The Permian of Northeast England - Edinburgh Geological Society
END:VEVENT
BEGIN:VEVENT
UID:event_product_456810@webcollect.org.uk
DTSTAMP:20260423T113747Z
ORGANIZER;CN=Excursion Secretary:MAILTO:excursions@edinburghgeolsoc.org
DTSTART;TZID=Europe/London:20260805T190000
DTEND;TZID=Europe/London:20260805T210000
DESCRIPTION:Leader: Teddy Reeves\, BGSOne of Edinburgh’s impressive landmark hills the ancient volcanic origins and geological importance of Blackford Hill will be explored. This unassuming hill is where the role of ice in sculpting Scotland’s impressive landscape was first recognised by simple scratches preserved in rock. Identified by the Swiss geologist Louis Agassiz in 1840 and reported in the Scotsman...
SUMMARY:Blackford Hill Blackford Hill(full) - Edinburgh Geological Society
END:VEVENT
BEGIN:VEVENT
UID:event_product_456811@webcollect.org.uk
DTSTAMP:20260423T113747Z
ORGANIZER;CN=Excursion Secretary:MAILTO:excursions@edinburghgeolsoc.org
DTSTART;TZID=Europe/London:20260805T190000
DTEND;TZID=Europe/London:20260805T210000
DESCRIPTION:Leader: Teddy Reeves\, BGSOne of Edinburgh’s impressive landmark hills the ancient volcanic origins and geological importance of Blackford Hill will be explored. This unassuming hill is where the role of ice in sculpting Scotland’s impressive landscape was first recognised by simple scratches preserved in rock. Identified by the Swiss geologist Louis Agassiz in 1840 and reported in the Scotsman...
SUMMARY:WAITING LIST: Blackford Hill Blackford Hill - Edinburgh Geological Society
END:VEVENT
BEGIN:VEVENT
UID:event_product_456790@webcollect.org.uk
DTSTAMP:20260423T113747Z
ORGANIZER;CN=Excursion Secretary:MAILTO:excursions@edinburghgeolsoc.org
DTSTART;TZID=Europe/London:20260822T090000
DTEND;TZID=Europe/London:20260822T160000
DESCRIPTION:Leader: Rosalind GartonBoddin Point\, 5 km south of Montrose\, comprises a small exposure of Upper Devonian sedimentary rocks faulted against lavas of the Montrose Volcanic Formation (MVF). Extensive “cornstone” nodular development in a thick deposit of calcretised sandstone in the Kinnesswood Formation was worked here between 1696 and 1831 and burned in three lime kilns on the shore\, two of...
SUMMARY:Elephant Rock\, Montrose Elephant Rock\, Montrose(full) - Edinburgh Geological Society
END:VEVENT
BEGIN:VEVENT
UID:event_product_456791@webcollect.org.uk
DTSTAMP:20260423T113747Z
ORGANIZER;CN=Excursion Secretary:MAILTO:excursions@edinburghgeolsoc.org
DTSTART;TZID=Europe/London:20260822T090000
DTEND;TZID=Europe/London:20260822T160000
DESCRIPTION:Leader: Rosalind GartonBoddin Point\, 5 km south of Montrose\, comprises a small exposure of Upper Devonian sedimentary rocks faulted against lavas of the Montrose Volcanic Formation (MVF). Extensive “cornstone” nodular development in a thick deposit of calcretised sandstone in the Kinnesswood Formation was worked here between 1696 and 1831 and burned in three lime kilns on the shore\, two of...
SUMMARY:WAITING LIST: Elephant Rock\, Montrose Elephant Rock\, Montrose - Edinburgh Geological Society
END:VEVENT
BEGIN:VEVENT
UID:event_product_456792@webcollect.org.uk
DTSTAMP:20260423T113747Z
ORGANIZER;CN=Excursion Secretary:MAILTO:excursions@edinburghgeolsoc.org
DTSTART;TZID=Europe/London:20260905T103000
DTEND;TZID=Europe/London:20260905T160000
DESCRIPTION:Leader: Fiona McGibbonThis field trip is an opportunity to look at sedimentary rocks that straddle the Devonian/Carboniferous boundary as well as many igneous features that control the coastal geomorphology. We start at Belhaven Bay looking at low energy sedimentary rocks of the early Carboniferous and walk round the coast to examine some exquisite pyroclastic rocks of a major volcanic...
SUMMARY:Belhaven to Dunbar Belhaven to Dunbar(full) - Edinburgh Geological Society
END:VEVENT
BEGIN:VEVENT
UID:event_product_456793@webcollect.org.uk
DTSTAMP:20260423T113747Z
ORGANIZER;CN=Excursion Secretary:MAILTO:excursions@edinburghgeolsoc.org
DTSTART;TZID=Europe/London:20260905T103000
DTEND;TZID=Europe/London:20260905T160000
DESCRIPTION:Leader: Fiona McGibbonThis field trip is an opportunity to look at sedimentary rocks that straddle the Devonian/Carboniferous boundary as well as many igneous features that control the coastal geomorphology. We start at Belhaven Bay looking at low energy sedimentary rocks of the early Carboniferous and walk round the coast to examine some exquisite pyroclastic rocks of a major volcanic...
SUMMARY:WAITING LIST: Belhaven to Dunbar Belhaven to Dunbar - Edinburgh Geological Society
END:VEVENT
END:VCALENDAR
