BEGIN:VCALENDAR
METHOD:PUBLISH
PRODID:-//webcollect/eds//NONSGML v1.0//EN
BEGIN:VTIMEZONE
TZID:Europe/London
BEGIN:DAYLIGHT
TZOFFSETFROM:+0000
RRULE:FREQ=YEARLY;BYMONTH=3;BYDAY=-1SU
DTSTART:19810329T010000
TZNAME:BST
TZOFFSETTO:+0100
END:DAYLIGHT
BEGIN:STANDARD
TZOFFSETFROM:+0100
RRULE:FREQ=YEARLY;BYMONTH=10;BYDAY=-1SU
DTSTART:19961027T020000
TZNAME:GMT
TZOFFSETTO:+0000
END:STANDARD
END:VTIMEZONE
BEGIN:VEVENT
UID:event_product_452965@webcollect.org.uk
DTSTAMP:20260421T081509Z
ORGANIZER;CN=Tracey Nolan-Shaw:MAILTO:tracey.nolan-shaw@edsoc.com
DTSTART;VALUE=DATE:20260622
DESCRIPTION:22.-25. June 2026 - Marrakech\, Morocco> EDS Members & People with African Residency <<Following the success of the EDS Euromed event in Sharm el-Sheikh in 2024\, we are excited to announce our next event\, which will be held in Marrakech\, Pickalbatros Hotel Du Golf\, Morocco\, from June 22 – 25\, 2026.Alongside the conference\, we will hold a three-day exhibition from June 23-25\, 2026\, where...
SUMMARY:a) Delegate Early Bird Ticket EDS Member Standard\, until 15. April 2026 EUROMED 2026 - Desalination\, Water Reuse and the Environment\, Marrakech - Morocco - EDS Member - European Desalination Society
LOCATION:Marrakech\, Pickalbatros Hotel Du Golf\, Morocco\,
END:VEVENT
BEGIN:VEVENT
UID:event_product_452966@webcollect.org.uk
DTSTAMP:20260421T081509Z
ORGANIZER;CN=Tracey Nolan-Shaw:MAILTO:tracey.nolan-shaw@edsoc.com
DTSTART;VALUE=DATE:20260622
DESCRIPTION:22.-25. June 2026 - Marrakech\, Morocco> EDS Members & People with African Residency <<Following the success of the EDS Euromed event in Sharm el-Sheikh in 2024\, we are excited to announce our next event\, which will be held in Marrakech\, Pickalbatros Hotel Du Golf\, Morocco\, from June 22 – 25\, 2026.Alongside the conference\, we will hold a three-day exhibition from June 23-25\, 2026\, where...
SUMMARY:a) Delegate Early Bird Ticket EDS Member\, Student & Retiree until 15. April 2026 EUROMED 2026 - Desalination\, Water Reuse and the Environment\, Marrakech - Morocco - EDS Member - European Desalination Society
LOCATION:Marrakech\, Pickalbatros Hotel Du Golf\, Morocco\,
END:VEVENT
BEGIN:VEVENT
UID:event_product_452967@webcollect.org.uk
DTSTAMP:20260421T081509Z
ORGANIZER;CN=Tracey Nolan-Shaw:MAILTO:tracey.nolan-shaw@edsoc.com
DTSTART;VALUE=DATE:20260622
DESCRIPTION:22.-25. June 2026 - Marrakech\, Morocco> EDS Members & People with African Residency <<Following the success of the EDS Euromed event in Sharm el-Sheikh in 2024\, we are excited to announce our next event\, which will be held in Marrakech\, Pickalbatros Hotel Du Golf\, Morocco\, from June 22 – 25\, 2026.Alongside the conference\, we will hold a three-day exhibition from June 23-25\, 2026\, where...
SUMMARY:b) Delegate Ticket EDS Member Standard\, from 16. April 2026 EUROMED 2026 - Desalination\, Water Reuse and the Environment\, Marrakech - Morocco - EDS Member - European Desalination Society
LOCATION:Marrakech\, Pickalbatros Hotel Du Golf\, Morocco\,
END:VEVENT
BEGIN:VEVENT
UID:event_product_452968@webcollect.org.uk
DTSTAMP:20260421T081509Z
ORGANIZER;CN=Tracey Nolan-Shaw:MAILTO:tracey.nolan-shaw@edsoc.com
DTSTART;VALUE=DATE:20260622
DESCRIPTION:22.-25. June 2026 - Marrakech\, Morocco> EDS Members & People with African Residency <<Following the success of the EDS Euromed event in Sharm el-Sheikh in 2024\, we are excited to announce our next event\, which will be held in Marrakech\, Pickalbatros Hotel Du Golf\, Morocco\, from June 22 – 25\, 2026.Alongside the conference\, we will hold a three-day exhibition from June 23-25\, 2026\, where...
SUMMARY:b) Delegate Ticket EDS Member\, Student & Retiree from 16. April 2026 EUROMED 2026 - Desalination\, Water Reuse and the Environment\, Marrakech - Morocco - EDS Member - European Desalination Society
LOCATION:Marrakech\, Pickalbatros Hotel Du Golf\, Morocco\,
END:VEVENT
BEGIN:VEVENT
UID:event_product_452971@webcollect.org.uk
DTSTAMP:20260421T081509Z
ORGANIZER;CN=Tracey Nolan-Shaw:MAILTO:tracey.nolan-shaw@edsoc.com
DTSTART;VALUE=DATE:20260622
DESCRIPTION:22.-25. June 2026 - Marrakech\, Morocco> EDS Members & People with African Residency <<Following the success of the EDS Euromed event in Sharm el-Sheikh in 2024\, we are excited to announce our next event\, which will be held in Marrakech\, Pickalbatros Hotel Du Golf\, Morocco\, from June 22 – 25\, 2026.Alongside the conference\, we will hold a three-day exhibition from June 23-25\, 2026\, where...
SUMMARY:c) Delegate On-Site Ticket EDS Member Standard\, from 22. June 2026 EUROMED 2026 - Desalination\, Water Reuse and the Environment\, Marrakech - Morocco - EDS Member - European Desalination Society
LOCATION:Marrakech\, Pickalbatros Hotel Du Golf\, Morocco\,
END:VEVENT
BEGIN:VEVENT
UID:event_product_452972@webcollect.org.uk
DTSTAMP:20260421T081509Z
ORGANIZER;CN=Tracey Nolan-Shaw:MAILTO:tracey.nolan-shaw@edsoc.com
DTSTART;VALUE=DATE:20260622
DESCRIPTION:22.-25. June 2026 - Marrakech\, Morocco> EDS Members & People with African Residency <<Following the success of the EDS Euromed event in Sharm el-Sheikh in 2024\, we are excited to announce our next event\, which will be held in Marrakech\, Pickalbatros Hotel Du Golf\, Morocco\, from June 22 – 25\, 2026.Alongside the conference\, we will hold a three-day exhibition from June 23-25\, 2026\, where...
SUMMARY:c) Delegate On-Site Ticket EDS Member\, Student & Retiree from 21. June 2026 EUROMED 2026 - Desalination\, Water Reuse and the Environment\, Marrakech - Morocco - EDS Member - European Desalination Society
LOCATION:Marrakech\, Pickalbatros Hotel Du Golf\, Morocco\,
END:VEVENT
BEGIN:VEVENT
UID:event_product_453629@webcollect.org.uk
DTSTAMP:20260421T081509Z
ORGANIZER;CN=Tracey Nolan-Shaw:MAILTO:tracey.nolan-shaw@edsoc.com
DTSTART;VALUE=DATE:20260622
DESCRIPTION:22.-25. June 2026 - Marrakech\, Morocco> EDS Members & People with African Residency <<Following the success of the EDS Euromed event in Sharm el-Sheikh in 2024\, we are excited to announce our next event\, which will be held in Marrakech\, Pickalbatros Hotel Du Golf\, Morocco\, from June 22 – 25\, 2026.Alongside the conference\, we will hold a three-day exhibition from June 23-25\, 2026\, where...
SUMMARY:d) Delegate Ticket African residency\, Business/Professional (Passport & Proof of Residence) EUROMED 2026 - Desalination\, Water Reuse and the Environment\, Marrakech - Morocco - EDS Member - European Desalination Society
LOCATION:Marrakech\, Pickalbatros Hotel Du Golf\, Morocco\,
END:VEVENT
BEGIN:VEVENT
UID:event_product_453630@webcollect.org.uk
DTSTAMP:20260421T081509Z
ORGANIZER;CN=Tracey Nolan-Shaw:MAILTO:tracey.nolan-shaw@edsoc.com
DTSTART;VALUE=DATE:20260622
DESCRIPTION:22.-25. June 2026 - Marrakech\, Morocco> EDS Members & People with African Residency <<Following the success of the EDS Euromed event in Sharm el-Sheikh in 2024\, we are excited to announce our next event\, which will be held in Marrakech\, Pickalbatros Hotel Du Golf\, Morocco\, from June 22 – 25\, 2026.Alongside the conference\, we will hold a three-day exhibition from June 23-25\, 2026\, where...
SUMMARY:e) Delegate Ticket African residency\, Professor (Passport & Proof of Residence) EUROMED 2026 - Desalination\, Water Reuse and the Environment\, Marrakech - Morocco - EDS Member - European Desalination Society
LOCATION:Marrakech\, Pickalbatros Hotel Du Golf\, Morocco\,
END:VEVENT
BEGIN:VEVENT
UID:event_product_453631@webcollect.org.uk
DTSTAMP:20260421T081509Z
ORGANIZER;CN=Tracey Nolan-Shaw:MAILTO:tracey.nolan-shaw@edsoc.com
DTSTART;VALUE=DATE:20260622
DESCRIPTION:22.-25. June 2026 - Marrakech\, Morocco> EDS Members & People with African Residency <<Following the success of the EDS Euromed event in Sharm el-Sheikh in 2024\, we are excited to announce our next event\, which will be held in Marrakech\, Pickalbatros Hotel Du Golf\, Morocco\, from June 22 – 25\, 2026.Alongside the conference\, we will hold a three-day exhibition from June 23-25\, 2026\, where...
SUMMARY:f) Delegate Ticket African residency\, Student (Passport & Proof of Residence) EUROMED 2026 - Desalination\, Water Reuse and the Environment\, Marrakech - Morocco - EDS Member - European Desalination Society
LOCATION:Marrakech\, Pickalbatros Hotel Du Golf\, Morocco\,
END:VEVENT
BEGIN:VEVENT
UID:event_product_452985@webcollect.org.uk
DTSTAMP:20260421T081509Z
ORGANIZER;CN=Tracey Nolan-Shaw:MAILTO:tracey.nolan-shaw@edsoc.com
DTSTART;VALUE=DATE:20260622
DESCRIPTION:22.-25. June 2026 - Marrakech\, Morocco> Non EDS Members & People with African Residency <Following the success of the EDS Euromed event in Sharm el-Sheikh in 2024\, we are excited to announce our next event\, which will be held in Marrakech\, Pickalbatros Hotel Du Golf\, Morocco\, from June 22 – 25\, 2026.Alongside the conference\, we will hold a three-day exhibition from June 23-25\, 2026\, where...
SUMMARY:a) Delegate Early Bird Ticket Non EDS Member Standard\, until 15. April 2026 EUROMED 2026 - Desalination\, Water Reuse and the Environment\, Marrakech - Morocco - Non EDS Member - European Desalination Society
LOCATION:Marrakech\, Pickalbatros Hotel Du Golf\, Morocco\,
END:VEVENT
BEGIN:VEVENT
UID:event_product_452986@webcollect.org.uk
DTSTAMP:20260421T081509Z
ORGANIZER;CN=Tracey Nolan-Shaw:MAILTO:tracey.nolan-shaw@edsoc.com
DTSTART;VALUE=DATE:20260622
DESCRIPTION:22.-25. June 2026 - Marrakech\, Morocco> Non EDS Members & People with African Residency <Following the success of the EDS Euromed event in Sharm el-Sheikh in 2024\, we are excited to announce our next event\, which will be held in Marrakech\, Pickalbatros Hotel Du Golf\, Morocco\, from June 22 – 25\, 2026.Alongside the conference\, we will hold a three-day exhibition from June 23-25\, 2026\, where...
SUMMARY:a) Delegate Early Bird Ticket Non EDS Member\, Student & Retiree until 15. April 2026 EUROMED 2026 - Desalination\, Water Reuse and the Environment\, Marrakech - Morocco - Non EDS Member - European Desalination Society
LOCATION:Marrakech\, Pickalbatros Hotel Du Golf\, Morocco\,
END:VEVENT
BEGIN:VEVENT
UID:event_product_452987@webcollect.org.uk
DTSTAMP:20260421T081509Z
ORGANIZER;CN=Tracey Nolan-Shaw:MAILTO:tracey.nolan-shaw@edsoc.com
DTSTART;VALUE=DATE:20260622
DESCRIPTION:22.-25. June 2026 - Marrakech\, Morocco> Non EDS Members & People with African Residency <Following the success of the EDS Euromed event in Sharm el-Sheikh in 2024\, we are excited to announce our next event\, which will be held in Marrakech\, Pickalbatros Hotel Du Golf\, Morocco\, from June 22 – 25\, 2026.Alongside the conference\, we will hold a three-day exhibition from June 23-25\, 2026\, where...
SUMMARY:b) Delegate Ticket Non EDS Member Standard\, from 16. April 2026 EUROMED 2026 - Desalination\, Water Reuse and the Environment\, Marrakech - Morocco - Non EDS Member - European Desalination Society
LOCATION:Marrakech\, Pickalbatros Hotel Du Golf\, Morocco\,
END:VEVENT
BEGIN:VEVENT
UID:event_product_452988@webcollect.org.uk
DTSTAMP:20260421T081509Z
ORGANIZER;CN=Tracey Nolan-Shaw:MAILTO:tracey.nolan-shaw@edsoc.com
DTSTART;VALUE=DATE:20260622
DESCRIPTION:22.-25. June 2026 - Marrakech\, Morocco> Non EDS Members & People with African Residency <Following the success of the EDS Euromed event in Sharm el-Sheikh in 2024\, we are excited to announce our next event\, which will be held in Marrakech\, Pickalbatros Hotel Du Golf\, Morocco\, from June 22 – 25\, 2026.Alongside the conference\, we will hold a three-day exhibition from June 23-25\, 2026\, where...
SUMMARY:b) Delegate Ticket Non EDS Member\, Student & Retiree from 16. April 2026 EUROMED 2026 - Desalination\, Water Reuse and the Environment\, Marrakech - Morocco - Non EDS Member - European Desalination Society
LOCATION:Marrakech\, Pickalbatros Hotel Du Golf\, Morocco\,
END:VEVENT
BEGIN:VEVENT
UID:event_product_452989@webcollect.org.uk
DTSTAMP:20260421T081509Z
ORGANIZER;CN=Tracey Nolan-Shaw:MAILTO:tracey.nolan-shaw@edsoc.com
DTSTART;VALUE=DATE:20260622
DESCRIPTION:22.-25. June 2026 - Marrakech\, Morocco> Non EDS Members & People with African Residency <Following the success of the EDS Euromed event in Sharm el-Sheikh in 2024\, we are excited to announce our next event\, which will be held in Marrakech\, Pickalbatros Hotel Du Golf\, Morocco\, from June 22 – 25\, 2026.Alongside the conference\, we will hold a three-day exhibition from June 23-25\, 2026\, where...
SUMMARY:c) Delegate On-Site Ticket Non EDS Member Standard\, from 22. June 2026 EUROMED 2026 - Desalination\, Water Reuse and the Environment\, Marrakech - Morocco - Non EDS Member - European Desalination Society
LOCATION:Marrakech\, Pickalbatros Hotel Du Golf\, Morocco\,
END:VEVENT
BEGIN:VEVENT
UID:event_product_452990@webcollect.org.uk
DTSTAMP:20260421T081509Z
ORGANIZER;CN=Tracey Nolan-Shaw:MAILTO:tracey.nolan-shaw@edsoc.com
DTSTART;VALUE=DATE:20260622
DESCRIPTION:22.-25. June 2026 - Marrakech\, Morocco> Non EDS Members & People with African Residency <Following the success of the EDS Euromed event in Sharm el-Sheikh in 2024\, we are excited to announce our next event\, which will be held in Marrakech\, Pickalbatros Hotel Du Golf\, Morocco\, from June 22 – 25\, 2026.Alongside the conference\, we will hold a three-day exhibition from June 23-25\, 2026\, where...
SUMMARY:c) Delegate On-Site Ticket Non EDS Member\, Student & Retiree from 21. June 2026 EUROMED 2026 - Desalination\, Water Reuse and the Environment\, Marrakech - Morocco - Non EDS Member - European Desalination Society
LOCATION:Marrakech\, Pickalbatros Hotel Du Golf\, Morocco\,
END:VEVENT
BEGIN:VEVENT
UID:event_product_452992@webcollect.org.uk
DTSTAMP:20260421T081509Z
ORGANIZER;CN=Tracey Nolan-Shaw:MAILTO:tracey.nolan-shaw@edsoc.com
DTSTART;VALUE=DATE:20260622
DESCRIPTION:22.-25. June 2026 - Marrakech\, Morocco> Non EDS Members & People with African Residency <Following the success of the EDS Euromed event in Sharm el-Sheikh in 2024\, we are excited to announce our next event\, which will be held in Marrakech\, Pickalbatros Hotel Du Golf\, Morocco\, from June 22 – 25\, 2026.Alongside the conference\, we will hold a three-day exhibition from June 23-25\, 2026\, where...
SUMMARY:d) Delegate Ticket African residency\, Business/Professional (Passport & Proof of Residence) EUROMED 2026 - Desalination\, Water Reuse and the Environment\, Marrakech - Morocco - Non EDS Member - European Desalination Society
LOCATION:Marrakech\, Pickalbatros Hotel Du Golf\, Morocco\,
END:VEVENT
BEGIN:VEVENT
UID:event_product_452991@webcollect.org.uk
DTSTAMP:20260421T081509Z
ORGANIZER;CN=Tracey Nolan-Shaw:MAILTO:tracey.nolan-shaw@edsoc.com
DTSTART;VALUE=DATE:20260622
DESCRIPTION:22.-25. June 2026 - Marrakech\, Morocco> Non EDS Members & People with African Residency <Following the success of the EDS Euromed event in Sharm el-Sheikh in 2024\, we are excited to announce our next event\, which will be held in Marrakech\, Pickalbatros Hotel Du Golf\, Morocco\, from June 22 – 25\, 2026.Alongside the conference\, we will hold a three-day exhibition from June 23-25\, 2026\, where...
SUMMARY:e) Delegate Ticket African residency\, Professor (Passport & Proof of Residence) EUROMED 2026 - Desalination\, Water Reuse and the Environment\, Marrakech - Morocco - Non EDS Member - European Desalination Society
LOCATION:Marrakech\, Pickalbatros Hotel Du Golf\, Morocco\,
END:VEVENT
BEGIN:VEVENT
UID:event_product_452993@webcollect.org.uk
DTSTAMP:20260421T081509Z
ORGANIZER;CN=Tracey Nolan-Shaw:MAILTO:tracey.nolan-shaw@edsoc.com
DTSTART;VALUE=DATE:20260622
DESCRIPTION:22.-25. June 2026 - Marrakech\, Morocco> Non EDS Members & People with African Residency <Following the success of the EDS Euromed event in Sharm el-Sheikh in 2024\, we are excited to announce our next event\, which will be held in Marrakech\, Pickalbatros Hotel Du Golf\, Morocco\, from June 22 – 25\, 2026.Alongside the conference\, we will hold a three-day exhibition from June 23-25\, 2026\, where...
SUMMARY:f) Delegate Ticket African residency\, Student (Passport & Proof of Residence) EUROMED 2026 - Desalination\, Water Reuse and the Environment\, Marrakech - Morocco - Non EDS Member - European Desalination Society
LOCATION:Marrakech\, Pickalbatros Hotel Du Golf\, Morocco\,
END:VEVENT
END:VCALENDAR
