BEGIN:VCALENDAR
METHOD:PUBLISH
PRODID:-//webcollect/eesc//NONSGML v1.0//EN
BEGIN:VTIMEZONE
TZID:Europe/London
BEGIN:DAYLIGHT
TZOFFSETFROM:+0000
RRULE:FREQ=YEARLY;BYMONTH=3;BYDAY=-1SU
DTSTART:19810329T010000
TZNAME:BST
TZOFFSETTO:+0100
END:DAYLIGHT
BEGIN:STANDARD
TZOFFSETFROM:+0100
RRULE:FREQ=YEARLY;BYMONTH=10;BYDAY=-1SU
DTSTART:19961027T020000
TZNAME:GMT
TZOFFSETTO:+0000
END:STANDARD
END:VTIMEZONE
BEGIN:VEVENT
UID:event_product_459101@webcollect.org.uk
DTSTAMP:20260421T193123Z
ORGANIZER;CN=David Chalmers:MAILTO:stravithie@yahoo.co.uk
DTSTART;VALUE=DATE:20260426
DESCRIPTION:Row under the both Tay bridges . Guests of Wormit
SUMMARY:0 Tay bridge row - Elie & Earlsferry Sailing Club
END:VEVENT
BEGIN:VEVENT
UID:event_product_458057@webcollect.org.uk
DTSTAMP:20260421T193123Z
ORGANIZER;CN=David Chalmers:MAILTO:stravithie@yahoo.co.uk
DTSTART;VALUE=DATE:20260501
DESCRIPTION:Come and try . pls contact us for further info and ''taster '' sessionsThroughout the year
SUMMARY:9.30am Rowing Taster sessions throughout the Summer - Elie & Earlsferry Sailing Club
END:VEVENT
BEGIN:VEVENT
UID:event_product_435712@webcollect.org.uk
DTSTAMP:20260421T193123Z
ORGANIZER;CN=David Chalmers:MAILTO:stravithie@yahoo.co.uk
DTSTART;VALUE=DATE:20260502
DESCRIPTION:Sailing Taster session will begin again in May 2026 . Please contact us for a ''taster ''session
SUMMARY:Sailing taster sessions in our club Drascombe lugger ''Saol'' - Elie & Earlsferry Sailing Club
LOCATION:Elie and Earlsferry Sailing Clubhouse
END:VEVENT
BEGIN:VEVENT
UID:event_product_459100@webcollect.org.uk
DTSTAMP:20260421T193123Z
ORGANIZER;CN=David Chalmers:MAILTO:stravithie@yahoo.co.uk
DTSTART;VALUE=DATE:20260514
SUMMARY:1pm Fifie Thursday not Friday - Elie & Earlsferry Sailing Club
LOCATION:Elie
END:VEVENT
BEGIN:VEVENT
UID:event_product_453010@webcollect.org.uk
DTSTAMP:20260421T193123Z
ORGANIZER;CN=David Chalmers:MAILTO:stravithie@yahoo.co.uk
DTSTART;VALUE=DATE:20260530
DESCRIPTION:Trip in Saol . Details to follow . Non Sailors welcome
SUMMARY:9am Three Bridge Muster - Elie & Earlsferry Sailing Club
LOCATION:Port Edgar 
END:VEVENT
BEGIN:VEVENT
UID:event_product_452023@webcollect.org.uk
DTSTAMP:20260421T193123Z
ORGANIZER;CN=David Chalmers:MAILTO:stravithie@yahoo.co.uk
DTSTART;VALUE=DATE:20260606
SUMMARY:Caledonian Canal row - Elie & Earlsferry Sailing Club
LOCATION:Fort William
END:VEVENT
BEGIN:VEVENT
UID:event_product_458185@webcollect.org.uk
DTSTAMP:20260421T193123Z
ORGANIZER;CN=David Chalmers:MAILTO:stravithie@yahoo.co.uk
DTSTART;VALUE=DATE:20260711
DESCRIPTION:Informal Barbie . Hopefully eating what we have caught in the morningWe can always buy food in town if we are not successful
SUMMARY:Fish and Eat - Elie & Earlsferry Sailing Club
LOCATION:online 
END:VEVENT
BEGIN:VEVENT
UID:event_product_452034@webcollect.org.uk
DTSTAMP:20260421T193123Z
ORGANIZER;CN=David Chalmers:MAILTO:stravithie@yahoo.co.uk
DTSTART;VALUE=DATE:20260829
SUMMARY:9am north berwick regatta - Elie & Earlsferry Sailing Club
END:VEVENT
END:VCALENDAR
