BEGIN:VCALENDAR
METHOD:PUBLISH
PRODID:-//webcollect/euspc//NONSGML v1.0//EN
BEGIN:VTIMEZONE
TZID:Europe/London
BEGIN:DAYLIGHT
TZOFFSETFROM:+0000
RRULE:FREQ=YEARLY;BYMONTH=3;BYDAY=-1SU
DTSTART:19810329T010000
TZNAME:BST
TZOFFSETTO:+0100
END:DAYLIGHT
BEGIN:STANDARD
TZOFFSETFROM:+0100
RRULE:FREQ=YEARLY;BYMONTH=10;BYDAY=-1SU
DTSTART:19961027T020000
TZNAME:GMT
TZOFFSETTO:+0000
END:STANDARD
END:VTIMEZONE
BEGIN:VEVENT
UID:event_product_463012@webcollect.org.uk
DTSTAMP:20260424T051632Z
ORGANIZER;CN=Lucy Brockway-Smith:MAILTO:essexunionsouth@pcuk.org
DTSTART;VALUE=DATE:20260427
DESCRIPTION:The introduction of The Spurs Test is to focus on the welfare of the horse or pony when being ridden in spurs. It is an assessment to ensure that the rider is able to show an understanding of the use of spurs and show the ability to ride\, with a balanced position\, therefore control of their lower leg and so correct use of the spurs.It is important that spurs are only worn by riders who have a...
SUMMARY:Spurs Training & Test - Essex Union South Pony Club
END:VEVENT
END:VCALENDAR
