BEGIN:VCALENDAR
METHOD:PUBLISH
PRODID:-//webcollect/fvrc//NONSGML v1.0//EN
BEGIN:VTIMEZONE
TZID:Europe/London
BEGIN:DAYLIGHT
TZOFFSETFROM:+0000
RRULE:FREQ=YEARLY;BYMONTH=3;BYDAY=-1SU
DTSTART:19810329T010000
TZNAME:BST
TZOFFSETTO:+0100
END:DAYLIGHT
BEGIN:STANDARD
TZOFFSETFROM:+0100
RRULE:FREQ=YEARLY;BYMONTH=10;BYDAY=-1SU
DTSTART:19961027T020000
TZNAME:GMT
TZOFFSETTO:+0000
END:STANDARD
END:VTIMEZONE
BEGIN:VEVENT
UID:event_product_458374@webcollect.org.uk
DTSTAMP:20260423T152548Z
ORGANIZER;CN=Julia Sheppard:MAILTO:finnvalleyrc@gmail.com
DTSTART;VALUE=DATE:20260517
DESCRIPTION:Area 14 Horse Trials Qualifier Horse trials for Individuals and teams at 70cm\, 80cm\, 90cm and 100cmHeld at Poplar ParkQualifier for ODE Champs at Swalcliffe\, Oxon on the 1st -2nd AugustEntries close 24th AprilCheck rule book for full details - available from the BRC website https://www.bhs.org.uk/british-riding-clubs/brc-handbook/Dressage tests (download from the BE website)...
SUMMARY:Horse Trials 2026 Area 14 Horse Trials Qualifier - Finn Valley Riding Club 
LOCATION:Poplar Park 
END:VEVENT
BEGIN:VEVENT
UID:event_product_459387@webcollect.org.uk
DTSTAMP:20260423T152548Z
ORGANIZER;CN=Cress Allman:MAILTO:cressallman@icloud.com
DTSTART;VALUE=DATE:20260530
DESCRIPTION:Tammy Ruffles Flatwork Clinic.Venues are either Suffolk Rural - Otley\, or Waterfarm - Raydon
SUMMARY:Suffolk Rural Indoor School Tammy Ruffles Flatwork Clinic - Finn Valley Riding Club 
END:VEVENT
BEGIN:VEVENT
UID:event_product_459388@webcollect.org.uk
DTSTAMP:20260423T152548Z
ORGANIZER;CN=Cress Allman:MAILTO:cressallman@icloud.com
DTSTART;VALUE=DATE:20260613
DESCRIPTION:Tammy Ruffles Flatwork Clinic.Venues are either Suffolk Rural - Otley\, or Waterfarm - Raydon
SUMMARY:Suffolk Rural Indoor School Tammy Ruffles Flatwork Clinic - Finn Valley Riding Club 
END:VEVENT
BEGIN:VEVENT
UID:event_product_459389@webcollect.org.uk
DTSTAMP:20260423T152548Z
ORGANIZER;CN=Cress Allman:MAILTO:cressallman@icloud.com
DTSTART;VALUE=DATE:20260704
DESCRIPTION:Tammy Ruffles Flatwork Clinic.Venues are either Suffolk Rural - Otley\, or Waterfarm - Raydon
SUMMARY:Suffolk Rural Indoor School Tammy Ruffles Flatwork Clinic - Finn Valley Riding Club 
END:VEVENT
BEGIN:VEVENT
UID:event_product_462059@webcollect.org.uk
DTSTAMP:20260423T152548Z
ORGANIZER;CN=Julia HICKS:MAILTO:julia.hicks84@btinternet.com
DTSTART;TZID=Europe/London:20260607T010000
DTEND;TZID=Europe/London:20260607T010000
DESCRIPTION:A fun formation (drill) riding session with All Steps Formation Riding. Open to non-members as well as members and all levels of rider provided you can walk\, trot and turn! One hour sessions with 6-10 riders in each. These sessions are great fun and good for the confidence too.
SUMMARY:All Steps Formation Riding All Steps Formation Riding Clinic at Orwell Arena(15 places avail) - Finn Valley Riding Club 
LOCATION:Orwell Arena\, Levington
END:VEVENT
END:VCALENDAR
