BEGIN:VCALENDAR
METHOD:PUBLISH
PRODID:-//webcollect/fvrc//NONSGML v1.0//EN
BEGIN:VTIMEZONE
TZID:Europe/London
BEGIN:DAYLIGHT
TZOFFSETFROM:+0000
RRULE:FREQ=YEARLY;BYMONTH=3;BYDAY=-1SU
DTSTART:19810329T010000
TZNAME:BST
TZOFFSETTO:+0100
END:DAYLIGHT
BEGIN:STANDARD
TZOFFSETFROM:+0100
RRULE:FREQ=YEARLY;BYMONTH=10;BYDAY=-1SU
DTSTART:19961027T020000
TZNAME:GMT
TZOFFSETTO:+0000
END:STANDARD
END:VTIMEZONE
BEGIN:VEVENT
UID:event_product_458374@webcollect.org.uk
DTSTAMP:20260423T164724Z
ORGANIZER;CN=Julia Sheppard:MAILTO:finnvalleyrc@gmail.com
DTSTART;VALUE=DATE:20260517
DESCRIPTION:Area 14 Horse Trials Qualifier Horse trials for Individuals and teams at 70cm\, 80cm\, 90cm and 100cmHeld at Poplar ParkQualifier for ODE Champs at Swalcliffe\, Oxon on the 1st -2nd AugustEntries close 24th AprilCheck rule book for full details - available from the BRC website https://www.bhs.org.uk/british-riding-clubs/brc-handbook/Dressage tests (download from the BE website)...
SUMMARY:Horse Trials 2026 Area 14 Horse Trials Qualifier - Finn Valley Riding Club 
LOCATION:Poplar Park 
END:VEVENT
END:VCALENDAR
