BEGIN:VCALENDAR
METHOD:PUBLISH
PRODID:-//webcollect/gentianclub//NONSGML v1.0//EN
BEGIN:VTIMEZONE
TZID:Europe/London
BEGIN:DAYLIGHT
TZOFFSETFROM:+0000
RRULE:FREQ=YEARLY;BYMONTH=3;BYDAY=-1SU
DTSTART:19810329T010000
TZNAME:BST
TZOFFSETTO:+0100
END:DAYLIGHT
BEGIN:STANDARD
TZOFFSETFROM:+0100
RRULE:FREQ=YEARLY;BYMONTH=10;BYDAY=-1SU
DTSTART:19961027T020000
TZNAME:GMT
TZOFFSETTO:+0000
END:STANDARD
END:VTIMEZONE
BEGIN:VEVENT
UID:event_product_425754@webcollect.org.uk
DTSTAMP:20260421T082835Z
ORGANIZER;CN=John Barber:MAILTO:john@thorpecloud.co.uk
DTSTART;VALUE=DATE:20260522
DESCRIPTION:This is a week long meet from Friday 22nd May 2026 to Friday 29th May 2026 - We check in on the afternoon of the Friday 22nd and leave the hut on the morning of Friday 29th. We have exclusive use of Mar Lodge Base Camp situated 4 miles west of Braemar\, offering easy access to the Cairngorms. There are four bedrooms - two four-bedded\, one two-bedded (all bunk beds) and one room with two single...
SUMMARY:Scottish Spring Meet - Mar Lodge(1 places avail) - The Gentian Mountain & Hill Walking Club
LOCATION:Scotland - Cairngorms
END:VEVENT
BEGIN:VEVENT
UID:event_product_438155@webcollect.org.uk
DTSTAMP:20260421T082835Z
ORGANIZER;CN=John Barber:MAILTO:john@thorpecloud.co.uk
DTSTART;VALUE=DATE:20260619
DESCRIPTION:This is a Three Day meet (Friday to Monday) and so is a little more expensive than the weekend meets. Also\, the lodge has a total capacity of 10\, but that includes double beds and so the maximum has been initially set at 8 people.There is underfloor heating throughout and 3 bedrooms. Bedroom one is a double room with an en suite shower and wc. Bedroom two is a twin room and bedroom three is a...
SUMMARY:Yorkshire Dales - Ingleton (5 places avail) - The Gentian Mountain & Hill Walking Club
LOCATION:Yorkshire Dales
END:VEVENT
BEGIN:VEVENT
UID:event_product_433560@webcollect.org.uk
DTSTAMP:20260421T082835Z
ORGANIZER;CN=John Barber:MAILTO:john@thorpecloud.co.uk
DTSTART;VALUE=DATE:20260718
DESCRIPTION:This is a week long meet.Our base is the town of Chamonix\, a resort near the junction of France\, Switzerland and Italy. The town is situated at the base of Mont Blanc. There is a good range of self catering apartments and B&Bs.As this is a self-booked meet you will need to arrange your own accommodation. This meet is now open and members wanting to book or share accommodation can see offers of...
SUMMARY:Chamonix - Self Booked Meet(10 places avail) - The Gentian Mountain & Hill Walking Club
LOCATION:France
END:VEVENT
BEGIN:VEVENT
UID:event_product_444386@webcollect.org.uk
DTSTAMP:20260421T082835Z
ORGANIZER;CN=John Barber:MAILTO:john@thorpecloud.co.uk
DTSTART;VALUE=DATE:20260911
DESCRIPTION:Glan Dena is situated at the east end of Llyn Ogwen\, nestling between Tryfan and the Carneddau. The current Glan Dena was built in 1986 to the MAM's specifications and is the second building that the MAM have owned at the Glan Dena site.We will not have exclusive use of Glan Dena\, but we have reserved 15 beds. The hut has 7 rooms (mostly 4 bed) with two-tier bunks and can accommodate up to 32...
SUMMARY:Glan Dena - Ogwen Valley - Snowdonia (12 places avail) - The Gentian Mountain & Hill Walking Club
LOCATION:Wales - Snowdonia
END:VEVENT
BEGIN:VEVENT
UID:event_product_444940@webcollect.org.uk
DTSTAMP:20260421T082835Z
ORGANIZER;CN=John Barber:MAILTO:john@thorpecloud.co.uk
DTSTART;VALUE=DATE:20261016
DESCRIPTION:This meet is at Lowside Farm and we are staying in their Camping Barn bunkhouse which can sleep up to 14 people in bunkbeds in 2 rooms (1x12 and 1x2). The accommodation is spacious\, modern and comfortable and\, located at the foot of Blencathra provides many walking opportunities straight from the bunkhouse or in the local area. The village of Threlkeld is walking distance and Keswick is only a...
SUMMARY:Lake District (13 places avail) - The Gentian Mountain & Hill Walking Club
LOCATION:Threlkeld 
END:VEVENT
BEGIN:VEVENT
UID:event_product_457480@webcollect.org.uk
DTSTAMP:20260421T082835Z
ORGANIZER;CN=John Barber:MAILTO:john@thorpecloud.co.uk
DTSTART;VALUE=DATE:20261106
DESCRIPTION:This is a 3 day\, long weekend meet - Friday night to Monday morning. We are staying in the NT Watkin bunkhouse which is situated near the foot of Snowdon's Watkin path in the village of Nant Gwynant. It is just a few miles drive to Betws-y-Coed where we will have the Annual Dinner and provides easy access to the other mountains of Snowdonia. The bunkhouse sleeps up to 22 people in 5 bedrooms....
SUMMARY:Dinner Meet 2026 - Snowdonia(15 places avail) - The Gentian Mountain & Hill Walking Club
LOCATION:Snowdonia
END:VEVENT
BEGIN:VEVENT
UID:event_product_457482@webcollect.org.uk
DTSTAMP:20260421T082835Z
ORGANIZER;CN=John Barber:MAILTO:john@thorpecloud.co.uk
DTSTART;VALUE=DATE:20261204
DESCRIPTION:This is a 3 night\, long weekend meet (Friday pm to Monday am) in the NT Gupton Bunkhouse situated near the village of Castlemartin on the Pembrokeshire coast.The bunkhouse sleeps 10 in 5 twin bedrooms\, has a fully equipped kitchen\, a utility room\, sitting room and drying room. Plenty of walking can be experienced straight from the bunkhouse door or after a short drive. The beach at Freshwater...
SUMMARY:Pembrokeshire Coast (10 places avail) - The Gentian Mountain & Hill Walking Club
LOCATION:Pembrokeshire
END:VEVENT
END:VCALENDAR
