BEGIN:VCALENDAR
METHOD:PUBLISH
PRODID:-//webcollect/grafham//NONSGML v1.0//EN
BEGIN:VTIMEZONE
TZID:Europe/London
BEGIN:DAYLIGHT
TZOFFSETFROM:+0000
RRULE:FREQ=YEARLY;BYMONTH=3;BYDAY=-1SU
DTSTART:19810329T010000
TZNAME:BST
TZOFFSETTO:+0100
END:DAYLIGHT
BEGIN:STANDARD
TZOFFSETFROM:+0100
RRULE:FREQ=YEARLY;BYMONTH=10;BYDAY=-1SU
DTSTART:19961027T020000
TZNAME:GMT
TZOFFSETTO:+0000
END:STANDARD
END:VTIMEZONE
BEGIN:VEVENT
UID:event_product_454098@webcollect.org.uk
DTSTAMP:20260421T103251Z
ORGANIZER;CN=GWSC  Office:MAILTO:office@grafham.org
DTSTART;VALUE=DATE:20260401
DESCRIPTION:By purchasing your ticket you are agreeing to the rules for visitors. These can be downloaded here. Key elements of these instructions are summarised in the visitors’ leaflet and below:Personal jacket buoyancy must be worn at all times when on the water.You must have third party insurance of at least £3 million before launching a sailboard or dinghy.Safety. You are responsible for your own...
SUMMARY:Dinghy Sailor or Visitor (Non-Sailing) Day Sailing Ticket Dinghy Day Sailing - Grafham Water Sailing Club
END:VEVENT
END:VCALENDAR
