BEGIN:VCALENDAR
METHOD:PUBLISH
PRODID:-//webcollect/grafham//NONSGML v1.0//EN
BEGIN:VTIMEZONE
TZID:Europe/London
BEGIN:DAYLIGHT
TZOFFSETFROM:+0000
RRULE:FREQ=YEARLY;BYMONTH=3;BYDAY=-1SU
DTSTART:19810329T010000
TZNAME:BST
TZOFFSETTO:+0100
END:DAYLIGHT
BEGIN:STANDARD
TZOFFSETFROM:+0100
RRULE:FREQ=YEARLY;BYMONTH=10;BYDAY=-1SU
DTSTART:19961027T020000
TZNAME:GMT
TZOFFSETTO:+0000
END:STANDARD
END:VTIMEZONE
BEGIN:VEVENT
UID:event_product_455235@webcollect.org.uk
DTSTAMP:20260421T134314Z
ORGANIZER;CN=GWSC  Office:MAILTO:office@grafham.org
DTSTART;TZID=Europe/London:20260502T133000
DTEND;TZID=Europe/London:20260502T153000
DESCRIPTION:Please ensure that you have purchased or already have the appropriate membership required. If you are unsure then please contact the Office. Grafham Goslings is an RYA OnBoard session\, which are aimed at younger club members aged 8 and upwards with no experience and for those sailors who are working towards their RYA Stage 1 & 2 course. These sessions are run by fully qualified instructors....
SUMMARY:Beginner Session Grafham Goslings (4 places avail) - Grafham Water Sailing Club
END:VEVENT
BEGIN:VEVENT
UID:event_product_455320@webcollect.org.uk
DTSTAMP:20260421T134314Z
ORGANIZER;CN=GWSC  Office:MAILTO:office@grafham.org
DTSTART;TZID=Europe/London:20260523T133000
DTEND;TZID=Europe/London:20260523T153000
DESCRIPTION:Please ensure that you have purchased or already have the appropriate membership required. If you are unsure then please contact the Office. Grafham Goslings is an RYA OnBoard session\, which are aimed at younger club members aged 8 and upwards with no experience and for those sailors who are working towards their RYA Stage 1 & 2 course. These sessions are run by fully qualified instructors....
SUMMARY:Beginner Session Grafham Goslings (4 places avail) - Grafham Water Sailing Club
END:VEVENT
BEGIN:VEVENT
UID:event_product_455321@webcollect.org.uk
DTSTAMP:20260421T134314Z
ORGANIZER;CN=GWSC  Office:MAILTO:office@grafham.org
DTSTART;TZID=Europe/London:20260613T133000
DTEND;TZID=Europe/London:20260613T153000
DESCRIPTION:Please ensure that you have purchased or already have the appropriate membership required. If you are unsure then please contact the Office. Grafham Goslings is an RYA OnBoard session\, which are aimed at younger club members aged 8 and upwards with no experience and for those sailors who are working towards their RYA Stage 1 & 2 course. These sessions are run by fully qualified instructors....
SUMMARY:Beginner Session Grafham Goslings (4 places avail) - Grafham Water Sailing Club
END:VEVENT
BEGIN:VEVENT
UID:event_product_455322@webcollect.org.uk
DTSTAMP:20260421T134314Z
ORGANIZER;CN=GWSC  Office:MAILTO:office@grafham.org
DTSTART;TZID=Europe/London:20260627T133000
DTEND;TZID=Europe/London:20260627T153000
DESCRIPTION:Please ensure that you have purchased or already have the appropriate membership required. If you are unsure then please contact the Office. Grafham Goslings is an RYA OnBoard session\, which are aimed at younger club members aged 8 and upwards with no experience and for those sailors who are working towards their RYA Stage 1 & 2 course. These sessions are run by fully qualified instructors....
SUMMARY:Beginner Session Grafham Goslings (4 places avail) - Grafham Water Sailing Club
END:VEVENT
BEGIN:VEVENT
UID:event_product_455323@webcollect.org.uk
DTSTAMP:20260421T134314Z
ORGANIZER;CN=GWSC  Office:MAILTO:office@grafham.org
DTSTART;TZID=Europe/London:20260718T133000
DTEND;TZID=Europe/London:20260718T153000
DESCRIPTION:Please ensure that you have purchased or already have the appropriate membership required. If you are unsure then please contact the Office. Grafham Goslings is an RYA OnBoard session\, which are aimed at younger club members aged 8 and upwards with no experience and for those sailors who are working towards their RYA Stage 1 & 2 course. These sessions are run by fully qualified instructors....
SUMMARY:Beginner Session Grafham Goslings (4 places avail) - Grafham Water Sailing Club
END:VEVENT
BEGIN:VEVENT
UID:event_product_455324@webcollect.org.uk
DTSTAMP:20260421T134314Z
ORGANIZER;CN=GWSC  Office:MAILTO:office@grafham.org
DTSTART;TZID=Europe/London:20260801T133000
DTEND;TZID=Europe/London:20260801T153000
DESCRIPTION:Please ensure that you have purchased or already have the appropriate membership required. If you are unsure then please contact the Office. Grafham Goslings is an RYA OnBoard session\, which are aimed at younger club members aged 8 and upwards with no experience and for those sailors who are working towards their RYA Stage 1 & 2 course. These sessions are run by fully qualified instructors....
SUMMARY:Beginner Session Grafham Goslings (4 places avail) - Grafham Water Sailing Club
END:VEVENT
BEGIN:VEVENT
UID:event_product_455333@webcollect.org.uk
DTSTAMP:20260421T134314Z
ORGANIZER;CN=GWSC  Office:MAILTO:office@grafham.org
DTSTART;TZID=Europe/London:20260803T140000
DTEND;TZID=Europe/London:20260803T163000
DESCRIPTION:Please ensure that you have purchased or already have the appropriate membership required. If you are unsure then please contact the Office. Grafham Goslings is an RYA OnBoard session\, which are aimed at younger club members aged 8 and upwards with no experience and for those sailors who are working towards their RYA Stage 1 & 2 course. These sessions are run by fully qualified instructors....
SUMMARY:Summer Camp - 4 days Grafham Goslings (4 places avail) - Grafham Water Sailing Club
END:VEVENT
BEGIN:VEVENT
UID:event_product_455328@webcollect.org.uk
DTSTAMP:20260421T134314Z
ORGANIZER;CN=GWSC  Office:MAILTO:office@grafham.org
DTSTART;TZID=Europe/London:20260803T140000
DTEND;TZID=Europe/London:20260803T163000
DESCRIPTION:Please ensure that you have purchased or already have the appropriate membership required. If you are unsure then please contact the Office. Grafham Goslings is an RYA OnBoard session\, which are aimed at younger club members aged 8 and upwards with no experience and for those sailors who are working towards their RYA Stage 1 & 2 course. These sessions are run by fully qualified instructors....
SUMMARY:Summer Camp - half day Grafham Goslings (4 places avail) - Grafham Water Sailing Club
END:VEVENT
BEGIN:VEVENT
UID:event_product_455329@webcollect.org.uk
DTSTAMP:20260421T134314Z
ORGANIZER;CN=GWSC  Office:MAILTO:office@grafham.org
DTSTART;TZID=Europe/London:20260804T140000
DTEND;TZID=Europe/London:20260804T163000
DESCRIPTION:Please ensure that you have purchased or already have the appropriate membership required. If you are unsure then please contact the Office. Grafham Goslings is an RYA OnBoard session\, which are aimed at younger club members aged 8 and upwards with no experience and for those sailors who are working towards their RYA Stage 1 & 2 course. These sessions are run by fully qualified instructors....
SUMMARY:Summer Camp - half day Grafham Goslings (4 places avail) - Grafham Water Sailing Club
END:VEVENT
BEGIN:VEVENT
UID:event_product_455330@webcollect.org.uk
DTSTAMP:20260421T134314Z
ORGANIZER;CN=GWSC  Office:MAILTO:office@grafham.org
DTSTART;TZID=Europe/London:20260805T140000
DTEND;TZID=Europe/London:20260805T163000
DESCRIPTION:Please ensure that you have purchased or already have the appropriate membership required. If you are unsure then please contact the Office. Grafham Goslings is an RYA OnBoard session\, which are aimed at younger club members aged 8 and upwards with no experience and for those sailors who are working towards their RYA Stage 1 & 2 course. These sessions are run by fully qualified instructors....
SUMMARY:Summer Camp - half day Grafham Goslings (4 places avail) - Grafham Water Sailing Club
END:VEVENT
BEGIN:VEVENT
UID:event_product_455331@webcollect.org.uk
DTSTAMP:20260421T134314Z
ORGANIZER;CN=GWSC  Office:MAILTO:office@grafham.org
DTSTART;TZID=Europe/London:20260806T140000
DTEND;TZID=Europe/London:20260806T163000
DESCRIPTION:Please ensure that you have purchased or already have the appropriate membership required. If you are unsure then please contact the Office. Grafham Goslings is an RYA OnBoard session\, which are aimed at younger club members aged 8 and upwards with no experience and for those sailors who are working towards their RYA Stage 1 & 2 course. These sessions are run by fully qualified instructors....
SUMMARY:Summer Camp - half day Grafham Goslings (4 places avail) - Grafham Water Sailing Club
END:VEVENT
BEGIN:VEVENT
UID:event_product_455325@webcollect.org.uk
DTSTAMP:20260421T134314Z
ORGANIZER;CN=GWSC  Office:MAILTO:office@grafham.org
DTSTART;TZID=Europe/London:20260815T133000
DTEND;TZID=Europe/London:20260815T153000
DESCRIPTION:Please ensure that you have purchased or already have the appropriate membership required. If you are unsure then please contact the Office. Grafham Goslings is an RYA OnBoard session\, which are aimed at younger club members aged 8 and upwards with no experience and for those sailors who are working towards their RYA Stage 1 & 2 course. These sessions are run by fully qualified instructors....
SUMMARY:Beginner Session Grafham Goslings (4 places avail) - Grafham Water Sailing Club
END:VEVENT
BEGIN:VEVENT
UID:event_product_455326@webcollect.org.uk
DTSTAMP:20260421T134314Z
ORGANIZER;CN=GWSC  Office:MAILTO:office@grafham.org
DTSTART;TZID=Europe/London:20260912T133000
DTEND;TZID=Europe/London:20260912T153000
DESCRIPTION:Please ensure that you have purchased or already have the appropriate membership required. If you are unsure then please contact the Office. Grafham Goslings is an RYA OnBoard session\, which are aimed at younger club members aged 8 and upwards with no experience and for those sailors who are working towards their RYA Stage 1 & 2 course. These sessions are run by fully qualified instructors....
SUMMARY:Beginner Session Grafham Goslings (4 places avail) - Grafham Water Sailing Club
END:VEVENT
BEGIN:VEVENT
UID:event_product_455327@webcollect.org.uk
DTSTAMP:20260421T134314Z
ORGANIZER;CN=GWSC  Office:MAILTO:office@grafham.org
DTSTART;TZID=Europe/London:20260926T133000
DTEND;TZID=Europe/London:20260926T153000
DESCRIPTION:Please ensure that you have purchased or already have the appropriate membership required. If you are unsure then please contact the Office. Grafham Goslings is an RYA OnBoard session\, which are aimed at younger club members aged 8 and upwards with no experience and for those sailors who are working towards their RYA Stage 1 & 2 course. These sessions are run by fully qualified instructors....
SUMMARY:Beginner Session Grafham Goslings (4 places avail) - Grafham Water Sailing Club
END:VEVENT
END:VCALENDAR
