BEGIN:VCALENDAR
METHOD:PUBLISH
PRODID:-//webcollect/grafham//NONSGML v1.0//EN
BEGIN:VTIMEZONE
TZID:Europe/London
BEGIN:DAYLIGHT
TZOFFSETFROM:+0000
RRULE:FREQ=YEARLY;BYMONTH=3;BYDAY=-1SU
DTSTART:19810329T010000
TZNAME:BST
TZOFFSETTO:+0100
END:DAYLIGHT
BEGIN:STANDARD
TZOFFSETFROM:+0100
RRULE:FREQ=YEARLY;BYMONTH=10;BYDAY=-1SU
DTSTART:19961027T020000
TZNAME:GMT
TZOFFSETTO:+0000
END:STANDARD
END:VTIMEZONE
BEGIN:VEVENT
UID:event_product_439062@webcollect.org.uk
DTSTAMP:20260423T082630Z
ORGANIZER;CN=GWSC  Office:MAILTO:office@grafham.org
DTSTART;VALUE=DATE:20260425
DESCRIPTION:The event is open to all boats of the International Moth and Switch classes.Notice of RaceSailing InstructionsRYA Appendix T ArbitrationPre Event GuidancePlease note that event entry includes an evening meal on the Saturday so please make your choice when entering. Desserts will be available to book on Saturday morning directly with the Cafe and will be £3 each. Additional main courses will...
SUMMARY:Member Event Entry International Moth Inlands 2026(2 places avail) - Grafham Water Sailing Club
END:VEVENT
BEGIN:VEVENT
UID:event_product_459140@webcollect.org.uk
DTSTAMP:20260423T082630Z
ORGANIZER;CN=GWSC  Office:MAILTO:office@grafham.org
DTSTART;VALUE=DATE:20260425
DESCRIPTION:The event is open to all boats of the International Moth and Switch classes.Notice of RaceSailing InstructionsRYA Appendix T ArbitrationPre Event GuidancePlease note that event entry includes an evening meal on the Saturday so please make your choice when entering. Desserts will be available to book on Saturday morning directly with the Cafe and will be £3 each. Additional main courses will...
SUMMARY:Member Event Late Entry International Moth Inlands 2026 - Grafham Water Sailing Club
END:VEVENT
BEGIN:VEVENT
UID:event_product_459139@webcollect.org.uk
DTSTAMP:20260423T082630Z
ORGANIZER;CN=GWSC  Office:MAILTO:office@grafham.org
DTSTART;VALUE=DATE:20260425
DESCRIPTION:The event is open to all boats of the International Moth and Switch classes.Notice of RaceSailing InstructionsRYA Appendix T ArbitrationPre Event GuidancePlease note that event entry includes an evening meal on the Saturday so please make your choice when entering. Desserts will be available to book on Saturday morning directly with the Cafe and will be £3 each. Additional main courses will...
SUMMARY:Visitor Event Entry International Moth Inlands 2026(27 places avail) - Grafham Water Sailing Club
END:VEVENT
BEGIN:VEVENT
UID:event_product_459141@webcollect.org.uk
DTSTAMP:20260423T082630Z
ORGANIZER;CN=GWSC  Office:MAILTO:office@grafham.org
DTSTART;VALUE=DATE:20260425
DESCRIPTION:The event is open to all boats of the International Moth and Switch classes.Notice of RaceSailing InstructionsRYA Appendix T ArbitrationPre Event GuidancePlease note that event entry includes an evening meal on the Saturday so please make your choice when entering. Desserts will be available to book on Saturday morning directly with the Cafe and will be £3 each. Additional main courses will...
SUMMARY:Visitor Event Late Entry International Moth Inlands 2026 - Grafham Water Sailing Club
END:VEVENT
END:VCALENDAR
