BEGIN:VCALENDAR
METHOD:PUBLISH
PRODID:-//webcollect/grafham//NONSGML v1.0//EN
BEGIN:VTIMEZONE
TZID:Europe/London
BEGIN:DAYLIGHT
TZOFFSETFROM:+0000
RRULE:FREQ=YEARLY;BYMONTH=3;BYDAY=-1SU
DTSTART:19810329T010000
TZNAME:BST
TZOFFSETTO:+0100
END:DAYLIGHT
BEGIN:STANDARD
TZOFFSETFROM:+0100
RRULE:FREQ=YEARLY;BYMONTH=10;BYDAY=-1SU
DTSTART:19961027T020000
TZNAME:GMT
TZOFFSETTO:+0000
END:STANDARD
END:VTIMEZONE
BEGIN:VEVENT
UID:event_product_462069@webcollect.org.uk
DTSTAMP:20260423T093647Z
ORGANIZER;CN=GWSC  Office:MAILTO:office@grafham.org
DTSTART;VALUE=DATE:20260516
DESCRIPTION:Please pre-book your meals for this event below. If you have any dietary requests please book in and then send us an email so we can add a note to your booking for the Caterers. MenuChicken Curry served with Rice and NaanLasagna\, Chips and Salad Vegetarian Lasagna\, Chips and Salad1 course £14.50
SUMMARY:Chicken Curry Meal Bookings for Phantom Inlands 2026 - Grafham Water Sailing Club
END:VEVENT
BEGIN:VEVENT
UID:event_product_462065@webcollect.org.uk
DTSTAMP:20260423T093647Z
ORGANIZER;CN=GWSC  Office:MAILTO:office@grafham.org
DTSTART;VALUE=DATE:20260516
DESCRIPTION:Please pre-book your meals for this event below. If you have any dietary requests please book in and then send us an email so we can add a note to your booking for the Caterers. MenuChicken Curry served with Rice and NaanLasagna\, Chips and Salad Vegetarian Lasagna\, Chips and Salad1 course £14.50
SUMMARY:Lasagna Meal Bookings for Phantom Inlands 2026 - Grafham Water Sailing Club
END:VEVENT
BEGIN:VEVENT
UID:event_product_462063@webcollect.org.uk
DTSTAMP:20260423T093647Z
ORGANIZER;CN=GWSC  Office:MAILTO:office@grafham.org
DTSTART;VALUE=DATE:20260516
DESCRIPTION:Please pre-book your meals for this event below. If you have any dietary requests please book in and then send us an email so we can add a note to your booking for the Caterers. MenuChicken Curry served with Rice and NaanLasagna\, Chips and Salad Vegetarian Lasagna\, Chips and Salad1 course £14.50
SUMMARY:Vegetarian Lasagna Meal Bookings for Phantom Inlands 2026 - Grafham Water Sailing Club
END:VEVENT
END:VCALENDAR
