BEGIN:VCALENDAR
METHOD:PUBLISH
PRODID:-//webcollect/grafham//NONSGML v1.0//EN
BEGIN:VTIMEZONE
TZID:Europe/London
BEGIN:DAYLIGHT
TZOFFSETFROM:+0000
RRULE:FREQ=YEARLY;BYMONTH=3;BYDAY=-1SU
DTSTART:19810329T010000
TZNAME:BST
TZOFFSETTO:+0100
END:DAYLIGHT
BEGIN:STANDARD
TZOFFSETFROM:+0100
RRULE:FREQ=YEARLY;BYMONTH=10;BYDAY=-1SU
DTSTART:19961027T020000
TZNAME:GMT
TZOFFSETTO:+0000
END:STANDARD
END:VTIMEZONE
BEGIN:VEVENT
UID:event_product_410460@webcollect.org.uk
DTSTAMP:20260423T084258Z
ORGANIZER;CN=Grafham Water Sailing Club:MAILTO:office@grafham.org
DTSTART;VALUE=DATE:20270331
DESCRIPTION:How to pay your Membership in instalments - click hereFees for Full payment until 30th April 2026 - click hereFees for Monthly Instalments available 27th March - 15th April 2026 only - click hereFees for Full payment after 30th April 2026 - click hereApplication form for emailing - click here
SUMMARY:Membership Fees in Full 2026-2027 - Grafham Water Sailing Club
END:VEVENT
END:VCALENDAR
