BEGIN:VCALENDAR
METHOD:PUBLISH
PRODID:-//webcollect/grafham//NONSGML v1.0//EN
BEGIN:VTIMEZONE
TZID:Europe/London
BEGIN:DAYLIGHT
TZOFFSETFROM:+0000
RRULE:FREQ=YEARLY;BYMONTH=3;BYDAY=-1SU
DTSTART:19810329T010000
TZNAME:BST
TZOFFSETTO:+0100
END:DAYLIGHT
BEGIN:STANDARD
TZOFFSETFROM:+0100
RRULE:FREQ=YEARLY;BYMONTH=10;BYDAY=-1SU
DTSTART:19961027T020000
TZNAME:GMT
TZOFFSETTO:+0000
END:STANDARD
END:VTIMEZONE
BEGIN:VEVENT
UID:event_product_462877@webcollect.org.uk
DTSTAMP:20260421T102836Z
ORGANIZER;CN=GWSC  Office:MAILTO:office@grafham.org
DTSTART;VALUE=DATE:20260504
DESCRIPTION:This is the Club’s opportunity to remember those members who have sadly passed away recently.The event will consist of three back-to-back handicap races using the “Wednesday evening” format. The overall winner will be awarded the “Grafham Past Masters” trophy. The sailing will be followed by lunch on shore. This is a Club event.There will be no entry fee for the Regatta\, but donations to MagPas...
SUMMARY:Fast Handicap 997 and below Past Masters Regatta - Grafham Water Sailing Club
END:VEVENT
BEGIN:VEVENT
UID:event_product_462879@webcollect.org.uk
DTSTAMP:20260421T102836Z
ORGANIZER;CN=GWSC  Office:MAILTO:office@grafham.org
DTSTART;VALUE=DATE:20260504
DESCRIPTION:This is the Club’s opportunity to remember those members who have sadly passed away recently.The event will consist of three back-to-back handicap races using the “Wednesday evening” format. The overall winner will be awarded the “Grafham Past Masters” trophy. The sailing will be followed by lunch on shore. This is a Club event.There will be no entry fee for the Regatta\, but donations to MagPas...
SUMMARY:Slow Single Handed Handicap 998 and above Past Masters Regatta - Grafham Water Sailing Club
END:VEVENT
BEGIN:VEVENT
UID:event_product_462878@webcollect.org.uk
DTSTAMP:20260421T102836Z
ORGANIZER;CN=GWSC  Office:MAILTO:office@grafham.org
DTSTART;VALUE=DATE:20260504
DESCRIPTION:This is the Club’s opportunity to remember those members who have sadly passed away recently.The event will consist of three back-to-back handicap races using the “Wednesday evening” format. The overall winner will be awarded the “Grafham Past Masters” trophy. The sailing will be followed by lunch on shore. This is a Club event.There will be no entry fee for the Regatta\, but donations to MagPas...
SUMMARY:Slow Two Handed Handicap 998 and above Past Masters Regatta - Grafham Water Sailing Club
END:VEVENT
END:VCALENDAR
