BEGIN:VCALENDAR
METHOD:PUBLISH
PRODID:-//webcollect/grafham//NONSGML v1.0//EN
BEGIN:VTIMEZONE
TZID:Europe/London
BEGIN:DAYLIGHT
TZOFFSETFROM:+0000
RRULE:FREQ=YEARLY;BYMONTH=3;BYDAY=-1SU
DTSTART:19810329T010000
TZNAME:BST
TZOFFSETTO:+0100
END:DAYLIGHT
BEGIN:STANDARD
TZOFFSETFROM:+0100
RRULE:FREQ=YEARLY;BYMONTH=10;BYDAY=-1SU
DTSTART:19961027T020000
TZNAME:GMT
TZOFFSETTO:+0000
END:STANDARD
END:VTIMEZONE
BEGIN:VEVENT
UID:event_product_439064@webcollect.org.uk
DTSTAMP:20260423T083357Z
ORGANIZER;CN=GWSC  Office:MAILTO:office@grafham.org
DTSTART;VALUE=DATE:20260516
DESCRIPTION:The entry is open to all boats which have a valid measurement certificate issued by the Phantom Class Association.Notice of Race - click hereSailing Instructions - click hereThere will be a meal on Saturday evening\, please book when entering the event below. Add your entry to your basket then click on number 2 for meal bookings.
SUMMARY:Member Event Entry Phantom Inlands 2026 - Grafham Water Sailing Club
END:VEVENT
BEGIN:VEVENT
UID:event_product_462062@webcollect.org.uk
DTSTAMP:20260423T083357Z
ORGANIZER;CN=GWSC  Office:MAILTO:office@grafham.org
DTSTART;VALUE=DATE:20260516
DESCRIPTION:The entry is open to all boats which have a valid measurement certificate issued by the Phantom Class Association.Notice of Race - click hereSailing Instructions - click hereThere will be a meal on Saturday evening\, please book when entering the event below. Add your entry to your basket then click on number 2 for meal bookings.
SUMMARY:Visitor Event Entry Phantom Inlands 2026 - Grafham Water Sailing Club
END:VEVENT
END:VCALENDAR
