BEGIN:VCALENDAR
METHOD:PUBLISH
PRODID:-//webcollect/grafham//NONSGML v1.0//EN
BEGIN:VTIMEZONE
TZID:Europe/London
BEGIN:DAYLIGHT
TZOFFSETFROM:+0000
RRULE:FREQ=YEARLY;BYMONTH=3;BYDAY=-1SU
DTSTART:19810329T010000
TZNAME:BST
TZOFFSETTO:+0100
END:DAYLIGHT
BEGIN:STANDARD
TZOFFSETFROM:+0100
RRULE:FREQ=YEARLY;BYMONTH=10;BYDAY=-1SU
DTSTART:19961027T020000
TZNAME:GMT
TZOFFSETTO:+0000
END:STANDARD
END:VTIMEZONE
BEGIN:VEVENT
UID:event_product_454041@webcollect.org.uk
DTSTAMP:20260421T134505Z
ORGANIZER;CN=GWSC  Office:MAILTO:office@grafham.org
DTSTART;TZID=Europe/London:20260509T093000
DTEND;TZID=Europe/London:20260509T164500
DESCRIPTION:The Level 1 and 2 courses will teach you the very basic skills of learning to sail. Membership is required to attend our courses. Please ensure that you have purchased or already have the appropriate membership for the course. If you are unsure then please contact the Office. Dinghy sailing is a very active sport. At times it may feel like a gym workout. For example\, you will need to be able to...
SUMMARY:2 Day Course - 9 & 10 May RYA Adult Level 1 - Start Sailing(full) - Grafham Water Sailing Club
END:VEVENT
END:VCALENDAR
