BEGIN:VCALENDAR
METHOD:PUBLISH
PRODID:-//webcollect/grafham//NONSGML v1.0//EN
BEGIN:VTIMEZONE
TZID:Europe/London
BEGIN:DAYLIGHT
TZOFFSETFROM:+0000
RRULE:FREQ=YEARLY;BYMONTH=3;BYDAY=-1SU
DTSTART:19810329T010000
TZNAME:BST
TZOFFSETTO:+0100
END:DAYLIGHT
BEGIN:STANDARD
TZOFFSETFROM:+0100
RRULE:FREQ=YEARLY;BYMONTH=10;BYDAY=-1SU
DTSTART:19961027T020000
TZNAME:GMT
TZOFFSETTO:+0000
END:STANDARD
END:VTIMEZONE
BEGIN:VEVENT
UID:event_product_452556@webcollect.org.uk
DTSTAMP:20260421T121102Z
ORGANIZER;CN=GWSC  Office:MAILTO:office@grafham.org
DTSTART;TZID=Europe/London:20260425T100000
DTEND;TZID=Europe/London:20260425T110000
DESCRIPTION:Please ensure that you have purchased or already have the appropriate membership required. If you are unsure then please contact the Office. RYA Dinghy Taster for Adults and YouthsThese run on selected Saturdays and are available at £35 per hour. We will allocate the time when the booking is confirmed. If you have a preference\, please contact us before booking. You can take part in one Taster...
SUMMARY:Taster Session/Sailing Tuition RYA Dinghy Taster and Sailing Tuition(full) - Grafham Water Sailing Club
END:VEVENT
BEGIN:VEVENT
UID:event_product_456497@webcollect.org.uk
DTSTAMP:20260421T121102Z
ORGANIZER;CN=GWSC  Office:MAILTO:office@grafham.org
DTSTART;TZID=Europe/London:20260425T111500
DTEND;TZID=Europe/London:20260425T121500
DESCRIPTION:Please ensure that you have purchased or already have the appropriate membership required. If you are unsure then please contact the Office. RYA Dinghy Taster for Adults and YouthsThese run on selected Saturdays and are available at £35 per hour. We will allocate the time when the booking is confirmed. If you have a preference\, please contact us before booking. You can take part in one Taster...
SUMMARY:Taster Session/Sailing Tuition RYA Dinghy Taster and Sailing Tuition(full) - Grafham Water Sailing Club
END:VEVENT
BEGIN:VEVENT
UID:event_product_462779@webcollect.org.uk
DTSTAMP:20260421T121102Z
ORGANIZER;CN=GWSC  Office:MAILTO:office@grafham.org
DTSTART;TZID=Europe/London:20260425T130000
DTEND;TZID=Europe/London:20260425T140000
DESCRIPTION:Please ensure that you have purchased or already have the appropriate membership required. If you are unsure then please contact the Office. RYA Dinghy Taster for Adults and YouthsThese run on selected Saturdays and are available at £35 per hour. We will allocate the time when the booking is confirmed. If you have a preference\, please contact us before booking. You can take part in one Taster...
SUMMARY:Taster Session/Sailing Tuition RYA Dinghy Taster and Sailing Tuition(full) - Grafham Water Sailing Club
END:VEVENT
BEGIN:VEVENT
UID:event_product_463027@webcollect.org.uk
DTSTAMP:20260421T121102Z
ORGANIZER;CN=GWSC  Office:MAILTO:office@grafham.org
DTSTART;TZID=Europe/London:20260425T141500
DTEND;TZID=Europe/London:20260425T151500
DESCRIPTION:Please ensure that you have purchased or already have the appropriate membership required. If you are unsure then please contact the Office. RYA Dinghy Taster for Adults and YouthsThese run on selected Saturdays and are available at £35 per hour. We will allocate the time when the booking is confirmed. If you have a preference\, please contact us before booking. You can take part in one Taster...
SUMMARY:Taster Session/Sailing Tuition RYA Dinghy Taster and Sailing Tuition(1 places avail) - Grafham Water Sailing Club
END:VEVENT
BEGIN:VEVENT
UID:event_product_452559@webcollect.org.uk
DTSTAMP:20260421T121102Z
ORGANIZER;CN=GWSC  Office:MAILTO:office@grafham.org
DTSTART;TZID=Europe/London:20260523T100000
DESCRIPTION:Please ensure that you have purchased or already have the appropriate membership required. If you are unsure then please contact the Office. RYA Dinghy Taster for Adults and YouthsThese run on selected Saturdays and are available at £35 per hour. We will allocate the time when the booking is confirmed. If you have a preference\, please contact us before booking. You can take part in one Taster...
SUMMARY:Taster Session/Sailing Tuition RYA Dinghy Taster and Sailing Tuition(4 places avail) - Grafham Water Sailing Club
END:VEVENT
END:VCALENDAR
