BEGIN:VCALENDAR
METHOD:PUBLISH
PRODID:-//webcollect/grafham//NONSGML v1.0//EN
BEGIN:VTIMEZONE
TZID:Europe/London
BEGIN:DAYLIGHT
TZOFFSETFROM:+0000
RRULE:FREQ=YEARLY;BYMONTH=3;BYDAY=-1SU
DTSTART:19810329T010000
TZNAME:BST
TZOFFSETTO:+0100
END:DAYLIGHT
BEGIN:STANDARD
TZOFFSETFROM:+0100
RRULE:FREQ=YEARLY;BYMONTH=10;BYDAY=-1SU
DTSTART:19961027T020000
TZNAME:GMT
TZOFFSETTO:+0000
END:STANDARD
END:VTIMEZONE
BEGIN:VEVENT
UID:event_product_454038@webcollect.org.uk
DTSTAMP:20260421T134956Z
ORGANIZER;CN=GWSC  Office:MAILTO:office@grafham.org
DTSTART;TZID=Europe/London:20260502T093000
DTEND;TZID=Europe/London:20260502T164500
DESCRIPTION:Please ensure that you have purchased or already have the appropriate membership required. If you are unsure then please contact the Office. This two-day entry level course provides the skills and background knowledge needed to drive a powerboat and is the basis of the International Certificate of Competence (ICC).It focuses on low-speed close quarters handling\, man overboard recovery\, an...
SUMMARY:PB2 Two Day Course - 2/3 May RYA Powerboat Handling Course - RYA Level 2(2 places avail) - Grafham Water Sailing Club
END:VEVENT
BEGIN:VEVENT
UID:event_product_454039@webcollect.org.uk
DTSTAMP:20260421T134956Z
ORGANIZER;CN=GWSC  Office:MAILTO:office@grafham.org
DTSTART;TZID=Europe/London:20260627T093000
DTEND;TZID=Europe/London:20260627T164500
DESCRIPTION:Please ensure that you have purchased or already have the appropriate membership required. If you are unsure then please contact the Office. This two-day entry level course provides the skills and background knowledge needed to drive a powerboat and is the basis of the International Certificate of Competence (ICC).It focuses on low-speed close quarters handling\, man overboard recovery\, an...
SUMMARY:PB2 Two Day Course - 27/28 June RYA Powerboat Handling Course - RYA Level 2(3 places avail) - Grafham Water Sailing Club
END:VEVENT
END:VCALENDAR
