BEGIN:VCALENDAR
METHOD:PUBLISH
PRODID:-//webcollect/grafham//NONSGML v1.0//EN
BEGIN:VTIMEZONE
TZID:Europe/London
BEGIN:DAYLIGHT
TZOFFSETFROM:+0000
RRULE:FREQ=YEARLY;BYMONTH=3;BYDAY=-1SU
DTSTART:19810329T010000
TZNAME:BST
TZOFFSETTO:+0100
END:DAYLIGHT
BEGIN:STANDARD
TZOFFSETFROM:+0100
RRULE:FREQ=YEARLY;BYMONTH=10;BYDAY=-1SU
DTSTART:19961027T020000
TZNAME:GMT
TZOFFSETTO:+0000
END:STANDARD
END:VTIMEZONE
BEGIN:VEVENT
UID:event_product_352478@webcollect.org.uk
DTSTAMP:20260423T095211Z
ORGANIZER;CN=GWSC  Office:MAILTO:office@grafham.org
DTSTART;VALUE=DATE:20260401
DESCRIPTION:We can offer a one day direct assessment for experienced power boaters who would like to be certified as PB2.These are arranged on request but minimum numbers will apply. Please contact the Office.Booking ConditionsJoining Instructions
SUMMARY:Dates on request - DO NOT BOOK RYA Powerboat Handling Course - RYA Level 2 One Day Assessment - Grafham Water Sailing Club
END:VEVENT
BEGIN:VEVENT
UID:event_product_462747@webcollect.org.uk
DTSTAMP:20260423T095211Z
ORGANIZER;CN=GWSC  Office:MAILTO:office@grafham.org
DTSTART;TZID=Europe/London:20260505T103000
DESCRIPTION:We can offer a one day direct assessment for experienced power boaters who would like to be certified as PB2.These are arranged on request but minimum numbers will apply. Please contact the Office.Booking ConditionsJoining Instructions
SUMMARY:Direct Assessment - Private Session RYA Powerboat Handling Course - RYA Level 2 One Day Assessment(full) - Grafham Water Sailing Club
END:VEVENT
END:VCALENDAR
