BEGIN:VCALENDAR
METHOD:PUBLISH
PRODID:-//webcollect/grafham//NONSGML v1.0//EN
BEGIN:VTIMEZONE
TZID:Europe/London
BEGIN:DAYLIGHT
TZOFFSETFROM:+0000
RRULE:FREQ=YEARLY;BYMONTH=3;BYDAY=-1SU
DTSTART:19810329T010000
TZNAME:BST
TZOFFSETTO:+0100
END:DAYLIGHT
BEGIN:STANDARD
TZOFFSETFROM:+0100
RRULE:FREQ=YEARLY;BYMONTH=10;BYDAY=-1SU
DTSTART:19961027T020000
TZNAME:GMT
TZOFFSETTO:+0000
END:STANDARD
END:VTIMEZONE
BEGIN:VEVENT
UID:event_product_455336@webcollect.org.uk
DTSTAMP:20260423T083357Z
ORGANIZER;CN=GWSC  Office:MAILTO:office@grafham.org
DTSTART;TZID=Europe/London:20260401T093000
DTEND;TZID=Europe/London:20260401T164500
DESCRIPTION:Please ensure that you have purchased or already have the appropriate membership required. If you are unsure then please contact the Office. This course covers the skills and techniques applicable to providing rescue cover at the club or when assisting with racing events.We will practise rescuing dinghies\, catamarans and windsurfers\, as well as introducing basic elements of race management and...
SUMMARY:Dates on Request - DO NOT BOOK THIS RYA Safety Boat Course - Grafham Water Sailing Club
END:VEVENT
END:VCALENDAR
