BEGIN:VCALENDAR
METHOD:PUBLISH
PRODID:-//webcollect/grafham//NONSGML v1.0//EN
BEGIN:VTIMEZONE
TZID:Europe/London
BEGIN:DAYLIGHT
TZOFFSETFROM:+0000
RRULE:FREQ=YEARLY;BYMONTH=3;BYDAY=-1SU
DTSTART:19810329T010000
TZNAME:BST
TZOFFSETTO:+0100
END:DAYLIGHT
BEGIN:STANDARD
TZOFFSETFROM:+0100
RRULE:FREQ=YEARLY;BYMONTH=10;BYDAY=-1SU
DTSTART:19961027T020000
TZNAME:GMT
TZOFFSETTO:+0000
END:STANDARD
END:VTIMEZONE
BEGIN:VEVENT
UID:event_product_352471@webcollect.org.uk
DTSTAMP:20260423T083428Z
ORGANIZER;CN=GWSC  Office:MAILTO:office@grafham.org
DTSTART;TZID=Europe/London:20260401T093000
DTEND;TZID=Europe/London:20260401T164500
DESCRIPTION:Please ensure that you have purchased or already have the appropriate membership required. If you are unsure then please contact the Office. This course is an introduction to boating techniques for launching and recovering a boat from a road trailer\, everyday boat handling and the use of safety equipment.This course is run on request. Please contact the Office for available dates.Please note...
SUMMARY:Dates on request RYA Start Powerboating Course - RYA Level 1 - Grafham Water Sailing Club
END:VEVENT
END:VCALENDAR
