BEGIN:VCALENDAR
METHOD:PUBLISH
PRODID:-//webcollect/grafham//NONSGML v1.0//EN
BEGIN:VTIMEZONE
TZID:Europe/London
BEGIN:DAYLIGHT
TZOFFSETFROM:+0000
RRULE:FREQ=YEARLY;BYMONTH=3;BYDAY=-1SU
DTSTART:19810329T010000
TZNAME:BST
TZOFFSETTO:+0100
END:DAYLIGHT
BEGIN:STANDARD
TZOFFSETFROM:+0100
RRULE:FREQ=YEARLY;BYMONTH=10;BYDAY=-1SU
DTSTART:19961027T020000
TZNAME:GMT
TZOFFSETTO:+0000
END:STANDARD
END:VTIMEZONE
BEGIN:VEVENT
UID:event_product_454055@webcollect.org.uk
DTSTAMP:20260421T135427Z
ORGANIZER;CN=GWSC  Office:MAILTO:office@grafham.org
DTSTART;VALUE=DATE:20270331
DESCRIPTION:Please ensure that you have purchased or already have the appropriate membership required. If you are unsure then please contact the Office. RYA Windsurfing Taster SessionAn introduction to Windsurfing for Youths and Adults. We strongly advise that you wear a wetsuit and boots\, which aren't provided. Boards and buoyancy aids are included in the price. You may complete one Taster session prior...
SUMMARY:1.5 hour session RYA Windsurfing Taster(full) - Grafham Water Sailing Club
END:VEVENT
END:VCALENDAR
