BEGIN:VCALENDAR
METHOD:PUBLISH
PRODID:-//webcollect/grafham//NONSGML v1.0//EN
BEGIN:VTIMEZONE
TZID:Europe/London
BEGIN:DAYLIGHT
TZOFFSETFROM:+0000
RRULE:FREQ=YEARLY;BYMONTH=3;BYDAY=-1SU
DTSTART:19810329T010000
TZNAME:BST
TZOFFSETTO:+0100
END:DAYLIGHT
BEGIN:STANDARD
TZOFFSETFROM:+0100
RRULE:FREQ=YEARLY;BYMONTH=10;BYDAY=-1SU
DTSTART:19961027T020000
TZNAME:GMT
TZOFFSETTO:+0000
END:STANDARD
END:VTIMEZONE
BEGIN:VEVENT
UID:event_product_454059@webcollect.org.uk
DTSTAMP:20260421T134121Z
ORGANIZER;CN=GWSC  Office:MAILTO:office@grafham.org
DTSTART;VALUE=DATE:20270331
DESCRIPTION:Please ensure that you have purchased or already have the appropriate membership required. If you are unsure then please contact the Office. An introduction to Wingfoiling for Youths and Adults who have already completed a Wingsurfing session.Wetsuits and boots are compulsory\, however\, not provided. All other equipment including buoyancy aid and helmet are included. The sessions are for up to 2...
SUMMARY:1.5 hour session RYA Wing Foiling Taster(1 places avail) - Grafham Water Sailing Club
END:VEVENT
END:VCALENDAR
