BEGIN:VCALENDAR
METHOD:PUBLISH
PRODID:-//webcollect/grafham//NONSGML v1.0//EN
BEGIN:VTIMEZONE
TZID:Europe/London
BEGIN:DAYLIGHT
TZOFFSETFROM:+0000
RRULE:FREQ=YEARLY;BYMONTH=3;BYDAY=-1SU
DTSTART:19810329T010000
TZNAME:BST
TZOFFSETTO:+0100
END:DAYLIGHT
BEGIN:STANDARD
TZOFFSETFROM:+0100
RRULE:FREQ=YEARLY;BYMONTH=10;BYDAY=-1SU
DTSTART:19961027T020000
TZNAME:GMT
TZOFFSETTO:+0000
END:STANDARD
END:VTIMEZONE
BEGIN:VEVENT
UID:event_product_448739@webcollect.org.uk
DTSTAMP:20260421T134834Z
ORGANIZER;CN=GWSC  Office:MAILTO:office@grafham.org
DTSTART;TZID=Europe/London:20260525T100000
DTEND;TZID=Europe/London:20260525T163000
DESCRIPTION:Please ensure that you have purchased or already have the appropriate membership required. If you are unsure then please contact the Office. On this course you will go from beginner to confident sailor in an intensive week long course.By the end of the Stage 1 course\, you will have a basic understanding of how a boat sails\, and some experience of steering and handling the boat. By the end of...
SUMMARY:Stage One and Two - 5 Day Course 25th - 29th May RYA Youth Beginner Sailing Course - Stage 1 & 2(5 places avail) - Grafham Water Sailing Club
END:VEVENT
BEGIN:VEVENT
UID:event_product_448841@webcollect.org.uk
DTSTAMP:20260421T134834Z
ORGANIZER;CN=GWSC  Office:MAILTO:office@grafham.org
DTSTART;TZID=Europe/London:20260720T100000
DTEND;TZID=Europe/London:20260720T163000
DESCRIPTION:Please ensure that you have purchased or already have the appropriate membership required. If you are unsure then please contact the Office. On this course you will go from beginner to confident sailor in an intensive week long course.By the end of the Stage 1 course\, you will have a basic understanding of how a boat sails\, and some experience of steering and handling the boat. By the end of...
SUMMARY:Stage One and Two - 5 Day Course 20th July - 24th July RYA Youth Beginner Sailing Course - Stage 1 & 2(6 places avail) - Grafham Water Sailing Club
END:VEVENT
BEGIN:VEVENT
UID:event_product_448842@webcollect.org.uk
DTSTAMP:20260421T134834Z
ORGANIZER;CN=GWSC  Office:MAILTO:office@grafham.org
DTSTART;TZID=Europe/London:20260727T100000
DTEND;TZID=Europe/London:20260727T163000
DESCRIPTION:Please ensure that you have purchased or already have the appropriate membership required. If you are unsure then please contact the Office. On this course you will go from beginner to confident sailor in an intensive week long course.By the end of the Stage 1 course\, you will have a basic understanding of how a boat sails\, and some experience of steering and handling the boat. By the end of...
SUMMARY:Stage One and Two - 5 Day Course 27th July - 31st July RYA Youth Beginner Sailing Course - Stage 1 & 2(6 places avail) - Grafham Water Sailing Club
END:VEVENT
BEGIN:VEVENT
UID:event_product_448843@webcollect.org.uk
DTSTAMP:20260421T134834Z
ORGANIZER;CN=GWSC  Office:MAILTO:office@grafham.org
DTSTART;TZID=Europe/London:20260810T100000
DTEND;TZID=Europe/London:20260810T163000
DESCRIPTION:Please ensure that you have purchased or already have the appropriate membership required. If you are unsure then please contact the Office. On this course you will go from beginner to confident sailor in an intensive week long course.By the end of the Stage 1 course\, you will have a basic understanding of how a boat sails\, and some experience of steering and handling the boat. By the end of...
SUMMARY:Stage One and Two - 5 Day Course 10th Aug - 14th Aug RYA Youth Beginner Sailing Course - Stage 1 & 2(6 places avail) - Grafham Water Sailing Club
END:VEVENT
END:VCALENDAR
