BEGIN:VCALENDAR
METHOD:PUBLISH
PRODID:-//webcollect/grafham//NONSGML v1.0//EN
BEGIN:VTIMEZONE
TZID:Europe/London
BEGIN:DAYLIGHT
TZOFFSETFROM:+0000
RRULE:FREQ=YEARLY;BYMONTH=3;BYDAY=-1SU
DTSTART:19810329T010000
TZNAME:BST
TZOFFSETTO:+0100
END:DAYLIGHT
BEGIN:STANDARD
TZOFFSETFROM:+0100
RRULE:FREQ=YEARLY;BYMONTH=10;BYDAY=-1SU
DTSTART:19961027T020000
TZNAME:GMT
TZOFFSETTO:+0000
END:STANDARD
END:VTIMEZONE
BEGIN:VEVENT
UID:event_product_448846@webcollect.org.uk
DTSTAMP:20260421T134813Z
ORGANIZER;CN=GWSC  Office:MAILTO:office@grafham.org
DTSTART;TZID=Europe/London:20260720T100000
DTEND;TZID=Europe/London:20260720T163000
DESCRIPTION:Please ensure that you have purchased or already have the appropriate membership required. If you are unsure then please contact the Office. You must have the knowledge and skills of a Stage 2 sailor and additional recent practice. Before booking you need to attend a pre-course assessment. These are available during our Team Grafham Sessions. Having completed Stage 3 you will be able to sail in...
SUMMARY:Stage 3 & 4 - 5 Day Course 20th July - 24th July RYA Youth Improvers Sailing Course - Stage 3 & 4(3 places avail) - Grafham Water Sailing Club
END:VEVENT
END:VCALENDAR
