BEGIN:VCALENDAR
METHOD:PUBLISH
PRODID:-//webcollect/grafham//NONSGML v1.0//EN
BEGIN:VTIMEZONE
TZID:Europe/London
BEGIN:DAYLIGHT
TZOFFSETFROM:+0000
RRULE:FREQ=YEARLY;BYMONTH=3;BYDAY=-1SU
DTSTART:19810329T010000
TZNAME:BST
TZOFFSETTO:+0100
END:DAYLIGHT
BEGIN:STANDARD
TZOFFSETFROM:+0100
RRULE:FREQ=YEARLY;BYMONTH=10;BYDAY=-1SU
DTSTART:19961027T020000
TZNAME:GMT
TZOFFSETTO:+0000
END:STANDARD
END:VTIMEZONE
BEGIN:VEVENT
UID:event_product_461499@webcollect.org.uk
DTSTAMP:20260421T103251Z
ORGANIZER;CN=GWSC  Office:MAILTO:office@grafham.org
DTSTART;VALUE=DATE:20260426
DESCRIPTION:Spring/Early Summer SeriesBy entering for the Sunday activity\, you are signing on for all races held on the day.Notice of RaceSailing InstructionsSummer Sprint SeriesSunday 3rd May\, 7th June\, 5th July\, 2nd August\, 6th September\, 4th October and 8th November 2026 are all excluded from the above NOR and SI's.Notice of RaceSailing Instructions
SUMMARY:Spring/Early Summer Series Start 1 - Asymmetric Cat\, foiling Cat & A-class Sunday Racing - Grafham Water Sailing Club
END:VEVENT
BEGIN:VEVENT
UID:event_product_461500@webcollect.org.uk
DTSTAMP:20260421T103251Z
ORGANIZER;CN=GWSC  Office:MAILTO:office@grafham.org
DTSTART;VALUE=DATE:20260426
DESCRIPTION:Spring/Early Summer SeriesBy entering for the Sunday activity\, you are signing on for all races held on the day.Notice of RaceSailing InstructionsSummer Sprint SeriesSunday 3rd May\, 7th June\, 5th July\, 2nd August\, 6th September\, 4th October and 8th November 2026 are all excluded from the above NOR and SI's.Notice of RaceSailing Instructions
SUMMARY:Spring/Early Summer Series Start 1 - Asymmetric Mono\, 505 & foiling mono <1020 Sunday Racing - Grafham Water Sailing Club
END:VEVENT
BEGIN:VEVENT
UID:event_product_461501@webcollect.org.uk
DTSTAMP:20260421T103251Z
ORGANIZER;CN=GWSC  Office:MAILTO:office@grafham.org
DTSTART;VALUE=DATE:20260426
DESCRIPTION:Spring/Early Summer SeriesBy entering for the Sunday activity\, you are signing on for all races held on the day.Notice of RaceSailing InstructionsSummer Sprint SeriesSunday 3rd May\, 7th June\, 5th July\, 2nd August\, 6th September\, 4th October and 8th November 2026 are all excluded from the above NOR and SI's.Notice of RaceSailing Instructions
SUMMARY:Spring/Early Summer Series Start 2 - Double Handed inc FF and Cats >900 Sunday Racing - Grafham Water Sailing Club
END:VEVENT
BEGIN:VEVENT
UID:event_product_461502@webcollect.org.uk
DTSTAMP:20260421T103251Z
ORGANIZER;CN=GWSC  Office:MAILTO:office@grafham.org
DTSTART;VALUE=DATE:20260426
DESCRIPTION:Spring/Early Summer SeriesBy entering for the Sunday activity\, you are signing on for all races held on the day.Notice of RaceSailing InstructionsSummer Sprint SeriesSunday 3rd May\, 7th June\, 5th July\, 2nd August\, 6th September\, 4th October and 8th November 2026 are all excluded from the above NOR and SI's.Notice of RaceSailing Instructions
SUMMARY:Spring/Early Summer Series Start 3 - ILCA Sunday Racing - Grafham Water Sailing Club
END:VEVENT
BEGIN:VEVENT
UID:event_product_461503@webcollect.org.uk
DTSTAMP:20260421T103251Z
ORGANIZER;CN=GWSC  Office:MAILTO:office@grafham.org
DTSTART;VALUE=DATE:20260426
DESCRIPTION:Spring/Early Summer SeriesBy entering for the Sunday activity\, you are signing on for all races held on the day.Notice of RaceSailing InstructionsSummer Sprint SeriesSunday 3rd May\, 7th June\, 5th July\, 2nd August\, 6th September\, 4th October and 8th November 2026 are all excluded from the above NOR and SI's.Notice of RaceSailing Instructions
SUMMARY:Spring/Early Summer Series Start 4 - Single handed club handicap and Cats >840 Sunday Racing - Grafham Water Sailing Club
END:VEVENT
BEGIN:VEVENT
UID:event_product_460625@webcollect.org.uk
DTSTAMP:20260421T103251Z
ORGANIZER;CN=GWSC  Office:MAILTO:office@grafham.org
DTSTART;VALUE=DATE:20260503
DESCRIPTION:Spring/Early Summer SeriesBy entering for the Sunday activity\, you are signing on for all races held on the day.Notice of RaceSailing InstructionsSummer Sprint SeriesSunday 3rd May\, 7th June\, 5th July\, 2nd August\, 6th September\, 4th October and 8th November 2026 are all excluded from the above NOR and SI's.Notice of RaceSailing Instructions
SUMMARY:Summer Sprint Series Start 1 - Fast Handicap <901 Sunday Racing - Grafham Water Sailing Club
END:VEVENT
BEGIN:VEVENT
UID:event_product_460627@webcollect.org.uk
DTSTAMP:20260421T103251Z
ORGANIZER;CN=GWSC  Office:MAILTO:office@grafham.org
DTSTART;VALUE=DATE:20260503
DESCRIPTION:Spring/Early Summer SeriesBy entering for the Sunday activity\, you are signing on for all races held on the day.Notice of RaceSailing InstructionsSummer Sprint SeriesSunday 3rd May\, 7th June\, 5th July\, 2nd August\, 6th September\, 4th October and 8th November 2026 are all excluded from the above NOR and SI's.Notice of RaceSailing Instructions
SUMMARY:Summer Sprint Series Start 2 - Single Handed >900 Sunday Racing - Grafham Water Sailing Club
END:VEVENT
BEGIN:VEVENT
UID:event_product_460628@webcollect.org.uk
DTSTAMP:20260421T103251Z
ORGANIZER;CN=GWSC  Office:MAILTO:office@grafham.org
DTSTART;VALUE=DATE:20260503
DESCRIPTION:Spring/Early Summer SeriesBy entering for the Sunday activity\, you are signing on for all races held on the day.Notice of RaceSailing InstructionsSummer Sprint SeriesSunday 3rd May\, 7th June\, 5th July\, 2nd August\, 6th September\, 4th October and 8th November 2026 are all excluded from the above NOR and SI's.Notice of RaceSailing Instructions
SUMMARY:Summer Sprint Series Start 3 - Asymmetric Mono Sunday Racing - Grafham Water Sailing Club
END:VEVENT
BEGIN:VEVENT
UID:event_product_460626@webcollect.org.uk
DTSTAMP:20260421T103251Z
ORGANIZER;CN=GWSC  Office:MAILTO:office@grafham.org
DTSTART;VALUE=DATE:20260503
DESCRIPTION:Spring/Early Summer SeriesBy entering for the Sunday activity\, you are signing on for all races held on the day.Notice of RaceSailing InstructionsSummer Sprint SeriesSunday 3rd May\, 7th June\, 5th July\, 2nd August\, 6th September\, 4th October and 8th November 2026 are all excluded from the above NOR and SI's.Notice of RaceSailing Instructions
SUMMARY:Summer Sprint Series Start 3 - Double Handed inc FF Sunday Racing - Grafham Water Sailing Club
END:VEVENT
BEGIN:VEVENT
UID:event_product_460630@webcollect.org.uk
DTSTAMP:20260421T103251Z
ORGANIZER;CN=GWSC  Office:MAILTO:office@grafham.org
DTSTART;VALUE=DATE:20260503
DESCRIPTION:Spring/Early Summer SeriesBy entering for the Sunday activity\, you are signing on for all races held on the day.Notice of RaceSailing InstructionsSummer Sprint SeriesSunday 3rd May\, 7th June\, 5th July\, 2nd August\, 6th September\, 4th October and 8th November 2026 are all excluded from the above NOR and SI's.Notice of RaceSailing Instructions
SUMMARY:Summer Sprint Series Start 3 - Slower Cats Sunday Racing - Grafham Water Sailing Club
END:VEVENT
BEGIN:VEVENT
UID:event_product_460629@webcollect.org.uk
DTSTAMP:20260421T103251Z
ORGANIZER;CN=GWSC  Office:MAILTO:office@grafham.org
DTSTART;VALUE=DATE:20260503
DESCRIPTION:Spring/Early Summer SeriesBy entering for the Sunday activity\, you are signing on for all races held on the day.Notice of RaceSailing InstructionsSummer Sprint SeriesSunday 3rd May\, 7th June\, 5th July\, 2nd August\, 6th September\, 4th October and 8th November 2026 are all excluded from the above NOR and SI's.Notice of RaceSailing Instructions
SUMMARY:Summer Sprint Series Start 4 - ILCA Sunday Racing - Grafham Water Sailing Club
END:VEVENT
BEGIN:VEVENT
UID:event_product_460619@webcollect.org.uk
DTSTAMP:20260421T103251Z
ORGANIZER;CN=GWSC  Office:MAILTO:office@grafham.org
DTSTART;VALUE=DATE:20260607
DESCRIPTION:Spring/Early Summer SeriesBy entering for the Sunday activity\, you are signing on for all races held on the day.Notice of RaceSailing InstructionsSummer Sprint SeriesSunday 3rd May\, 7th June\, 5th July\, 2nd August\, 6th September\, 4th October and 8th November 2026 are all excluded from the above NOR and SI's.Notice of RaceSailing Instructions
SUMMARY:Summer Sprint Series Start 1 - Fast Handicap <901 Sunday Racing - Grafham Water Sailing Club
END:VEVENT
BEGIN:VEVENT
UID:event_product_460621@webcollect.org.uk
DTSTAMP:20260421T103251Z
ORGANIZER;CN=GWSC  Office:MAILTO:office@grafham.org
DTSTART;VALUE=DATE:20260607
DESCRIPTION:Spring/Early Summer SeriesBy entering for the Sunday activity\, you are signing on for all races held on the day.Notice of RaceSailing InstructionsSummer Sprint SeriesSunday 3rd May\, 7th June\, 5th July\, 2nd August\, 6th September\, 4th October and 8th November 2026 are all excluded from the above NOR and SI's.Notice of RaceSailing Instructions
SUMMARY:Summer Sprint Series Start 2 - Single Handed >900 Sunday Racing - Grafham Water Sailing Club
END:VEVENT
BEGIN:VEVENT
UID:event_product_460622@webcollect.org.uk
DTSTAMP:20260421T103251Z
ORGANIZER;CN=GWSC  Office:MAILTO:office@grafham.org
DTSTART;VALUE=DATE:20260607
DESCRIPTION:Spring/Early Summer SeriesBy entering for the Sunday activity\, you are signing on for all races held on the day.Notice of RaceSailing InstructionsSummer Sprint SeriesSunday 3rd May\, 7th June\, 5th July\, 2nd August\, 6th September\, 4th October and 8th November 2026 are all excluded from the above NOR and SI's.Notice of RaceSailing Instructions
SUMMARY:Summer Sprint Series Start 3 - Asymmetric Mono Sunday Racing - Grafham Water Sailing Club
END:VEVENT
BEGIN:VEVENT
UID:event_product_460620@webcollect.org.uk
DTSTAMP:20260421T103251Z
ORGANIZER;CN=GWSC  Office:MAILTO:office@grafham.org
DTSTART;VALUE=DATE:20260607
DESCRIPTION:Spring/Early Summer SeriesBy entering for the Sunday activity\, you are signing on for all races held on the day.Notice of RaceSailing InstructionsSummer Sprint SeriesSunday 3rd May\, 7th June\, 5th July\, 2nd August\, 6th September\, 4th October and 8th November 2026 are all excluded from the above NOR and SI's.Notice of RaceSailing Instructions
SUMMARY:Summer Sprint Series Start 3 - Double Handed inc FF Sunday Racing - Grafham Water Sailing Club
END:VEVENT
BEGIN:VEVENT
UID:event_product_460624@webcollect.org.uk
DTSTAMP:20260421T103251Z
ORGANIZER;CN=GWSC  Office:MAILTO:office@grafham.org
DTSTART;VALUE=DATE:20260607
DESCRIPTION:Spring/Early Summer SeriesBy entering for the Sunday activity\, you are signing on for all races held on the day.Notice of RaceSailing InstructionsSummer Sprint SeriesSunday 3rd May\, 7th June\, 5th July\, 2nd August\, 6th September\, 4th October and 8th November 2026 are all excluded from the above NOR and SI's.Notice of RaceSailing Instructions
SUMMARY:Summer Sprint Series Start 3 - Slower Cats Sunday Racing - Grafham Water Sailing Club
END:VEVENT
END:VCALENDAR
