BEGIN:VCALENDAR
METHOD:PUBLISH
PRODID:-//webcollect/grafham//NONSGML v1.0//EN
BEGIN:VTIMEZONE
TZID:Europe/London
BEGIN:DAYLIGHT
TZOFFSETFROM:+0000
RRULE:FREQ=YEARLY;BYMONTH=3;BYDAY=-1SU
DTSTART:19810329T010000
TZNAME:BST
TZOFFSETTO:+0100
END:DAYLIGHT
BEGIN:STANDARD
TZOFFSETFROM:+0100
RRULE:FREQ=YEARLY;BYMONTH=10;BYDAY=-1SU
DTSTART:19961027T020000
TZNAME:GMT
TZOFFSETTO:+0000
END:STANDARD
END:VTIMEZONE
BEGIN:VEVENT
UID:event_product_448563@webcollect.org.uk
DTSTAMP:20260421T134415Z
ORGANIZER;CN=GWSC  Office:MAILTO:office@grafham.org
DTSTART;TZID=Europe/London:20260425T133000
DTEND;TZID=Europe/London:20260425T160000
DESCRIPTION:Please ensure that you have purchased or already have the appropriate membership required. If you are unsure then please contact the Office. Team Grafham caters for youth sailors aged 8 upwards who have passed the RYA Stage 2 course.Team Grafham Intermediate provides an opportunity to develop skills and confidence. We include race training and seamanship skills for the more experienced sailors...
SUMMARY:Individual Session Team Grafham Intermediate and Advanced (5 places avail) - Grafham Water Sailing Club
END:VEVENT
BEGIN:VEVENT
UID:event_product_455214@webcollect.org.uk
DTSTAMP:20260421T134415Z
ORGANIZER;CN=GWSC  Office:MAILTO:office@grafham.org
DTSTART;VALUE=DATE:20260502
DESCRIPTION:Please ensure that you have purchased or already have the appropriate membership required. If you are unsure then please contact the Office. Team Grafham caters for youth sailors aged 8 upwards who have passed the RYA Stage 2 course.Team Grafham Intermediate provides an opportunity to develop skills and confidence. We include race training and seamanship skills for the more experienced sailors...
SUMMARY:BLOCK TWO 2 - 23 May 2026 Team Grafham Intermediate and Advanced (4 places avail) - Grafham Water Sailing Club
END:VEVENT
BEGIN:VEVENT
UID:event_product_448566@webcollect.org.uk
DTSTAMP:20260421T134415Z
ORGANIZER;CN=GWSC  Office:MAILTO:office@grafham.org
DTSTART;TZID=Europe/London:20260502T133000
DTEND;TZID=Europe/London:20260502T160000
DESCRIPTION:Please ensure that you have purchased or already have the appropriate membership required. If you are unsure then please contact the Office. Team Grafham caters for youth sailors aged 8 upwards who have passed the RYA Stage 2 course.Team Grafham Intermediate provides an opportunity to develop skills and confidence. We include race training and seamanship skills for the more experienced sailors...
SUMMARY:Individual Session Team Grafham Intermediate and Advanced (8 places avail) - Grafham Water Sailing Club
END:VEVENT
BEGIN:VEVENT
UID:event_product_448567@webcollect.org.uk
DTSTAMP:20260421T134415Z
ORGANIZER;CN=GWSC  Office:MAILTO:office@grafham.org
DTSTART;TZID=Europe/London:20260509T133000
DTEND;TZID=Europe/London:20260509T160000
DESCRIPTION:Please ensure that you have purchased or already have the appropriate membership required. If you are unsure then please contact the Office. Team Grafham caters for youth sailors aged 8 upwards who have passed the RYA Stage 2 course.Team Grafham Intermediate provides an opportunity to develop skills and confidence. We include race training and seamanship skills for the more experienced sailors...
SUMMARY:Individual Session Team Grafham Intermediate and Advanced (8 places avail) - Grafham Water Sailing Club
END:VEVENT
BEGIN:VEVENT
UID:event_product_448579@webcollect.org.uk
DTSTAMP:20260421T134415Z
ORGANIZER;CN=GWSC  Office:MAILTO:office@grafham.org
DTSTART;TZID=Europe/London:20260516T133000
DTEND;TZID=Europe/London:20260516T160000
DESCRIPTION:Please ensure that you have purchased or already have the appropriate membership required. If you are unsure then please contact the Office. Team Grafham caters for youth sailors aged 8 upwards who have passed the RYA Stage 2 course.Team Grafham Intermediate provides an opportunity to develop skills and confidence. We include race training and seamanship skills for the more experienced sailors...
SUMMARY:Individual Session Team Grafham Intermediate and Advanced (7 places avail) - Grafham Water Sailing Club
END:VEVENT
BEGIN:VEVENT
UID:event_product_448568@webcollect.org.uk
DTSTAMP:20260421T134415Z
ORGANIZER;CN=GWSC  Office:MAILTO:office@grafham.org
DTSTART;TZID=Europe/London:20260523T133000
DTEND;TZID=Europe/London:20260523T160000
DESCRIPTION:Please ensure that you have purchased or already have the appropriate membership required. If you are unsure then please contact the Office. Team Grafham caters for youth sailors aged 8 upwards who have passed the RYA Stage 2 course.Team Grafham Intermediate provides an opportunity to develop skills and confidence. We include race training and seamanship skills for the more experienced sailors...
SUMMARY:Individual Session Team Grafham Intermediate and Advanced (8 places avail) - Grafham Water Sailing Club
END:VEVENT
BEGIN:VEVENT
UID:event_product_455215@webcollect.org.uk
DTSTAMP:20260421T134415Z
ORGANIZER;CN=GWSC  Office:MAILTO:office@grafham.org
DTSTART;VALUE=DATE:20260530
DESCRIPTION:Please ensure that you have purchased or already have the appropriate membership required. If you are unsure then please contact the Office. Team Grafham caters for youth sailors aged 8 upwards who have passed the RYA Stage 2 course.Team Grafham Intermediate provides an opportunity to develop skills and confidence. We include race training and seamanship skills for the more experienced sailors...
SUMMARY:BLOCK THREE 30 May - 27 June 2026 (Not inc 6 June) Team Grafham Intermediate and Advanced (4 places avail) - Grafham Water Sailing Club
END:VEVENT
BEGIN:VEVENT
UID:event_product_448569@webcollect.org.uk
DTSTAMP:20260421T134415Z
ORGANIZER;CN=GWSC  Office:MAILTO:office@grafham.org
DTSTART;TZID=Europe/London:20260530T133000
DTEND;TZID=Europe/London:20260530T160000
DESCRIPTION:Please ensure that you have purchased or already have the appropriate membership required. If you are unsure then please contact the Office. Team Grafham caters for youth sailors aged 8 upwards who have passed the RYA Stage 2 course.Team Grafham Intermediate provides an opportunity to develop skills and confidence. We include race training and seamanship skills for the more experienced sailors...
SUMMARY:Individual Session Team Grafham Intermediate and Advanced (8 places avail) - Grafham Water Sailing Club
END:VEVENT
BEGIN:VEVENT
UID:event_product_448570@webcollect.org.uk
DTSTAMP:20260421T134415Z
ORGANIZER;CN=GWSC  Office:MAILTO:office@grafham.org
DTSTART;TZID=Europe/London:20260613T133000
DTEND;TZID=Europe/London:20260613T160000
DESCRIPTION:Please ensure that you have purchased or already have the appropriate membership required. If you are unsure then please contact the Office. Team Grafham caters for youth sailors aged 8 upwards who have passed the RYA Stage 2 course.Team Grafham Intermediate provides an opportunity to develop skills and confidence. We include race training and seamanship skills for the more experienced sailors...
SUMMARY:Individual Session Team Grafham Intermediate and Advanced (8 places avail) - Grafham Water Sailing Club
END:VEVENT
BEGIN:VEVENT
UID:event_product_448571@webcollect.org.uk
DTSTAMP:20260421T134415Z
ORGANIZER;CN=GWSC  Office:MAILTO:office@grafham.org
DTSTART;TZID=Europe/London:20260620T133000
DTEND;TZID=Europe/London:20260620T160000
DESCRIPTION:Please ensure that you have purchased or already have the appropriate membership required. If you are unsure then please contact the Office. Team Grafham caters for youth sailors aged 8 upwards who have passed the RYA Stage 2 course.Team Grafham Intermediate provides an opportunity to develop skills and confidence. We include race training and seamanship skills for the more experienced sailors...
SUMMARY:Individual Session Team Grafham Intermediate and Advanced (8 places avail) - Grafham Water Sailing Club
END:VEVENT
BEGIN:VEVENT
UID:event_product_448572@webcollect.org.uk
DTSTAMP:20260421T134415Z
ORGANIZER;CN=GWSC  Office:MAILTO:office@grafham.org
DTSTART;TZID=Europe/London:20260627T133000
DTEND;TZID=Europe/London:20260627T160000
DESCRIPTION:Please ensure that you have purchased or already have the appropriate membership required. If you are unsure then please contact the Office. Team Grafham caters for youth sailors aged 8 upwards who have passed the RYA Stage 2 course.Team Grafham Intermediate provides an opportunity to develop skills and confidence. We include race training and seamanship skills for the more experienced sailors...
SUMMARY:Individual Session Team Grafham Intermediate and Advanced (8 places avail) - Grafham Water Sailing Club
END:VEVENT
BEGIN:VEVENT
UID:event_product_455234@webcollect.org.uk
DTSTAMP:20260421T134415Z
ORGANIZER;CN=GWSC  Office:MAILTO:office@grafham.org
DTSTART;VALUE=DATE:20260704
DESCRIPTION:Please ensure that you have purchased or already have the appropriate membership required. If you are unsure then please contact the Office. Team Grafham caters for youth sailors aged 8 upwards who have passed the RYA Stage 2 course.Team Grafham Intermediate provides an opportunity to develop skills and confidence. We include race training and seamanship skills for the more experienced sailors...
SUMMARY:BLOCK FOUR 4 July - 25 July 2026 Team Grafham Intermediate and Advanced (4 places avail) - Grafham Water Sailing Club
END:VEVENT
BEGIN:VEVENT
UID:event_product_448573@webcollect.org.uk
DTSTAMP:20260421T134415Z
ORGANIZER;CN=GWSC  Office:MAILTO:office@grafham.org
DTSTART;TZID=Europe/London:20260704T133000
DTEND;TZID=Europe/London:20260704T160000
DESCRIPTION:Please ensure that you have purchased or already have the appropriate membership required. If you are unsure then please contact the Office. Team Grafham caters for youth sailors aged 8 upwards who have passed the RYA Stage 2 course.Team Grafham Intermediate provides an opportunity to develop skills and confidence. We include race training and seamanship skills for the more experienced sailors...
SUMMARY:Individual Session Team Grafham Intermediate and Advanced (8 places avail) - Grafham Water Sailing Club
END:VEVENT
BEGIN:VEVENT
UID:event_product_448574@webcollect.org.uk
DTSTAMP:20260421T134415Z
ORGANIZER;CN=GWSC  Office:MAILTO:office@grafham.org
DTSTART;TZID=Europe/London:20260711T133000
DTEND;TZID=Europe/London:20260711T160000
DESCRIPTION:Please ensure that you have purchased or already have the appropriate membership required. If you are unsure then please contact the Office. Team Grafham caters for youth sailors aged 8 upwards who have passed the RYA Stage 2 course.Team Grafham Intermediate provides an opportunity to develop skills and confidence. We include race training and seamanship skills for the more experienced sailors...
SUMMARY:Individual Session Team Grafham Intermediate and Advanced (8 places avail) - Grafham Water Sailing Club
END:VEVENT
BEGIN:VEVENT
UID:event_product_448575@webcollect.org.uk
DTSTAMP:20260421T134415Z
ORGANIZER;CN=GWSC  Office:MAILTO:office@grafham.org
DTSTART;TZID=Europe/London:20260718T133000
DTEND;TZID=Europe/London:20260718T160000
DESCRIPTION:Please ensure that you have purchased or already have the appropriate membership required. If you are unsure then please contact the Office. Team Grafham caters for youth sailors aged 8 upwards who have passed the RYA Stage 2 course.Team Grafham Intermediate provides an opportunity to develop skills and confidence. We include race training and seamanship skills for the more experienced sailors...
SUMMARY:Individual Session Team Grafham Intermediate and Advanced (8 places avail) - Grafham Water Sailing Club
END:VEVENT
BEGIN:VEVENT
UID:event_product_448576@webcollect.org.uk
DTSTAMP:20260421T134415Z
ORGANIZER;CN=GWSC  Office:MAILTO:office@grafham.org
DTSTART;TZID=Europe/London:20260725T133000
DTEND;TZID=Europe/London:20260725T160000
DESCRIPTION:Please ensure that you have purchased or already have the appropriate membership required. If you are unsure then please contact the Office. Team Grafham caters for youth sailors aged 8 upwards who have passed the RYA Stage 2 course.Team Grafham Intermediate provides an opportunity to develop skills and confidence. We include race training and seamanship skills for the more experienced sailors...
SUMMARY:Individual Session Team Grafham Intermediate and Advanced (8 places avail) - Grafham Water Sailing Club
END:VEVENT
BEGIN:VEVENT
UID:event_product_448577@webcollect.org.uk
DTSTAMP:20260421T134415Z
ORGANIZER;CN=GWSC  Office:MAILTO:office@grafham.org
DTSTART;TZID=Europe/London:20260801T133000
DTEND;TZID=Europe/London:20260801T160000
DESCRIPTION:Please ensure that you have purchased or already have the appropriate membership required. If you are unsure then please contact the Office. Team Grafham caters for youth sailors aged 8 upwards who have passed the RYA Stage 2 course.Team Grafham Intermediate provides an opportunity to develop skills and confidence. We include race training and seamanship skills for the more experienced sailors...
SUMMARY:Individual Session Team Grafham Intermediate and Advanced (8 places avail) - Grafham Water Sailing Club
END:VEVENT
BEGIN:VEVENT
UID:event_product_448580@webcollect.org.uk
DTSTAMP:20260421T134415Z
ORGANIZER;CN=GWSC  Office:MAILTO:office@grafham.org
DTSTART;TZID=Europe/London:20260808T133000
DTEND;TZID=Europe/London:20260808T160000
DESCRIPTION:Please ensure that you have purchased or already have the appropriate membership required. If you are unsure then please contact the Office. Team Grafham caters for youth sailors aged 8 upwards who have passed the RYA Stage 2 course.Team Grafham Intermediate provides an opportunity to develop skills and confidence. We include race training and seamanship skills for the more experienced sailors...
SUMMARY:Individual Session Team Grafham Intermediate and Advanced (8 places avail) - Grafham Water Sailing Club
END:VEVENT
BEGIN:VEVENT
UID:event_product_448583@webcollect.org.uk
DTSTAMP:20260421T134415Z
ORGANIZER;CN=GWSC  Office:MAILTO:office@grafham.org
DTSTART;TZID=Europe/London:20260815T133000
DTEND;TZID=Europe/London:20260815T160000
DESCRIPTION:Please ensure that you have purchased or already have the appropriate membership required. If you are unsure then please contact the Office. Team Grafham caters for youth sailors aged 8 upwards who have passed the RYA Stage 2 course.Team Grafham Intermediate provides an opportunity to develop skills and confidence. We include race training and seamanship skills for the more experienced sailors...
SUMMARY:Individual Session Team Grafham Intermediate and Advanced (8 places avail) - Grafham Water Sailing Club
END:VEVENT
BEGIN:VEVENT
UID:event_product_448592@webcollect.org.uk
DTSTAMP:20260421T134415Z
ORGANIZER;CN=GWSC  Office:MAILTO:office@grafham.org
DTSTART;TZID=Europe/London:20260822T133000
DTEND;TZID=Europe/London:20260822T160000
DESCRIPTION:Please ensure that you have purchased or already have the appropriate membership required. If you are unsure then please contact the Office. Team Grafham caters for youth sailors aged 8 upwards who have passed the RYA Stage 2 course.Team Grafham Intermediate provides an opportunity to develop skills and confidence. We include race training and seamanship skills for the more experienced sailors...
SUMMARY:Individual Session Team Grafham Intermediate and Advanced (8 places avail) - Grafham Water Sailing Club
END:VEVENT
BEGIN:VEVENT
UID:event_product_448586@webcollect.org.uk
DTSTAMP:20260421T134415Z
ORGANIZER;CN=GWSC  Office:MAILTO:office@grafham.org
DTSTART;TZID=Europe/London:20260829T133000
DTEND;TZID=Europe/London:20260829T160000
DESCRIPTION:Please ensure that you have purchased or already have the appropriate membership required. If you are unsure then please contact the Office. Team Grafham caters for youth sailors aged 8 upwards who have passed the RYA Stage 2 course.Team Grafham Intermediate provides an opportunity to develop skills and confidence. We include race training and seamanship skills for the more experienced sailors...
SUMMARY:Individual Session Team Grafham Intermediate and Advanced (8 places avail) - Grafham Water Sailing Club
END:VEVENT
BEGIN:VEVENT
UID:event_product_448585@webcollect.org.uk
DTSTAMP:20260421T134415Z
ORGANIZER;CN=GWSC  Office:MAILTO:office@grafham.org
DTSTART;TZID=Europe/London:20260905T133000
DTEND;TZID=Europe/London:20260905T160000
DESCRIPTION:Please ensure that you have purchased or already have the appropriate membership required. If you are unsure then please contact the Office. Team Grafham caters for youth sailors aged 8 upwards who have passed the RYA Stage 2 course.Team Grafham Intermediate provides an opportunity to develop skills and confidence. We include race training and seamanship skills for the more experienced sailors...
SUMMARY:Individual Session Team Grafham Intermediate and Advanced (8 places avail) - Grafham Water Sailing Club
END:VEVENT
BEGIN:VEVENT
UID:event_product_448587@webcollect.org.uk
DTSTAMP:20260421T134415Z
ORGANIZER;CN=GWSC  Office:MAILTO:office@grafham.org
DTSTART;TZID=Europe/London:20260912T133000
DTEND;TZID=Europe/London:20260912T160000
DESCRIPTION:Please ensure that you have purchased or already have the appropriate membership required. If you are unsure then please contact the Office. Team Grafham caters for youth sailors aged 8 upwards who have passed the RYA Stage 2 course.Team Grafham Intermediate provides an opportunity to develop skills and confidence. We include race training and seamanship skills for the more experienced sailors...
SUMMARY:Individual Session Team Grafham Intermediate and Advanced (8 places avail) - Grafham Water Sailing Club
END:VEVENT
BEGIN:VEVENT
UID:event_product_448588@webcollect.org.uk
DTSTAMP:20260421T134415Z
ORGANIZER;CN=GWSC  Office:MAILTO:office@grafham.org
DTSTART;TZID=Europe/London:20260919T133000
DTEND;TZID=Europe/London:20260919T160000
DESCRIPTION:Please ensure that you have purchased or already have the appropriate membership required. If you are unsure then please contact the Office. Team Grafham caters for youth sailors aged 8 upwards who have passed the RYA Stage 2 course.Team Grafham Intermediate provides an opportunity to develop skills and confidence. We include race training and seamanship skills for the more experienced sailors...
SUMMARY:Individual Session Team Grafham Intermediate and Advanced (8 places avail) - Grafham Water Sailing Club
END:VEVENT
BEGIN:VEVENT
UID:event_product_448581@webcollect.org.uk
DTSTAMP:20260421T134415Z
ORGANIZER;CN=GWSC  Office:MAILTO:office@grafham.org
DTSTART;TZID=Europe/London:20260926T133000
DTEND;TZID=Europe/London:20260926T160000
DESCRIPTION:Please ensure that you have purchased or already have the appropriate membership required. If you are unsure then please contact the Office. Team Grafham caters for youth sailors aged 8 upwards who have passed the RYA Stage 2 course.Team Grafham Intermediate provides an opportunity to develop skills and confidence. We include race training and seamanship skills for the more experienced sailors...
SUMMARY:Individual Session Team Grafham Intermediate and Advanced (8 places avail) - Grafham Water Sailing Club
END:VEVENT
BEGIN:VEVENT
UID:event_product_448582@webcollect.org.uk
DTSTAMP:20260421T134415Z
ORGANIZER;CN=GWSC  Office:MAILTO:office@grafham.org
DTSTART;TZID=Europe/London:20261003T133000
DTEND;TZID=Europe/London:20261003T160000
DESCRIPTION:Please ensure that you have purchased or already have the appropriate membership required. If you are unsure then please contact the Office. Team Grafham caters for youth sailors aged 8 upwards who have passed the RYA Stage 2 course.Team Grafham Intermediate provides an opportunity to develop skills and confidence. We include race training and seamanship skills for the more experienced sailors...
SUMMARY:Individual Session Team Grafham Intermediate and Advanced (8 places avail) - Grafham Water Sailing Club
END:VEVENT
BEGIN:VEVENT
UID:event_product_448584@webcollect.org.uk
DTSTAMP:20260421T134415Z
ORGANIZER;CN=GWSC  Office:MAILTO:office@grafham.org
DTSTART;TZID=Europe/London:20261010T133000
DTEND;TZID=Europe/London:20261010T160000
DESCRIPTION:Please ensure that you have purchased or already have the appropriate membership required. If you are unsure then please contact the Office. Team Grafham caters for youth sailors aged 8 upwards who have passed the RYA Stage 2 course.Team Grafham Intermediate provides an opportunity to develop skills and confidence. We include race training and seamanship skills for the more experienced sailors...
SUMMARY:Individual Session Team Grafham Intermediate and Advanced (8 places avail) - Grafham Water Sailing Club
END:VEVENT
BEGIN:VEVENT
UID:event_product_448578@webcollect.org.uk
DTSTAMP:20260421T134415Z
ORGANIZER;CN=GWSC  Office:MAILTO:office@grafham.org
DTSTART;TZID=Europe/London:20261017T133000
DTEND;TZID=Europe/London:20261017T160000
DESCRIPTION:Please ensure that you have purchased or already have the appropriate membership required. If you are unsure then please contact the Office. Team Grafham caters for youth sailors aged 8 upwards who have passed the RYA Stage 2 course.Team Grafham Intermediate provides an opportunity to develop skills and confidence. We include race training and seamanship skills for the more experienced sailors...
SUMMARY:Individual Session Team Grafham Intermediate and Advanced (8 places avail) - Grafham Water Sailing Club
END:VEVENT
BEGIN:VEVENT
UID:event_product_448591@webcollect.org.uk
DTSTAMP:20260421T134415Z
ORGANIZER;CN=GWSC  Office:MAILTO:office@grafham.org
DTSTART;TZID=Europe/London:20261024T133000
DTEND;TZID=Europe/London:20261024T160000
DESCRIPTION:Please ensure that you have purchased or already have the appropriate membership required. If you are unsure then please contact the Office. Team Grafham caters for youth sailors aged 8 upwards who have passed the RYA Stage 2 course.Team Grafham Intermediate provides an opportunity to develop skills and confidence. We include race training and seamanship skills for the more experienced sailors...
SUMMARY:Individual Session Team Grafham Intermediate and Advanced (8 places avail) - Grafham Water Sailing Club
END:VEVENT
BEGIN:VEVENT
UID:event_product_448593@webcollect.org.uk
DTSTAMP:20260421T134415Z
ORGANIZER;CN=GWSC  Office:MAILTO:office@grafham.org
DTSTART;TZID=Europe/London:20261031T133000
DTEND;TZID=Europe/London:20261031T160000
DESCRIPTION:Please ensure that you have purchased or already have the appropriate membership required. If you are unsure then please contact the Office. Team Grafham caters for youth sailors aged 8 upwards who have passed the RYA Stage 2 course.Team Grafham Intermediate provides an opportunity to develop skills and confidence. We include race training and seamanship skills for the more experienced sailors...
SUMMARY:Individual Session Team Grafham Intermediate and Advanced (8 places avail) - Grafham Water Sailing Club
END:VEVENT
BEGIN:VEVENT
UID:event_product_448590@webcollect.org.uk
DTSTAMP:20260421T134415Z
ORGANIZER;CN=GWSC  Office:MAILTO:office@grafham.org
DTSTART;VALUE=DATE:20270331
DESCRIPTION:Please ensure that you have purchased or already have the appropriate membership required. If you are unsure then please contact the Office. Team Grafham caters for youth sailors aged 8 upwards who have passed the RYA Stage 2 course.Team Grafham Intermediate provides an opportunity to develop skills and confidence. We include race training and seamanship skills for the more experienced sailors...
SUMMARY:Holding Date - DO NOT BOOK ONTO THIS Team Grafham Intermediate and Advanced (3 places avail) - Grafham Water Sailing Club
END:VEVENT
END:VCALENDAR
