BEGIN:VCALENDAR
METHOD:PUBLISH
PRODID:-//webcollect/grafham//NONSGML v1.0//EN
BEGIN:VTIMEZONE
TZID:Europe/London
BEGIN:DAYLIGHT
TZOFFSETFROM:+0000
RRULE:FREQ=YEARLY;BYMONTH=3;BYDAY=-1SU
DTSTART:19810329T010000
TZNAME:BST
TZOFFSETTO:+0100
END:DAYLIGHT
BEGIN:STANDARD
TZOFFSETFROM:+0100
RRULE:FREQ=YEARLY;BYMONTH=10;BYDAY=-1SU
DTSTART:19961027T020000
TZNAME:GMT
TZOFFSETTO:+0000
END:STANDARD
END:VTIMEZONE
BEGIN:VEVENT
UID:event_product_462715@webcollect.org.uk
DTSTAMP:20260423T093717Z
ORGANIZER;CN=GWSC  Office:MAILTO:office@grafham.org
DTSTART;VALUE=DATE:20260516
DESCRIPTION:Please click here to download a map of the spaces available. Please note that you are booking your actual space and once booked cannot be changed.The small Campervan spaces are only suitable for a VW size Campervan and please only take an Extra Long space if you need it. Please make sure you read the instructions attached. Those with tents please head for the camping area. Please stay within...
SUMMARY:16-05-2026 Campervan (CV 1) Tent and Campervan - Phantom Inlands 2026(1 places avail) - Grafham Water Sailing Club
END:VEVENT
BEGIN:VEVENT
UID:event_product_462720@webcollect.org.uk
DTSTAMP:20260423T093717Z
ORGANIZER;CN=GWSC  Office:MAILTO:office@grafham.org
DTSTART;VALUE=DATE:20260516
DESCRIPTION:Please click here to download a map of the spaces available. Please note that you are booking your actual space and once booked cannot be changed.The small Campervan spaces are only suitable for a VW size Campervan and please only take an Extra Long space if you need it. Please make sure you read the instructions attached. Those with tents please head for the camping area. Please stay within...
SUMMARY:16-05-2026 Campervan (CV 2) Tent and Campervan - Phantom Inlands 2026(1 places avail) - Grafham Water Sailing Club
END:VEVENT
BEGIN:VEVENT
UID:event_product_462716@webcollect.org.uk
DTSTAMP:20260423T093717Z
ORGANIZER;CN=GWSC  Office:MAILTO:office@grafham.org
DTSTART;VALUE=DATE:20260516
DESCRIPTION:Please click here to download a map of the spaces available. Please note that you are booking your actual space and once booked cannot be changed.The small Campervan spaces are only suitable for a VW size Campervan and please only take an Extra Long space if you need it. Please make sure you read the instructions attached. Those with tents please head for the camping area. Please stay within...
SUMMARY:16-05-2026 Campervan (CV 3) Tent and Campervan - Phantom Inlands 2026(full) - Grafham Water Sailing Club
END:VEVENT
BEGIN:VEVENT
UID:event_product_462729@webcollect.org.uk
DTSTAMP:20260423T093717Z
ORGANIZER;CN=GWSC  Office:MAILTO:office@grafham.org
DTSTART;VALUE=DATE:20260516
DESCRIPTION:Please click here to download a map of the spaces available. Please note that you are booking your actual space and once booked cannot be changed.The small Campervan spaces are only suitable for a VW size Campervan and please only take an Extra Long space if you need it. Please make sure you read the instructions attached. Those with tents please head for the camping area. Please stay within...
SUMMARY:16-05-2026 Campervan (CV 4) Small Tent and Campervan - Phantom Inlands 2026(1 places avail) - Grafham Water Sailing Club
END:VEVENT
BEGIN:VEVENT
UID:event_product_462717@webcollect.org.uk
DTSTAMP:20260423T093717Z
ORGANIZER;CN=GWSC  Office:MAILTO:office@grafham.org
DTSTART;VALUE=DATE:20260516
DESCRIPTION:Please click here to download a map of the spaces available. Please note that you are booking your actual space and once booked cannot be changed.The small Campervan spaces are only suitable for a VW size Campervan and please only take an Extra Long space if you need it. Please make sure you read the instructions attached. Those with tents please head for the camping area. Please stay within...
SUMMARY:16-05-2026 Campervan (CV 5) Tent and Campervan - Phantom Inlands 2026(1 places avail) - Grafham Water Sailing Club
END:VEVENT
BEGIN:VEVENT
UID:event_product_462718@webcollect.org.uk
DTSTAMP:20260423T093717Z
ORGANIZER;CN=GWSC  Office:MAILTO:office@grafham.org
DTSTART;VALUE=DATE:20260516
DESCRIPTION:Please click here to download a map of the spaces available. Please note that you are booking your actual space and once booked cannot be changed.The small Campervan spaces are only suitable for a VW size Campervan and please only take an Extra Long space if you need it. Please make sure you read the instructions attached. Those with tents please head for the camping area. Please stay within...
SUMMARY:16-05-2026 Campervan (CV 6) Tent and Campervan - Phantom Inlands 2026(1 places avail) - Grafham Water Sailing Club
END:VEVENT
BEGIN:VEVENT
UID:event_product_462721@webcollect.org.uk
DTSTAMP:20260423T093717Z
ORGANIZER;CN=GWSC  Office:MAILTO:office@grafham.org
DTSTART;VALUE=DATE:20260516
DESCRIPTION:Please click here to download a map of the spaces available. Please note that you are booking your actual space and once booked cannot be changed.The small Campervan spaces are only suitable for a VW size Campervan and please only take an Extra Long space if you need it. Please make sure you read the instructions attached. Those with tents please head for the camping area. Please stay within...
SUMMARY:16-05-2026 Campervan (CV 7) Tent and Campervan - Phantom Inlands 2026(1 places avail) - Grafham Water Sailing Club
END:VEVENT
BEGIN:VEVENT
UID:event_product_462723@webcollect.org.uk
DTSTAMP:20260423T093717Z
ORGANIZER;CN=GWSC  Office:MAILTO:office@grafham.org
DTSTART;VALUE=DATE:20260516
DESCRIPTION:Please click here to download a map of the spaces available. Please note that you are booking your actual space and once booked cannot be changed.The small Campervan spaces are only suitable for a VW size Campervan and please only take an Extra Long space if you need it. Please make sure you read the instructions attached. Those with tents please head for the camping area. Please stay within...
SUMMARY:16-05-2026 Campervan (CV 8) Tent and Campervan - Phantom Inlands 2026(full) - Grafham Water Sailing Club
END:VEVENT
BEGIN:VEVENT
UID:event_product_462725@webcollect.org.uk
DTSTAMP:20260423T093717Z
ORGANIZER;CN=GWSC  Office:MAILTO:office@grafham.org
DTSTART;VALUE=DATE:20260516
DESCRIPTION:Please click here to download a map of the spaces available. Please note that you are booking your actual space and once booked cannot be changed.The small Campervan spaces are only suitable for a VW size Campervan and please only take an Extra Long space if you need it. Please make sure you read the instructions attached. Those with tents please head for the camping area. Please stay within...
SUMMARY:16-05-2026 Campervan (CV 9) Tent and Campervan - Phantom Inlands 2026(full) - Grafham Water Sailing Club
END:VEVENT
BEGIN:VEVENT
UID:event_product_462722@webcollect.org.uk
DTSTAMP:20260423T093717Z
ORGANIZER;CN=GWSC  Office:MAILTO:office@grafham.org
DTSTART;VALUE=DATE:20260516
DESCRIPTION:Please click here to download a map of the spaces available. Please note that you are booking your actual space and once booked cannot be changed.The small Campervan spaces are only suitable for a VW size Campervan and please only take an Extra Long space if you need it. Please make sure you read the instructions attached. Those with tents please head for the camping area. Please stay within...
SUMMARY:16-05-2026 Campervan (CV10) Tent and Campervan - Phantom Inlands 2026(full) - Grafham Water Sailing Club
END:VEVENT
BEGIN:VEVENT
UID:event_product_462724@webcollect.org.uk
DTSTAMP:20260423T093717Z
ORGANIZER;CN=GWSC  Office:MAILTO:office@grafham.org
DTSTART;VALUE=DATE:20260516
DESCRIPTION:Please click here to download a map of the spaces available. Please note that you are booking your actual space and once booked cannot be changed.The small Campervan spaces are only suitable for a VW size Campervan and please only take an Extra Long space if you need it. Please make sure you read the instructions attached. Those with tents please head for the camping area. Please stay within...
SUMMARY:16-05-2026 Campervan (CV11) Tent and Campervan - Phantom Inlands 2026(1 places avail) - Grafham Water Sailing Club
END:VEVENT
BEGIN:VEVENT
UID:event_product_462719@webcollect.org.uk
DTSTAMP:20260423T093717Z
ORGANIZER;CN=GWSC  Office:MAILTO:office@grafham.org
DTSTART;VALUE=DATE:20260516
DESCRIPTION:Please click here to download a map of the spaces available. Please note that you are booking your actual space and once booked cannot be changed.The small Campervan spaces are only suitable for a VW size Campervan and please only take an Extra Long space if you need it. Please make sure you read the instructions attached. Those with tents please head for the camping area. Please stay within...
SUMMARY:16-05-2026 Campervan (CV12) Tent and Campervan - Phantom Inlands 2026(1 places avail) - Grafham Water Sailing Club
END:VEVENT
BEGIN:VEVENT
UID:event_product_462735@webcollect.org.uk
DTSTAMP:20260423T093717Z
ORGANIZER;CN=GWSC  Office:MAILTO:office@grafham.org
DTSTART;VALUE=DATE:20260516
DESCRIPTION:Please click here to download a map of the spaces available. Please note that you are booking your actual space and once booked cannot be changed.The small Campervan spaces are only suitable for a VW size Campervan and please only take an Extra Long space if you need it. Please make sure you read the instructions attached. Those with tents please head for the camping area. Please stay within...
SUMMARY:16-05-2026 Campervan (CV13) Tent and Campervan - Phantom Inlands 2026(1 places avail) - Grafham Water Sailing Club
END:VEVENT
BEGIN:VEVENT
UID:event_product_462736@webcollect.org.uk
DTSTAMP:20260423T093717Z
ORGANIZER;CN=GWSC  Office:MAILTO:office@grafham.org
DTSTART;VALUE=DATE:20260516
DESCRIPTION:Please click here to download a map of the spaces available. Please note that you are booking your actual space and once booked cannot be changed.The small Campervan spaces are only suitable for a VW size Campervan and please only take an Extra Long space if you need it. Please make sure you read the instructions attached. Those with tents please head for the camping area. Please stay within...
SUMMARY:16-05-2026 Campervan (CV14) Tent and Campervan - Phantom Inlands 2026(1 places avail) - Grafham Water Sailing Club
END:VEVENT
BEGIN:VEVENT
UID:event_product_462737@webcollect.org.uk
DTSTAMP:20260423T093717Z
ORGANIZER;CN=GWSC  Office:MAILTO:office@grafham.org
DTSTART;VALUE=DATE:20260516
DESCRIPTION:Please click here to download a map of the spaces available. Please note that you are booking your actual space and once booked cannot be changed.The small Campervan spaces are only suitable for a VW size Campervan and please only take an Extra Long space if you need it. Please make sure you read the instructions attached. Those with tents please head for the camping area. Please stay within...
SUMMARY:16-05-2026 Campervan (CV15) Tent and Campervan - Phantom Inlands 2026(1 places avail) - Grafham Water Sailing Club
END:VEVENT
BEGIN:VEVENT
UID:event_product_462730@webcollect.org.uk
DTSTAMP:20260423T093717Z
ORGANIZER;CN=GWSC  Office:MAILTO:office@grafham.org
DTSTART;VALUE=DATE:20260516
DESCRIPTION:Please click here to download a map of the spaces available. Please note that you are booking your actual space and once booked cannot be changed.The small Campervan spaces are only suitable for a VW size Campervan and please only take an Extra Long space if you need it. Please make sure you read the instructions attached. Those with tents please head for the camping area. Please stay within...
SUMMARY:16-05-2026 Campervan (CV16) Small Tent and Campervan - Phantom Inlands 2026(full) - Grafham Water Sailing Club
END:VEVENT
BEGIN:VEVENT
UID:event_product_462731@webcollect.org.uk
DTSTAMP:20260423T093717Z
ORGANIZER;CN=GWSC  Office:MAILTO:office@grafham.org
DTSTART;VALUE=DATE:20260516
DESCRIPTION:Please click here to download a map of the spaces available. Please note that you are booking your actual space and once booked cannot be changed.The small Campervan spaces are only suitable for a VW size Campervan and please only take an Extra Long space if you need it. Please make sure you read the instructions attached. Those with tents please head for the camping area. Please stay within...
SUMMARY:16-05-2026 Campervan (CV17) Small Tent and Campervan - Phantom Inlands 2026(1 places avail) - Grafham Water Sailing Club
END:VEVENT
BEGIN:VEVENT
UID:event_product_462732@webcollect.org.uk
DTSTAMP:20260423T093717Z
ORGANIZER;CN=GWSC  Office:MAILTO:office@grafham.org
DTSTART;VALUE=DATE:20260516
DESCRIPTION:Please click here to download a map of the spaces available. Please note that you are booking your actual space and once booked cannot be changed.The small Campervan spaces are only suitable for a VW size Campervan and please only take an Extra Long space if you need it. Please make sure you read the instructions attached. Those with tents please head for the camping area. Please stay within...
SUMMARY:16-05-2026 Campervan (CV18) Small Tent and Campervan - Phantom Inlands 2026(1 places avail) - Grafham Water Sailing Club
END:VEVENT
BEGIN:VEVENT
UID:event_product_462733@webcollect.org.uk
DTSTAMP:20260423T093717Z
ORGANIZER;CN=GWSC  Office:MAILTO:office@grafham.org
DTSTART;VALUE=DATE:20260516
DESCRIPTION:Please click here to download a map of the spaces available. Please note that you are booking your actual space and once booked cannot be changed.The small Campervan spaces are only suitable for a VW size Campervan and please only take an Extra Long space if you need it. Please make sure you read the instructions attached. Those with tents please head for the camping area. Please stay within...
SUMMARY:16-05-2026 Campervan (CV19) Small Tent and Campervan - Phantom Inlands 2026(1 places avail) - Grafham Water Sailing Club
END:VEVENT
BEGIN:VEVENT
UID:event_product_462734@webcollect.org.uk
DTSTAMP:20260423T093717Z
ORGANIZER;CN=GWSC  Office:MAILTO:office@grafham.org
DTSTART;VALUE=DATE:20260516
DESCRIPTION:Please click here to download a map of the spaces available. Please note that you are booking your actual space and once booked cannot be changed.The small Campervan spaces are only suitable for a VW size Campervan and please only take an Extra Long space if you need it. Please make sure you read the instructions attached. Those with tents please head for the camping area. Please stay within...
SUMMARY:16-05-2026 Campervan (CV20) Small Tent and Campervan - Phantom Inlands 2026(full) - Grafham Water Sailing Club
END:VEVENT
BEGIN:VEVENT
UID:event_product_462727@webcollect.org.uk
DTSTAMP:20260423T093717Z
ORGANIZER;CN=GWSC  Office:MAILTO:office@grafham.org
DTSTART;VALUE=DATE:20260516
DESCRIPTION:Please click here to download a map of the spaces available. Please note that you are booking your actual space and once booked cannot be changed.The small Campervan spaces are only suitable for a VW size Campervan and please only take an Extra Long space if you need it. Please make sure you read the instructions attached. Those with tents please head for the camping area. Please stay within...
SUMMARY:16-05-2026 Campervan (CV23) Extra Long Tent and Campervan - Phantom Inlands 2026(1 places avail) - Grafham Water Sailing Club
END:VEVENT
BEGIN:VEVENT
UID:event_product_462728@webcollect.org.uk
DTSTAMP:20260423T093717Z
ORGANIZER;CN=GWSC  Office:MAILTO:office@grafham.org
DTSTART;VALUE=DATE:20260516
DESCRIPTION:Please click here to download a map of the spaces available. Please note that you are booking your actual space and once booked cannot be changed.The small Campervan spaces are only suitable for a VW size Campervan and please only take an Extra Long space if you need it. Please make sure you read the instructions attached. Those with tents please head for the camping area. Please stay within...
SUMMARY:16-05-2026 Campervan (CV27) Extra Long Tent and Campervan - Phantom Inlands 2026(1 places avail) - Grafham Water Sailing Club
END:VEVENT
BEGIN:VEVENT
UID:event_product_462726@webcollect.org.uk
DTSTAMP:20260423T093717Z
ORGANIZER;CN=GWSC  Office:MAILTO:office@grafham.org
DTSTART;VALUE=DATE:20260516
DESCRIPTION:Please click here to download a map of the spaces available. Please note that you are booking your actual space and once booked cannot be changed.The small Campervan spaces are only suitable for a VW size Campervan and please only take an Extra Long space if you need it. Please make sure you read the instructions attached. Those with tents please head for the camping area. Please stay within...
SUMMARY:Tent Pitch Tent and Campervan - Phantom Inlands 2026(28 places avail) - Grafham Water Sailing Club
END:VEVENT
END:VCALENDAR
