BEGIN:VCALENDAR
METHOD:PUBLISH
PRODID:-//webcollect/grafham//NONSGML v1.0//EN
BEGIN:VTIMEZONE
TZID:Europe/London
BEGIN:DAYLIGHT
TZOFFSETFROM:+0000
RRULE:FREQ=YEARLY;BYMONTH=3;BYDAY=-1SU
DTSTART:19810329T010000
TZNAME:BST
TZOFFSETTO:+0100
END:DAYLIGHT
BEGIN:STANDARD
TZOFFSETFROM:+0100
RRULE:FREQ=YEARLY;BYMONTH=10;BYDAY=-1SU
DTSTART:19961027T020000
TZNAME:GMT
TZOFFSETTO:+0000
END:STANDARD
END:VTIMEZONE
BEGIN:VEVENT
UID:event_product_454064@webcollect.org.uk
DTSTAMP:20260421T134510Z
ORGANIZER;CN=GWSC  Office:MAILTO:office@grafham.org
DTSTART;TZID=Europe/London:20260803T100000
DTEND;TZID=Europe/London:20260803T170000
DESCRIPTION:Please ensure that you have purchased or already have the appropriate membership required. If you are unsure then please contact the Office. Now a regular feature in our summer programme. Please note that all participants must have RYA Stage 2 or above.During the day our team\, led by Chief Instructor Matt French\, will provide opportunities to dinghy sail and windsurf and SUP. This is a fun week...
SUMMARY:Four and a half days Youth Summer Camp(20 places avail) - Grafham Water Sailing Club
END:VEVENT
BEGIN:VEVENT
UID:event_product_454065@webcollect.org.uk
DTSTAMP:20260421T134510Z
ORGANIZER;CN=GWSC  Office:MAILTO:office@grafham.org
DTSTART;TZID=Europe/London:20260803T100000
DTEND;TZID=Europe/London:20260803T170000
DESCRIPTION:Please ensure that you have purchased or already have the appropriate membership required. If you are unsure then please contact the Office. Now a regular feature in our summer programme. Please note that all participants must have RYA Stage 2 or above.During the day our team\, led by Chief Instructor Matt French\, will provide opportunities to dinghy sail and windsurf and SUP. This is a fun week...
SUMMARY:Monday only Youth Summer Camp(4 places avail) - Grafham Water Sailing Club
END:VEVENT
BEGIN:VEVENT
UID:event_product_454066@webcollect.org.uk
DTSTAMP:20260421T134510Z
ORGANIZER;CN=GWSC  Office:MAILTO:office@grafham.org
DTSTART;TZID=Europe/London:20260804T100000
DTEND;TZID=Europe/London:20260804T170000
DESCRIPTION:Please ensure that you have purchased or already have the appropriate membership required. If you are unsure then please contact the Office. Now a regular feature in our summer programme. Please note that all participants must have RYA Stage 2 or above.During the day our team\, led by Chief Instructor Matt French\, will provide opportunities to dinghy sail and windsurf and SUP. This is a fun week...
SUMMARY:Tuesday only Youth Summer Camp(4 places avail) - Grafham Water Sailing Club
END:VEVENT
BEGIN:VEVENT
UID:event_product_454067@webcollect.org.uk
DTSTAMP:20260421T134510Z
ORGANIZER;CN=GWSC  Office:MAILTO:office@grafham.org
DTSTART;TZID=Europe/London:20260805T100000
DTEND;TZID=Europe/London:20260805T170000
DESCRIPTION:Please ensure that you have purchased or already have the appropriate membership required. If you are unsure then please contact the Office. Now a regular feature in our summer programme. Please note that all participants must have RYA Stage 2 or above.During the day our team\, led by Chief Instructor Matt French\, will provide opportunities to dinghy sail and windsurf and SUP. This is a fun week...
SUMMARY:Wednesday only Youth Summer Camp(4 places avail) - Grafham Water Sailing Club
END:VEVENT
BEGIN:VEVENT
UID:event_product_454068@webcollect.org.uk
DTSTAMP:20260421T134510Z
ORGANIZER;CN=GWSC  Office:MAILTO:office@grafham.org
DTSTART;TZID=Europe/London:20260806T100000
DTEND;TZID=Europe/London:20260806T170000
DESCRIPTION:Please ensure that you have purchased or already have the appropriate membership required. If you are unsure then please contact the Office. Now a regular feature in our summer programme. Please note that all participants must have RYA Stage 2 or above.During the day our team\, led by Chief Instructor Matt French\, will provide opportunities to dinghy sail and windsurf and SUP. This is a fun week...
SUMMARY:Thursday only Youth Summer Camp(4 places avail) - Grafham Water Sailing Club
END:VEVENT
BEGIN:VEVENT
UID:event_product_454069@webcollect.org.uk
DTSTAMP:20260421T134510Z
ORGANIZER;CN=GWSC  Office:MAILTO:office@grafham.org
DTSTART;TZID=Europe/London:20260807T100000
DTEND;TZID=Europe/London:20260807T133000
DESCRIPTION:Please ensure that you have purchased or already have the appropriate membership required. If you are unsure then please contact the Office. Now a regular feature in our summer programme. Please note that all participants must have RYA Stage 2 or above.During the day our team\, led by Chief Instructor Matt French\, will provide opportunities to dinghy sail and windsurf and SUP. This is a fun week...
SUMMARY:Friday only Youth Summer Camp(4 places avail) - Grafham Water Sailing Club
END:VEVENT
END:VCALENDAR
