BEGIN:VCALENDAR
METHOD:PUBLISH
PRODID:-//webcollect/grafham//NONSGML v1.0//EN
BEGIN:VTIMEZONE
TZID:Europe/London
BEGIN:DAYLIGHT
TZOFFSETFROM:+0000
RRULE:FREQ=YEARLY;BYMONTH=3;BYDAY=-1SU
DTSTART:19810329T010000
TZNAME:BST
TZOFFSETTO:+0100
END:DAYLIGHT
BEGIN:STANDARD
TZOFFSETFROM:+0100
RRULE:FREQ=YEARLY;BYMONTH=10;BYDAY=-1SU
DTSTART:19961027T020000
TZNAME:GMT
TZOFFSETTO:+0000
END:STANDARD
END:VTIMEZONE
BEGIN:VEVENT
UID:event_product_452858@webcollect.org.uk
DTSTAMP:20260421T120810Z
ORGANIZER;CN=GWSC  Office:MAILTO:office@grafham.org
DTSTART;TZID=Europe/London:20260508T130000
DESCRIPTION:You make take part in one Taster session prior to purchasing membership. After this please ensure that you have purchased or already have the appropriate membership required. If you are unsure then please contact the Office. Our wingsurfing tasters are run on selected Fridays or Saturdays. Other dates available on request.They are an introduction to flying the wing and making you feel confident...
SUMMARY:Wingsurfing Taster Session Wingsurfing Taster Sessions (2 places avail) - Grafham Water Sailing Club
END:VEVENT
BEGIN:VEVENT
UID:event_product_452859@webcollect.org.uk
DTSTAMP:20260421T120810Z
ORGANIZER;CN=GWSC  Office:MAILTO:office@grafham.org
DTSTART;TZID=Europe/London:20260522T130000
DESCRIPTION:You make take part in one Taster session prior to purchasing membership. After this please ensure that you have purchased or already have the appropriate membership required. If you are unsure then please contact the Office. Our wingsurfing tasters are run on selected Fridays or Saturdays. Other dates available on request.They are an introduction to flying the wing and making you feel confident...
SUMMARY:Wingsurfing Taster Session Wingsurfing Taster Sessions (1 places avail) - Grafham Water Sailing Club
END:VEVENT
BEGIN:VEVENT
UID:event_product_452861@webcollect.org.uk
DTSTAMP:20260421T120810Z
ORGANIZER;CN=GWSC  Office:MAILTO:office@grafham.org
DTSTART;TZID=Europe/London:20260530T110000
DTEND;TZID=Europe/London:20260530T123000
DESCRIPTION:You make take part in one Taster session prior to purchasing membership. After this please ensure that you have purchased or already have the appropriate membership required. If you are unsure then please contact the Office. Our wingsurfing tasters are run on selected Fridays or Saturdays. Other dates available on request.They are an introduction to flying the wing and making you feel confident...
SUMMARY:Wingsurfing Taster Session Wingsurfing Taster Sessions (full) - Grafham Water Sailing Club
END:VEVENT
BEGIN:VEVENT
UID:event_product_459137@webcollect.org.uk
DTSTAMP:20260421T120810Z
ORGANIZER;CN=GWSC  Office:MAILTO:office@grafham.org
DTSTART;TZID=Europe/London:20260530T124500
DTEND;TZID=Europe/London:20260530T141500
DESCRIPTION:You make take part in one Taster session prior to purchasing membership. After this please ensure that you have purchased or already have the appropriate membership required. If you are unsure then please contact the Office. Our wingsurfing tasters are run on selected Fridays or Saturdays. Other dates available on request.They are an introduction to flying the wing and making you feel confident...
SUMMARY:Wingsurfing Taster Session Wingsurfing Taster Sessions (1 places avail) - Grafham Water Sailing Club
END:VEVENT
BEGIN:VEVENT
UID:event_product_453170@webcollect.org.uk
DTSTAMP:20260421T120810Z
ORGANIZER;CN=GWSC  Office:MAILTO:office@grafham.org
DTSTART;TZID=Europe/London:20260605T130000
DESCRIPTION:You make take part in one Taster session prior to purchasing membership. After this please ensure that you have purchased or already have the appropriate membership required. If you are unsure then please contact the Office. Our wingsurfing tasters are run on selected Fridays or Saturdays. Other dates available on request.They are an introduction to flying the wing and making you feel confident...
SUMMARY:Wingsurfing Taster Session Wingsurfing Taster Sessions (2 places avail) - Grafham Water Sailing Club
END:VEVENT
BEGIN:VEVENT
UID:event_product_453172@webcollect.org.uk
DTSTAMP:20260421T120810Z
ORGANIZER;CN=GWSC  Office:MAILTO:office@grafham.org
DTSTART;TZID=Europe/London:20260613T110000
DTEND;TZID=Europe/London:20260613T123000
DESCRIPTION:You make take part in one Taster session prior to purchasing membership. After this please ensure that you have purchased or already have the appropriate membership required. If you are unsure then please contact the Office. Our wingsurfing tasters are run on selected Fridays or Saturdays. Other dates available on request.They are an introduction to flying the wing and making you feel confident...
SUMMARY:Wingsurfing Taster Session Wingsurfing Taster Sessions (full) - Grafham Water Sailing Club
END:VEVENT
BEGIN:VEVENT
UID:event_product_459138@webcollect.org.uk
DTSTAMP:20260421T120810Z
ORGANIZER;CN=GWSC  Office:MAILTO:office@grafham.org
DTSTART;TZID=Europe/London:20260613T124500
DTEND;TZID=Europe/London:20260613T141500
DESCRIPTION:You make take part in one Taster session prior to purchasing membership. After this please ensure that you have purchased or already have the appropriate membership required. If you are unsure then please contact the Office. Our wingsurfing tasters are run on selected Fridays or Saturdays. Other dates available on request.They are an introduction to flying the wing and making you feel confident...
SUMMARY:Wingsurfing Taster Session Wingsurfing Taster Sessions (1 places avail) - Grafham Water Sailing Club
END:VEVENT
BEGIN:VEVENT
UID:event_product_453171@webcollect.org.uk
DTSTAMP:20260421T120810Z
ORGANIZER;CN=GWSC  Office:MAILTO:office@grafham.org
DTSTART;TZID=Europe/London:20260619T130000
DESCRIPTION:You make take part in one Taster session prior to purchasing membership. After this please ensure that you have purchased or already have the appropriate membership required. If you are unsure then please contact the Office. Our wingsurfing tasters are run on selected Fridays or Saturdays. Other dates available on request.They are an introduction to flying the wing and making you feel confident...
SUMMARY:Wingsurfing Taster Session Wingsurfing Taster Sessions (2 places avail) - Grafham Water Sailing Club
END:VEVENT
BEGIN:VEVENT
UID:event_product_453173@webcollect.org.uk
DTSTAMP:20260421T120810Z
ORGANIZER;CN=GWSC  Office:MAILTO:office@grafham.org
DTSTART;TZID=Europe/London:20260627T110000
DESCRIPTION:You make take part in one Taster session prior to purchasing membership. After this please ensure that you have purchased or already have the appropriate membership required. If you are unsure then please contact the Office. Our wingsurfing tasters are run on selected Fridays or Saturdays. Other dates available on request.They are an introduction to flying the wing and making you feel confident...
SUMMARY:Wingsurfing Taster Session Wingsurfing Taster Sessions (2 places avail) - Grafham Water Sailing Club
END:VEVENT
BEGIN:VEVENT
UID:event_product_453174@webcollect.org.uk
DTSTAMP:20260421T120810Z
ORGANIZER;CN=GWSC  Office:MAILTO:office@grafham.org
DTSTART;TZID=Europe/London:20260703T130000
DESCRIPTION:You make take part in one Taster session prior to purchasing membership. After this please ensure that you have purchased or already have the appropriate membership required. If you are unsure then please contact the Office. Our wingsurfing tasters are run on selected Fridays or Saturdays. Other dates available on request.They are an introduction to flying the wing and making you feel confident...
SUMMARY:Wingsurfing Taster Session Wingsurfing Taster Sessions (2 places avail) - Grafham Water Sailing Club
END:VEVENT
BEGIN:VEVENT
UID:event_product_453175@webcollect.org.uk
DTSTAMP:20260421T120810Z
ORGANIZER;CN=GWSC  Office:MAILTO:office@grafham.org
DTSTART;TZID=Europe/London:20260717T130000
DESCRIPTION:You make take part in one Taster session prior to purchasing membership. After this please ensure that you have purchased or already have the appropriate membership required. If you are unsure then please contact the Office. Our wingsurfing tasters are run on selected Fridays or Saturdays. Other dates available on request.They are an introduction to flying the wing and making you feel confident...
SUMMARY:Wingsurfing Taster Session Wingsurfing Taster Sessions (2 places avail) - Grafham Water Sailing Club
END:VEVENT
BEGIN:VEVENT
UID:event_product_453177@webcollect.org.uk
DTSTAMP:20260421T120810Z
ORGANIZER;CN=GWSC  Office:MAILTO:office@grafham.org
DTSTART;TZID=Europe/London:20260725T110000
DESCRIPTION:You make take part in one Taster session prior to purchasing membership. After this please ensure that you have purchased or already have the appropriate membership required. If you are unsure then please contact the Office. Our wingsurfing tasters are run on selected Fridays or Saturdays. Other dates available on request.They are an introduction to flying the wing and making you feel confident...
SUMMARY:Wingsurfing Taster Session Wingsurfing Taster Sessions (2 places avail) - Grafham Water Sailing Club
END:VEVENT
BEGIN:VEVENT
UID:event_product_453176@webcollect.org.uk
DTSTAMP:20260421T120810Z
ORGANIZER;CN=GWSC  Office:MAILTO:office@grafham.org
DTSTART;TZID=Europe/London:20260731T130000
DESCRIPTION:You make take part in one Taster session prior to purchasing membership. After this please ensure that you have purchased or already have the appropriate membership required. If you are unsure then please contact the Office. Our wingsurfing tasters are run on selected Fridays or Saturdays. Other dates available on request.They are an introduction to flying the wing and making you feel confident...
SUMMARY:Wingsurfing Taster Session Wingsurfing Taster Sessions (2 places avail) - Grafham Water Sailing Club
END:VEVENT
BEGIN:VEVENT
UID:event_product_453180@webcollect.org.uk
DTSTAMP:20260421T120810Z
ORGANIZER;CN=GWSC  Office:MAILTO:office@grafham.org
DTSTART;TZID=Europe/London:20260808T130000
DESCRIPTION:You make take part in one Taster session prior to purchasing membership. After this please ensure that you have purchased or already have the appropriate membership required. If you are unsure then please contact the Office. Our wingsurfing tasters are run on selected Fridays or Saturdays. Other dates available on request.They are an introduction to flying the wing and making you feel confident...
SUMMARY:Wingsurfing Taster Session Wingsurfing Taster Sessions (full) - Grafham Water Sailing Club
END:VEVENT
BEGIN:VEVENT
UID:event_product_453178@webcollect.org.uk
DTSTAMP:20260421T120810Z
ORGANIZER;CN=GWSC  Office:MAILTO:office@grafham.org
DTSTART;TZID=Europe/London:20260814T110000
DESCRIPTION:You make take part in one Taster session prior to purchasing membership. After this please ensure that you have purchased or already have the appropriate membership required. If you are unsure then please contact the Office. Our wingsurfing tasters are run on selected Fridays or Saturdays. Other dates available on request.They are an introduction to flying the wing and making you feel confident...
SUMMARY:Wingsurfing Taster Session Wingsurfing Taster Sessions (2 places avail) - Grafham Water Sailing Club
END:VEVENT
BEGIN:VEVENT
UID:event_product_453181@webcollect.org.uk
DTSTAMP:20260421T120810Z
ORGANIZER;CN=GWSC  Office:MAILTO:office@grafham.org
DTSTART;TZID=Europe/London:20260822T130000
DESCRIPTION:You make take part in one Taster session prior to purchasing membership. After this please ensure that you have purchased or already have the appropriate membership required. If you are unsure then please contact the Office. Our wingsurfing tasters are run on selected Fridays or Saturdays. Other dates available on request.They are an introduction to flying the wing and making you feel confident...
SUMMARY:Wingsurfing Taster Session Wingsurfing Taster Sessions (2 places avail) - Grafham Water Sailing Club
END:VEVENT
BEGIN:VEVENT
UID:event_product_453179@webcollect.org.uk
DTSTAMP:20260421T120810Z
ORGANIZER;CN=GWSC  Office:MAILTO:office@grafham.org
DTSTART;TZID=Europe/London:20260828T130000
DESCRIPTION:You make take part in one Taster session prior to purchasing membership. After this please ensure that you have purchased or already have the appropriate membership required. If you are unsure then please contact the Office. Our wingsurfing tasters are run on selected Fridays or Saturdays. Other dates available on request.They are an introduction to flying the wing and making you feel confident...
SUMMARY:Wingsurfing Taster Session Wingsurfing Taster Sessions (2 places avail) - Grafham Water Sailing Club
END:VEVENT
BEGIN:VEVENT
UID:event_product_453182@webcollect.org.uk
DTSTAMP:20260421T120810Z
ORGANIZER;CN=GWSC  Office:MAILTO:office@grafham.org
DTSTART;TZID=Europe/London:20260911T130000
DESCRIPTION:You make take part in one Taster session prior to purchasing membership. After this please ensure that you have purchased or already have the appropriate membership required. If you are unsure then please contact the Office. Our wingsurfing tasters are run on selected Fridays or Saturdays. Other dates available on request.They are an introduction to flying the wing and making you feel confident...
SUMMARY:Wingsurfing Taster Session Wingsurfing Taster Sessions (2 places avail) - Grafham Water Sailing Club
END:VEVENT
BEGIN:VEVENT
UID:event_product_453184@webcollect.org.uk
DTSTAMP:20260421T120810Z
ORGANIZER;CN=GWSC  Office:MAILTO:office@grafham.org
DTSTART;TZID=Europe/London:20260919T110000
DESCRIPTION:You make take part in one Taster session prior to purchasing membership. After this please ensure that you have purchased or already have the appropriate membership required. If you are unsure then please contact the Office. Our wingsurfing tasters are run on selected Fridays or Saturdays. Other dates available on request.They are an introduction to flying the wing and making you feel confident...
SUMMARY:Wingsurfing Taster Session Wingsurfing Taster Sessions (2 places avail) - Grafham Water Sailing Club
END:VEVENT
BEGIN:VEVENT
UID:event_product_453183@webcollect.org.uk
DTSTAMP:20260421T120810Z
ORGANIZER;CN=GWSC  Office:MAILTO:office@grafham.org
DTSTART;TZID=Europe/London:20260925T130000
DESCRIPTION:You make take part in one Taster session prior to purchasing membership. After this please ensure that you have purchased or already have the appropriate membership required. If you are unsure then please contact the Office. Our wingsurfing tasters are run on selected Fridays or Saturdays. Other dates available on request.They are an introduction to flying the wing and making you feel confident...
SUMMARY:Wingsurfing Taster Session Wingsurfing Taster Sessions (2 places avail) - Grafham Water Sailing Club
END:VEVENT
BEGIN:VEVENT
UID:event_product_453139@webcollect.org.uk
DTSTAMP:20260421T120810Z
ORGANIZER;CN=GWSC  Office:MAILTO:office@grafham.org
DTSTART;VALUE=DATE:20270331
DESCRIPTION:You make take part in one Taster session prior to purchasing membership. After this please ensure that you have purchased or already have the appropriate membership required. If you are unsure then please contact the Office. Our wingsurfing tasters are run on selected Fridays or Saturdays. Other dates available on request.They are an introduction to flying the wing and making you feel confident...
SUMMARY:HOLDING DATE - DO NOT BOOK HERE Wingsurfing Taster Sessions (full) - Grafham Water Sailing Club
END:VEVENT
BEGIN:VEVENT
UID:event_product_454055@webcollect.org.uk
DTSTAMP:20260421T120810Z
ORGANIZER;CN=GWSC  Office:MAILTO:office@grafham.org
DTSTART;VALUE=DATE:20270331
DESCRIPTION:Please ensure that you have purchased or already have the appropriate membership required. If you are unsure then please contact the Office. RYA Windsurfing Taster SessionAn introduction to Windsurfing for Youths and Adults. We strongly advise that you wear a wetsuit and boots\, which aren't provided. Boards and buoyancy aids are included in the price. You may complete one Taster session prior...
SUMMARY:1.5 hour session RYA Windsurfing Taster(full) - Grafham Water Sailing Club
END:VEVENT
BEGIN:VEVENT
UID:event_product_454059@webcollect.org.uk
DTSTAMP:20260421T120810Z
ORGANIZER;CN=GWSC  Office:MAILTO:office@grafham.org
DTSTART;VALUE=DATE:20270331
DESCRIPTION:Please ensure that you have purchased or already have the appropriate membership required. If you are unsure then please contact the Office. An introduction to Wingfoiling for Youths and Adults who have already completed a Wingsurfing session.Wetsuits and boots are compulsory\, however\, not provided. All other equipment including buoyancy aid and helmet are included. The sessions are for up to 2...
SUMMARY:1.5 hour session RYA Wing Foiling Taster(1 places avail) - Grafham Water Sailing Club
END:VEVENT
END:VCALENDAR
