BEGIN:VCALENDAR
METHOD:PUBLISH
PRODID:-//webcollect/grafham//NONSGML v1.0//EN
BEGIN:VTIMEZONE
TZID:Europe/London
BEGIN:DAYLIGHT
TZOFFSETFROM:+0000
RRULE:FREQ=YEARLY;BYMONTH=3;BYDAY=-1SU
DTSTART:19810329T010000
TZNAME:BST
TZOFFSETTO:+0100
END:DAYLIGHT
BEGIN:STANDARD
TZOFFSETFROM:+0100
RRULE:FREQ=YEARLY;BYMONTH=10;BYDAY=-1SU
DTSTART:19961027T020000
TZNAME:GMT
TZOFFSETTO:+0000
END:STANDARD
END:VTIMEZONE
BEGIN:VEVENT
UID:event_product_448647@webcollect.org.uk
DTSTAMP:20260421T120725Z
ORGANIZER;CN=GWSC  Office:MAILTO:office@grafham.org
DTSTART;TZID=Europe/London:20260425T100000
DTEND;TZID=Europe/London:20260425T123000
DESCRIPTION:Please ensure that you have purchased or already have the appropriate membership required. If you are unsure then please contact the Office. These Saturday sessions are designed to help you improve your sailing skills in a relaxed\, supervised environment.As a group\, we will decide on an activity that suits the conditions. You might improve your tacking\, learn techniques for going faster or...
SUMMARY:Individual Session Adult Club Coaching - Grafham Water Sailing Club
END:VEVENT
BEGIN:VEVENT
UID:event_product_448648@webcollect.org.uk
DTSTAMP:20260421T120725Z
ORGANIZER;CN=GWSC  Office:MAILTO:office@grafham.org
DTSTART;TZID=Europe/London:20260502T100000
DTEND;TZID=Europe/London:20260502T123000
DESCRIPTION:Please ensure that you have purchased or already have the appropriate membership required. If you are unsure then please contact the Office. These Saturday sessions are designed to help you improve your sailing skills in a relaxed\, supervised environment.As a group\, we will decide on an activity that suits the conditions. You might improve your tacking\, learn techniques for going faster or...
SUMMARY:Individual Session Adult Club Coaching - Grafham Water Sailing Club
END:VEVENT
BEGIN:VEVENT
UID:event_product_448649@webcollect.org.uk
DTSTAMP:20260421T120725Z
ORGANIZER;CN=GWSC  Office:MAILTO:office@grafham.org
DTSTART;TZID=Europe/London:20260509T100000
DTEND;TZID=Europe/London:20260509T123000
DESCRIPTION:Please ensure that you have purchased or already have the appropriate membership required. If you are unsure then please contact the Office. These Saturday sessions are designed to help you improve your sailing skills in a relaxed\, supervised environment.As a group\, we will decide on an activity that suits the conditions. You might improve your tacking\, learn techniques for going faster or...
SUMMARY:Individual Session Adult Club Coaching - Grafham Water Sailing Club
END:VEVENT
BEGIN:VEVENT
UID:event_product_448650@webcollect.org.uk
DTSTAMP:20260421T120725Z
ORGANIZER;CN=GWSC  Office:MAILTO:office@grafham.org
DTSTART;TZID=Europe/London:20260516T100000
DTEND;TZID=Europe/London:20260516T123000
DESCRIPTION:Please ensure that you have purchased or already have the appropriate membership required. If you are unsure then please contact the Office. These Saturday sessions are designed to help you improve your sailing skills in a relaxed\, supervised environment.As a group\, we will decide on an activity that suits the conditions. You might improve your tacking\, learn techniques for going faster or...
SUMMARY:Individual Session Adult Club Coaching - Grafham Water Sailing Club
END:VEVENT
BEGIN:VEVENT
UID:event_product_448651@webcollect.org.uk
DTSTAMP:20260421T120725Z
ORGANIZER;CN=GWSC  Office:MAILTO:office@grafham.org
DTSTART;TZID=Europe/London:20260523T100000
DTEND;TZID=Europe/London:20260523T123000
DESCRIPTION:Please ensure that you have purchased or already have the appropriate membership required. If you are unsure then please contact the Office. These Saturday sessions are designed to help you improve your sailing skills in a relaxed\, supervised environment.As a group\, we will decide on an activity that suits the conditions. You might improve your tacking\, learn techniques for going faster or...
SUMMARY:Individual Session Adult Club Coaching - Grafham Water Sailing Club
END:VEVENT
BEGIN:VEVENT
UID:event_product_448652@webcollect.org.uk
DTSTAMP:20260421T120725Z
ORGANIZER;CN=GWSC  Office:MAILTO:office@grafham.org
DTSTART;TZID=Europe/London:20260530T100000
DTEND;TZID=Europe/London:20260530T123000
DESCRIPTION:Please ensure that you have purchased or already have the appropriate membership required. If you are unsure then please contact the Office. These Saturday sessions are designed to help you improve your sailing skills in a relaxed\, supervised environment.As a group\, we will decide on an activity that suits the conditions. You might improve your tacking\, learn techniques for going faster or...
SUMMARY:Individual Session Adult Club Coaching - Grafham Water Sailing Club
END:VEVENT
BEGIN:VEVENT
UID:event_product_448653@webcollect.org.uk
DTSTAMP:20260421T120725Z
ORGANIZER;CN=GWSC  Office:MAILTO:office@grafham.org
DTSTART;TZID=Europe/London:20260606T100000
DTEND;TZID=Europe/London:20260606T123000
DESCRIPTION:Please ensure that you have purchased or already have the appropriate membership required. If you are unsure then please contact the Office. These Saturday sessions are designed to help you improve your sailing skills in a relaxed\, supervised environment.As a group\, we will decide on an activity that suits the conditions. You might improve your tacking\, learn techniques for going faster or...
SUMMARY:Individual Session Adult Club Coaching - Grafham Water Sailing Club
END:VEVENT
BEGIN:VEVENT
UID:event_product_448654@webcollect.org.uk
DTSTAMP:20260421T120725Z
ORGANIZER;CN=GWSC  Office:MAILTO:office@grafham.org
DTSTART;TZID=Europe/London:20260613T100000
DTEND;TZID=Europe/London:20260613T123000
DESCRIPTION:Please ensure that you have purchased or already have the appropriate membership required. If you are unsure then please contact the Office. These Saturday sessions are designed to help you improve your sailing skills in a relaxed\, supervised environment.As a group\, we will decide on an activity that suits the conditions. You might improve your tacking\, learn techniques for going faster or...
SUMMARY:Individual Session Adult Club Coaching - Grafham Water Sailing Club
END:VEVENT
BEGIN:VEVENT
UID:event_product_448655@webcollect.org.uk
DTSTAMP:20260421T120725Z
ORGANIZER;CN=GWSC  Office:MAILTO:office@grafham.org
DTSTART;TZID=Europe/London:20260620T100000
DTEND;TZID=Europe/London:20260620T123000
DESCRIPTION:Please ensure that you have purchased or already have the appropriate membership required. If you are unsure then please contact the Office. These Saturday sessions are designed to help you improve your sailing skills in a relaxed\, supervised environment.As a group\, we will decide on an activity that suits the conditions. You might improve your tacking\, learn techniques for going faster or...
SUMMARY:Individual Session Adult Club Coaching - Grafham Water Sailing Club
END:VEVENT
BEGIN:VEVENT
UID:event_product_448656@webcollect.org.uk
DTSTAMP:20260421T120725Z
ORGANIZER;CN=GWSC  Office:MAILTO:office@grafham.org
DTSTART;TZID=Europe/London:20260627T100000
DTEND;TZID=Europe/London:20260627T123000
DESCRIPTION:Please ensure that you have purchased or already have the appropriate membership required. If you are unsure then please contact the Office. These Saturday sessions are designed to help you improve your sailing skills in a relaxed\, supervised environment.As a group\, we will decide on an activity that suits the conditions. You might improve your tacking\, learn techniques for going faster or...
SUMMARY:Individual Session Adult Club Coaching - Grafham Water Sailing Club
END:VEVENT
BEGIN:VEVENT
UID:event_product_448657@webcollect.org.uk
DTSTAMP:20260421T120725Z
ORGANIZER;CN=GWSC  Office:MAILTO:office@grafham.org
DTSTART;TZID=Europe/London:20260704T100000
DTEND;TZID=Europe/London:20260704T123000
DESCRIPTION:Please ensure that you have purchased or already have the appropriate membership required. If you are unsure then please contact the Office. These Saturday sessions are designed to help you improve your sailing skills in a relaxed\, supervised environment.As a group\, we will decide on an activity that suits the conditions. You might improve your tacking\, learn techniques for going faster or...
SUMMARY:Individual Session Adult Club Coaching - Grafham Water Sailing Club
END:VEVENT
BEGIN:VEVENT
UID:event_product_448658@webcollect.org.uk
DTSTAMP:20260421T120725Z
ORGANIZER;CN=GWSC  Office:MAILTO:office@grafham.org
DTSTART;TZID=Europe/London:20260711T100000
DTEND;TZID=Europe/London:20260711T123000
DESCRIPTION:Please ensure that you have purchased or already have the appropriate membership required. If you are unsure then please contact the Office. These Saturday sessions are designed to help you improve your sailing skills in a relaxed\, supervised environment.As a group\, we will decide on an activity that suits the conditions. You might improve your tacking\, learn techniques for going faster or...
SUMMARY:Individual Session Adult Club Coaching - Grafham Water Sailing Club
END:VEVENT
BEGIN:VEVENT
UID:event_product_448659@webcollect.org.uk
DTSTAMP:20260421T120725Z
ORGANIZER;CN=GWSC  Office:MAILTO:office@grafham.org
DTSTART;TZID=Europe/London:20260718T100000
DTEND;TZID=Europe/London:20260718T123000
DESCRIPTION:Please ensure that you have purchased or already have the appropriate membership required. If you are unsure then please contact the Office. These Saturday sessions are designed to help you improve your sailing skills in a relaxed\, supervised environment.As a group\, we will decide on an activity that suits the conditions. You might improve your tacking\, learn techniques for going faster or...
SUMMARY:Individual Session Adult Club Coaching - Grafham Water Sailing Club
END:VEVENT
BEGIN:VEVENT
UID:event_product_448660@webcollect.org.uk
DTSTAMP:20260421T120725Z
ORGANIZER;CN=GWSC  Office:MAILTO:office@grafham.org
DTSTART;TZID=Europe/London:20260725T100000
DTEND;TZID=Europe/London:20260725T123000
DESCRIPTION:Please ensure that you have purchased or already have the appropriate membership required. If you are unsure then please contact the Office. These Saturday sessions are designed to help you improve your sailing skills in a relaxed\, supervised environment.As a group\, we will decide on an activity that suits the conditions. You might improve your tacking\, learn techniques for going faster or...
SUMMARY:Individual Session Adult Club Coaching - Grafham Water Sailing Club
END:VEVENT
BEGIN:VEVENT
UID:event_product_448661@webcollect.org.uk
DTSTAMP:20260421T120725Z
ORGANIZER;CN=GWSC  Office:MAILTO:office@grafham.org
DTSTART;TZID=Europe/London:20260801T100000
DTEND;TZID=Europe/London:20260801T123000
DESCRIPTION:Please ensure that you have purchased or already have the appropriate membership required. If you are unsure then please contact the Office. These Saturday sessions are designed to help you improve your sailing skills in a relaxed\, supervised environment.As a group\, we will decide on an activity that suits the conditions. You might improve your tacking\, learn techniques for going faster or...
SUMMARY:Individual Session Adult Club Coaching - Grafham Water Sailing Club
END:VEVENT
BEGIN:VEVENT
UID:event_product_448662@webcollect.org.uk
DTSTAMP:20260421T120725Z
ORGANIZER;CN=GWSC  Office:MAILTO:office@grafham.org
DTSTART;TZID=Europe/London:20260808T100000
DTEND;TZID=Europe/London:20260808T123000
DESCRIPTION:Please ensure that you have purchased or already have the appropriate membership required. If you are unsure then please contact the Office. These Saturday sessions are designed to help you improve your sailing skills in a relaxed\, supervised environment.As a group\, we will decide on an activity that suits the conditions. You might improve your tacking\, learn techniques for going faster or...
SUMMARY:Individual Session Adult Club Coaching - Grafham Water Sailing Club
END:VEVENT
BEGIN:VEVENT
UID:event_product_448663@webcollect.org.uk
DTSTAMP:20260421T120725Z
ORGANIZER;CN=GWSC  Office:MAILTO:office@grafham.org
DTSTART;TZID=Europe/London:20260815T100000
DTEND;TZID=Europe/London:20260815T123000
DESCRIPTION:Please ensure that you have purchased or already have the appropriate membership required. If you are unsure then please contact the Office. These Saturday sessions are designed to help you improve your sailing skills in a relaxed\, supervised environment.As a group\, we will decide on an activity that suits the conditions. You might improve your tacking\, learn techniques for going faster or...
SUMMARY:Individual Session Adult Club Coaching - Grafham Water Sailing Club
END:VEVENT
BEGIN:VEVENT
UID:event_product_448664@webcollect.org.uk
DTSTAMP:20260421T120725Z
ORGANIZER;CN=GWSC  Office:MAILTO:office@grafham.org
DTSTART;TZID=Europe/London:20260822T100000
DTEND;TZID=Europe/London:20260822T123000
DESCRIPTION:Please ensure that you have purchased or already have the appropriate membership required. If you are unsure then please contact the Office. These Saturday sessions are designed to help you improve your sailing skills in a relaxed\, supervised environment.As a group\, we will decide on an activity that suits the conditions. You might improve your tacking\, learn techniques for going faster or...
SUMMARY:Individual Session Adult Club Coaching - Grafham Water Sailing Club
END:VEVENT
BEGIN:VEVENT
UID:event_product_448665@webcollect.org.uk
DTSTAMP:20260421T120725Z
ORGANIZER;CN=GWSC  Office:MAILTO:office@grafham.org
DTSTART;TZID=Europe/London:20260829T100000
DTEND;TZID=Europe/London:20260829T123000
DESCRIPTION:Please ensure that you have purchased or already have the appropriate membership required. If you are unsure then please contact the Office. These Saturday sessions are designed to help you improve your sailing skills in a relaxed\, supervised environment.As a group\, we will decide on an activity that suits the conditions. You might improve your tacking\, learn techniques for going faster or...
SUMMARY:Individual Session Adult Club Coaching - Grafham Water Sailing Club
END:VEVENT
BEGIN:VEVENT
UID:event_product_448666@webcollect.org.uk
DTSTAMP:20260421T120725Z
ORGANIZER;CN=GWSC  Office:MAILTO:office@grafham.org
DTSTART;TZID=Europe/London:20260905T100000
DTEND;TZID=Europe/London:20260905T123000
DESCRIPTION:Please ensure that you have purchased or already have the appropriate membership required. If you are unsure then please contact the Office. These Saturday sessions are designed to help you improve your sailing skills in a relaxed\, supervised environment.As a group\, we will decide on an activity that suits the conditions. You might improve your tacking\, learn techniques for going faster or...
SUMMARY:Individual Session Adult Club Coaching - Grafham Water Sailing Club
END:VEVENT
BEGIN:VEVENT
UID:event_product_448667@webcollect.org.uk
DTSTAMP:20260421T120725Z
ORGANIZER;CN=GWSC  Office:MAILTO:office@grafham.org
DTSTART;TZID=Europe/London:20260912T100000
DTEND;TZID=Europe/London:20260912T123000
DESCRIPTION:Please ensure that you have purchased or already have the appropriate membership required. If you are unsure then please contact the Office. These Saturday sessions are designed to help you improve your sailing skills in a relaxed\, supervised environment.As a group\, we will decide on an activity that suits the conditions. You might improve your tacking\, learn techniques for going faster or...
SUMMARY:Individual Session Adult Club Coaching - Grafham Water Sailing Club
END:VEVENT
BEGIN:VEVENT
UID:event_product_448668@webcollect.org.uk
DTSTAMP:20260421T120725Z
ORGANIZER;CN=GWSC  Office:MAILTO:office@grafham.org
DTSTART;TZID=Europe/London:20260919T100000
DTEND;TZID=Europe/London:20260919T123000
DESCRIPTION:Please ensure that you have purchased or already have the appropriate membership required. If you are unsure then please contact the Office. These Saturday sessions are designed to help you improve your sailing skills in a relaxed\, supervised environment.As a group\, we will decide on an activity that suits the conditions. You might improve your tacking\, learn techniques for going faster or...
SUMMARY:Individual Session Adult Club Coaching - Grafham Water Sailing Club
END:VEVENT
BEGIN:VEVENT
UID:event_product_448669@webcollect.org.uk
DTSTAMP:20260421T120725Z
ORGANIZER;CN=GWSC  Office:MAILTO:office@grafham.org
DTSTART;TZID=Europe/London:20260926T100000
DTEND;TZID=Europe/London:20260926T123000
DESCRIPTION:Please ensure that you have purchased or already have the appropriate membership required. If you are unsure then please contact the Office. These Saturday sessions are designed to help you improve your sailing skills in a relaxed\, supervised environment.As a group\, we will decide on an activity that suits the conditions. You might improve your tacking\, learn techniques for going faster or...
SUMMARY:Individual Session Adult Club Coaching - Grafham Water Sailing Club
END:VEVENT
BEGIN:VEVENT
UID:event_product_448670@webcollect.org.uk
DTSTAMP:20260421T120725Z
ORGANIZER;CN=GWSC  Office:MAILTO:office@grafham.org
DTSTART;TZID=Europe/London:20261003T100000
DTEND;TZID=Europe/London:20261003T123000
DESCRIPTION:Please ensure that you have purchased or already have the appropriate membership required. If you are unsure then please contact the Office. These Saturday sessions are designed to help you improve your sailing skills in a relaxed\, supervised environment.As a group\, we will decide on an activity that suits the conditions. You might improve your tacking\, learn techniques for going faster or...
SUMMARY:Individual Session Adult Club Coaching - Grafham Water Sailing Club
END:VEVENT
BEGIN:VEVENT
UID:event_product_448671@webcollect.org.uk
DTSTAMP:20260421T120725Z
ORGANIZER;CN=GWSC  Office:MAILTO:office@grafham.org
DTSTART;TZID=Europe/London:20261010T100000
DTEND;TZID=Europe/London:20261010T123000
DESCRIPTION:Please ensure that you have purchased or already have the appropriate membership required. If you are unsure then please contact the Office. These Saturday sessions are designed to help you improve your sailing skills in a relaxed\, supervised environment.As a group\, we will decide on an activity that suits the conditions. You might improve your tacking\, learn techniques for going faster or...
SUMMARY:Individual Session Adult Club Coaching - Grafham Water Sailing Club
END:VEVENT
BEGIN:VEVENT
UID:event_product_448672@webcollect.org.uk
DTSTAMP:20260421T120725Z
ORGANIZER;CN=GWSC  Office:MAILTO:office@grafham.org
DTSTART;TZID=Europe/London:20261017T100000
DTEND;TZID=Europe/London:20261017T123000
DESCRIPTION:Please ensure that you have purchased or already have the appropriate membership required. If you are unsure then please contact the Office. These Saturday sessions are designed to help you improve your sailing skills in a relaxed\, supervised environment.As a group\, we will decide on an activity that suits the conditions. You might improve your tacking\, learn techniques for going faster or...
SUMMARY:Individual Session Adult Club Coaching - Grafham Water Sailing Club
END:VEVENT
BEGIN:VEVENT
UID:event_product_448674@webcollect.org.uk
DTSTAMP:20260421T120725Z
ORGANIZER;CN=GWSC  Office:MAILTO:office@grafham.org
DTSTART;TZID=Europe/London:20261024T100000
DTEND;TZID=Europe/London:20261024T123000
DESCRIPTION:Please ensure that you have purchased or already have the appropriate membership required. If you are unsure then please contact the Office. These Saturday sessions are designed to help you improve your sailing skills in a relaxed\, supervised environment.As a group\, we will decide on an activity that suits the conditions. You might improve your tacking\, learn techniques for going faster or...
SUMMARY:Individual Session Adult Club Coaching - Grafham Water Sailing Club
END:VEVENT
BEGIN:VEVENT
UID:event_product_448675@webcollect.org.uk
DTSTAMP:20260421T120725Z
ORGANIZER;CN=GWSC  Office:MAILTO:office@grafham.org
DTSTART;TZID=Europe/London:20261031T100000
DTEND;TZID=Europe/London:20261031T123000
DESCRIPTION:Please ensure that you have purchased or already have the appropriate membership required. If you are unsure then please contact the Office. These Saturday sessions are designed to help you improve your sailing skills in a relaxed\, supervised environment.As a group\, we will decide on an activity that suits the conditions. You might improve your tacking\, learn techniques for going faster or...
SUMMARY:Individual Session Adult Club Coaching - Grafham Water Sailing Club
END:VEVENT
BEGIN:VEVENT
UID:event_product_448717@webcollect.org.uk
DTSTAMP:20260421T120725Z
ORGANIZER;CN=GWSC  Office:MAILTO:office@grafham.org
DTSTART;VALUE=DATE:20270331
DESCRIPTION:Please ensure that you have purchased or already have the appropriate membership required. If you are unsure then please contact the Office. These Saturday sessions are designed to help you improve your sailing skills in a relaxed\, supervised environment.As a group\, we will decide on an activity that suits the conditions. You might improve your tacking\, learn techniques for going faster or...
SUMMARY:Holding Date - DO NOT BOOK ONTO THIS Adult Club Coaching(full) - Grafham Water Sailing Club
END:VEVENT
BEGIN:VEVENT
UID:event_product_454041@webcollect.org.uk
DTSTAMP:20260421T120725Z
ORGANIZER;CN=GWSC  Office:MAILTO:office@grafham.org
DTSTART;TZID=Europe/London:20260509T093000
DTEND;TZID=Europe/London:20260509T164500
DESCRIPTION:The Level 1 and 2 courses will teach you the very basic skills of learning to sail. Membership is required to attend our courses. Please ensure that you have purchased or already have the appropriate membership for the course. If you are unsure then please contact the Office. Dinghy sailing is a very active sport. At times it may feel like a gym workout. For example\, you will need to be able to...
SUMMARY:2 Day Course - 9 & 10 May RYA Adult Level 1 - Start Sailing(full) - Grafham Water Sailing Club
END:VEVENT
BEGIN:VEVENT
UID:event_product_448840@webcollect.org.uk
DTSTAMP:20260421T120725Z
ORGANIZER;CN=GWSC  Office:MAILTO:office@grafham.org
DTSTART;TZID=Europe/London:20260525T100000
DTEND;TZID=Europe/London:20260525T163000
DESCRIPTION:The Level 1 and 2 courses will teach you the very basic skills of learning to sail. Membership is required to attend our courses. Please ensure that you have purchased or already have the appropriate membership for the course. If you are unsure then please contact the Office. Dinghy sailing is a very active sport. At times it may feel like a gym workout. For example\, you will need to be able to...
SUMMARY:5 Day Course - 25th - 29th May RYA Adult Level 1 & 2 Start Sailing and Basic Skills(full) - Grafham Water Sailing Club
END:VEVENT
BEGIN:VEVENT
UID:event_product_448844@webcollect.org.uk
DTSTAMP:20260421T120725Z
ORGANIZER;CN=GWSC  Office:MAILTO:office@grafham.org
DTSTART;TZID=Europe/London:20260727T100000
DTEND;TZID=Europe/London:20260727T163000
DESCRIPTION:The Level 1 and 2 courses will teach you the very basic skills of learning to sail. Membership is required to attend our courses. Please ensure that you have purchased or already have the appropriate membership for the course. If you are unsure then please contact the Office. Dinghy sailing is a very active sport. At times it may feel like a gym workout. For example\, you will need to be able to...
SUMMARY:5 Day Course - 27th July - 31st July RYA Adult Level 1 & 2 Start Sailing and Basic Skills(1 places avail) - Grafham Water Sailing Club
END:VEVENT
BEGIN:VEVENT
UID:event_product_448845@webcollect.org.uk
DTSTAMP:20260421T120725Z
ORGANIZER;CN=GWSC  Office:MAILTO:office@grafham.org
DTSTART;TZID=Europe/London:20260810T100000
DTEND;TZID=Europe/London:20260810T163000
DESCRIPTION:The Level 1 and 2 courses will teach you the very basic skills of learning to sail. Membership is required to attend our courses. Please ensure that you have purchased or already have the appropriate membership for the course. If you are unsure then please contact the Office. Dinghy sailing is a very active sport. At times it may feel like a gym workout. For example\, you will need to be able to...
SUMMARY:5 Day Course - 10th Aug - 14th Aug RYA Adult Level 1 & 2 Start Sailing and Basic Skills(3 places avail) - Grafham Water Sailing Club
END:VEVENT
BEGIN:VEVENT
UID:event_product_456395@webcollect.org.uk
DTSTAMP:20260421T120725Z
ORGANIZER;CN=GWSC  Office:MAILTO:office@grafham.org
DTSTART;TZID=Europe/London:20260530T093000
DTEND;TZID=Europe/London:20260530T164500
DESCRIPTION:The Level 1 and 2 courses will teach you the very basic skills of learning to sail. Membership is required to attend our courses. Please ensure that you have purchased or already have the appropriate membership for the course. If you are unsure then please contact the Office. Dinghy sailing is a very active sport. At times it may feel like a gym workout. For example\, you will need to be able to...
SUMMARY:2 Day Course - 30 & 31 May RYA Adult Level 2 - Basic Skills(full) - Grafham Water Sailing Club
END:VEVENT
END:VCALENDAR
