BEGIN:VCALENDAR
METHOD:PUBLISH
PRODID:-//webcollect/gsg//NONSGML v1.0//EN
BEGIN:VTIMEZONE
TZID:Europe/London
BEGIN:DAYLIGHT
TZOFFSETFROM:+0000
RRULE:FREQ=YEARLY;BYMONTH=3;BYDAY=-1SU
DTSTART:19810329T010000
TZNAME:BST
TZOFFSETTO:+0100
END:DAYLIGHT
BEGIN:STANDARD
TZOFFSETFROM:+0100
RRULE:FREQ=YEARLY;BYMONTH=10;BYDAY=-1SU
DTSTART:19961027T020000
TZNAME:GMT
TZOFFSETTO:+0000
END:STANDARD
END:VTIMEZONE
BEGIN:VEVENT
UID:event_product_452319@webcollect.org.uk
DTSTAMP:20260421T080854Z
ORGANIZER;CN=GSG System Administrator:MAILTO:memsec@gsocg.org
DTSTART;TZID=Europe/London:20260520T133000
DTEND;TZID=Europe/London:20260520T153000
DESCRIPTION:Want to learn about geology?Come to our free event\, all welcome\, whatever the age.Located in the ground floor Activity Room you can look at rocks and fossils and if you bring your own maybe get them identified. Chat with like minded enthusiasts and experts about the science and what's on locally.Tea & coffee provided
SUMMARY:GeoNatter at the Kelvin Hall(50 places avail) - THE GEOLOGICAL SOCIETY OF GLASGOW
LOCATION:Kelvinhall\, 1445 Argyle Street Glasgow G3 8AW
END:VEVENT
BEGIN:VEVENT
UID:event_product_440133@webcollect.org.uk
DTSTAMP:20260421T080854Z
ORGANIZER;CN=GSG Events:MAILTO:excursions@gsocg.org
DTSTART;VALUE=DATE:20260522
DESCRIPTION:Bob Davidson will be joined by Danny Long to lead a 2 day geology/palaeontology themed residential excursion in the Cromarty area. Bob is a retired oil and gas wells engineer who came to geology through industry\, training initially as a geophysical logging engineer measuring sedimentary rock properties around the world. For the past 36 years Bob has been involved in palaeontological research of...
SUMMARY:*DEPOSIT* 3 Nights staying at the Old Brewery Cromarty Residential Trip *22nd - 25th May 2026*(3 places avail) - THE GEOLOGICAL SOCIETY OF GLASGOW
LOCATION:Cromarty Old Brewery
END:VEVENT
BEGIN:VEVENT
UID:event_product_457247@webcollect.org.uk
DTSTAMP:20260421T080854Z
ORGANIZER;CN=GSG Events:MAILTO:excursions@gsocg.org
DTSTART;TZID=Europe/London:20260522T160000
DTEND;TZID=Europe/London:20260522T100000
DESCRIPTION:*PLEASE DO NOT BOOK A SPACE IF YOU HAVE NOT YET GIVEN YOUR NAME TO THE EXCURSIONS SECRETARY AS ROOMS HAVE ALREADY BEEN ALLOCATED\, SPACES ARE AVAILABLE BUT PLEASE EMAIL excursions@gsocg.org in the first instance\, Thanks.We will be staying 3 nights at the Old Brewery in Cromarty https://www.cromartyartstrust.org.uk/old-breweryand costs are as follows:-£150.00 for 3 nights\, per person\, Bed...
SUMMARY:*DEPOSIT* 3 Nights staying at the Old Brewery Cromarty Residential Trip *22nd - 25th May 2026* Accommodation(9 places avail) - THE GEOLOGICAL SOCIETY OF GLASGOW
LOCATION:Cromarty Old Brewery
END:VEVENT
BEGIN:VEVENT
UID:event_product_452320@webcollect.org.uk
DTSTAMP:20260421T080854Z
ORGANIZER;CN=GSG System Administrator:MAILTO:memsec@gsocg.org
DTSTART;TZID=Europe/London:20260617T133000
DTEND;TZID=Europe/London:20260617T153000
DESCRIPTION:Want to learn about geology?Come to our free event\, all welcome\, whatever the age.Located in the ground floor Activity Room you can look at rocks and fossils and if you bring your own maybe get them identified. Chat with like minded enthusiasts and experts about the science and what's on locally.Tea & coffee provided
SUMMARY:GeoNatter at the Kelvin Hall(50 places avail) - THE GEOLOGICAL SOCIETY OF GLASGOW
LOCATION:Kelvinhall\, 1445 Argyle Street Glasgow G3 8AW
END:VEVENT
BEGIN:VEVENT
UID:event_product_452321@webcollect.org.uk
DTSTAMP:20260421T080854Z
ORGANIZER;CN=GSG System Administrator:MAILTO:memsec@gsocg.org
DTSTART;TZID=Europe/London:20260715T133000
DTEND;TZID=Europe/London:20260715T153000
DESCRIPTION:Want to learn about geology?Come to our free event\, all welcome\, whatever the age.Located in the ground floor Activity Room you can look at rocks and fossils and if you bring your own maybe get them identified. Chat with like minded enthusiasts and experts about the science and what's on locally.Tea & coffee provided
SUMMARY:GeoNatter at the Kelvin Hall(50 places avail) - THE GEOLOGICAL SOCIETY OF GLASGOW
LOCATION:Kelvinhall\, 1445 Argyle Street Glasgow G3 8AW
END:VEVENT
BEGIN:VEVENT
UID:event_product_452322@webcollect.org.uk
DTSTAMP:20260421T080854Z
ORGANIZER;CN=GSG System Administrator:MAILTO:memsec@gsocg.org
DTSTART;TZID=Europe/London:20260819T133000
DTEND;TZID=Europe/London:20260819T153000
DESCRIPTION:Want to learn about geology?Come to our free event\, all welcome\, whatever the age.Located in the ground floor Activity Room you can look at rocks and fossils and if you bring your own maybe get them identified. Chat with like minded enthusiasts and experts about the science and what's on locally.Tea & coffee provided
SUMMARY:GeoNatter at the Kelvin Hall(50 places avail) - THE GEOLOGICAL SOCIETY OF GLASGOW
LOCATION:Kelvinhall\, 1445 Argyle Street Glasgow G3 8AW
END:VEVENT
BEGIN:VEVENT
UID:event_product_452323@webcollect.org.uk
DTSTAMP:20260421T080854Z
ORGANIZER;CN=GSG System Administrator:MAILTO:memsec@gsocg.org
DTSTART;TZID=Europe/London:20260916T133000
DTEND;TZID=Europe/London:20260916T153000
DESCRIPTION:Want to learn about geology?Come to our free event\, all welcome\, whatever the age.Located in the ground floor Activity Room you can look at rocks and fossils and if you bring your own maybe get them identified. Chat with like minded enthusiasts and experts about the science and what's on locally.Tea & coffee provided
SUMMARY:GeoNatter at the Kelvin Hall(50 places avail) - THE GEOLOGICAL SOCIETY OF GLASGOW
LOCATION:Kelvinhall\, 1445 Argyle Street Glasgow G3 8AW
END:VEVENT
BEGIN:VEVENT
UID:event_product_452324@webcollect.org.uk
DTSTAMP:20260421T080854Z
ORGANIZER;CN=GSG System Administrator:MAILTO:memsec@gsocg.org
DTSTART;TZID=Europe/London:20261021T133000
DTEND;TZID=Europe/London:20261021T153000
DESCRIPTION:Want to learn about geology?Come to our free event\, all welcome\, whatever the age.Located in the ground floor Activity Room you can look at rocks and fossils and if you bring your own maybe get them identified. Chat with like minded enthusiasts and experts about the science and what's on locally.Tea & coffee provided
SUMMARY:GeoNatter at the Kelvin Hall(50 places avail) - THE GEOLOGICAL SOCIETY OF GLASGOW
LOCATION:Kelvinhall\, 1445 Argyle Street Glasgow G3 8AW
END:VEVENT
BEGIN:VEVENT
UID:event_product_452325@webcollect.org.uk
DTSTAMP:20260421T080854Z
ORGANIZER;CN=GSG System Administrator:MAILTO:memsec@gsocg.org
DTSTART;TZID=Europe/London:20261118T133000
DTEND;TZID=Europe/London:20261118T153000
DESCRIPTION:Want to learn about geology?Come to our free event\, all welcome\, whatever the age.Located in the ground floor Activity Room you can look at rocks and fossils and if you bring your own maybe get them identified. Chat with like minded enthusiasts and experts about the science and what's on locally.Tea & coffee provided
SUMMARY:GeoNatter at the Kelvin Hall(50 places avail) - THE GEOLOGICAL SOCIETY OF GLASGOW
LOCATION:Kelvinhall\, 1445 Argyle Street Glasgow G3 8AW
END:VEVENT
BEGIN:VEVENT
UID:event_product_452326@webcollect.org.uk
DTSTAMP:20260421T080854Z
ORGANIZER;CN=GSG System Administrator:MAILTO:memsec@gsocg.org
DTSTART;TZID=Europe/London:20261216T133000
DTEND;TZID=Europe/London:20261216T153000
DESCRIPTION:Want to learn about geology?Come to our free event\, all welcome\, whatever the age.Located in the ground floor Activity Room you can look at rocks and fossils and if you bring your own maybe get them identified. Chat with like minded enthusiasts and experts about the science and what's on locally.Tea & coffee provided
SUMMARY:GeoNatter at the Kelvin Hall(50 places avail) - THE GEOLOGICAL SOCIETY OF GLASGOW
LOCATION:Kelvinhall\, 1445 Argyle Street Glasgow G3 8AW
END:VEVENT
END:VCALENDAR
