BEGIN:VCALENDAR
METHOD:PUBLISH
PRODID:-//webcollect/hollowellsc//NONSGML v1.0//EN
BEGIN:VTIMEZONE
TZID:Europe/London
BEGIN:DAYLIGHT
TZOFFSETFROM:+0000
RRULE:FREQ=YEARLY;BYMONTH=3;BYDAY=-1SU
DTSTART:19810329T010000
TZNAME:BST
TZOFFSETTO:+0100
END:DAYLIGHT
BEGIN:STANDARD
TZOFFSETFROM:+0100
RRULE:FREQ=YEARLY;BYMONTH=10;BYDAY=-1SU
DTSTART:19961027T020000
TZNAME:GMT
TZOFFSETTO:+0000
END:STANDARD
END:VTIMEZONE
BEGIN:VEVENT
UID:event_product_444920@webcollect.org.uk
DTSTAMP:20260422T172329Z
ORGANIZER;CN=HSC ADMIN Commodore (Rachel McDonnell):MAILTO:commodore@hollowellsc.org.uk
DTSTART;TZID=Europe/London:20260613T140000
DTEND;TZID=Europe/London:20260613T235900
DESCRIPTION:A Celebration of Hollowell Sailing Clubs’ past and present success. To include a parade of 60 craft and other activities on the water\, followed by live music\, games and a pig roast. More information to follow nearer the date.Date: 13th June 2026Time: 2pm – late
SUMMARY:60th Anniversary Festival 60th Anniversary Festival - Hollowell Sailing Club
LOCATION:Hollowell SC
END:VEVENT
END:VCALENDAR
