BEGIN:VCALENDAR
METHOD:PUBLISH
PRODID:-//webcollect/hollowellsc//NONSGML v1.0//EN
BEGIN:VTIMEZONE
TZID:Europe/London
BEGIN:DAYLIGHT
TZOFFSETFROM:+0000
RRULE:FREQ=YEARLY;BYMONTH=3;BYDAY=-1SU
DTSTART:19810329T010000
TZNAME:BST
TZOFFSETTO:+0100
END:DAYLIGHT
BEGIN:STANDARD
TZOFFSETFROM:+0100
RRULE:FREQ=YEARLY;BYMONTH=10;BYDAY=-1SU
DTSTART:19961027T020000
TZNAME:GMT
TZOFFSETTO:+0000
END:STANDARD
END:VTIMEZONE
BEGIN:VEVENT
UID:event_product_440767@webcollect.org.uk
DTSTAMP:20260422T180610Z
ORGANIZER;CN=Andrea King:MAILTO:andrea.r.king@gmail.com
DTSTART;VALUE=DATE:20260530
DESCRIPTION:During the process you will be asked to book onto the L3 course or any one of the advanced modules Level 3: Better Sailing course. Further coaching to consolidate Level 1 and 2 skills and taster sessions from some of the advanced modules. Advanced modules: Start Racing Sailing with Spinnakers Seamanship SkillsPlease indicate which course you want to attend below\, along with the required price....
SUMMARY:L3: 30 & 31 May Adult Dinghy Level 3 Advanced modules: two day course. For a complete list of dates 'Book Places' (8 places avail) - Hollowell Sailing Club
LOCATION:Hollowell Sailing Club
END:VEVENT
BEGIN:VEVENT
UID:event_product_440768@webcollect.org.uk
DTSTAMP:20260422T180610Z
ORGANIZER;CN=Andrea King:MAILTO:andrea.r.king@gmail.com
DTSTART;VALUE=DATE:20260627
DESCRIPTION:During the process you will be asked to book onto the L3 course or any one of the advanced modules Level 3: Better Sailing course. Further coaching to consolidate Level 1 and 2 skills and taster sessions from some of the advanced modules. Advanced modules: Start Racing Sailing with Spinnakers Seamanship SkillsPlease indicate which course you want to attend below\, along with the required price....
SUMMARY:L3:27 Jun & 4 Jul (two Sats) Adult Dinghy Level 3 Advanced modules: two day course. For a complete list of dates 'Book Places' (8 places avail) - Hollowell Sailing Club
LOCATION:Hollowell Sailing Club
END:VEVENT
BEGIN:VEVENT
UID:event_product_440769@webcollect.org.uk
DTSTAMP:20260422T180610Z
ORGANIZER;CN=Andrea King:MAILTO:andrea.r.king@gmail.com
DTSTART;VALUE=DATE:20260815
DESCRIPTION:During the process you will be asked to book onto the L3 course or any one of the advanced modules Level 3: Better Sailing course. Further coaching to consolidate Level 1 and 2 skills and taster sessions from some of the advanced modules. Advanced modules: Start Racing Sailing with Spinnakers Seamanship SkillsPlease indicate which course you want to attend below\, along with the required price....
SUMMARY:L3:15 & 16 Aug Adult Dinghy Level 3 Advanced modules: two day course. For a complete list of dates 'Book Places' (8 places avail) - Hollowell Sailing Club
LOCATION:Hollowell Sailing Club
END:VEVENT
BEGIN:VEVENT
UID:event_product_440770@webcollect.org.uk
DTSTAMP:20260422T180610Z
ORGANIZER;CN=Andrea King:MAILTO:andrea.r.king@gmail.com
DTSTART;VALUE=DATE:20260926
DESCRIPTION:During the process you will be asked to book onto the L3 course or any one of the advanced modules Level 3: Better Sailing course. Further coaching to consolidate Level 1 and 2 skills and taster sessions from some of the advanced modules. Advanced modules: Start Racing Sailing with Spinnakers Seamanship SkillsPlease indicate which course you want to attend below\, along with the required price....
SUMMARY:L3:26 & 27 Sep Adult Dinghy Level 3 Advanced modules: two day course. For a complete list of dates 'Book Places' (8 places avail) - Hollowell Sailing Club
LOCATION:Hollowell Sailing Club
END:VEVENT
END:VCALENDAR
