BEGIN:VCALENDAR
METHOD:PUBLISH
PRODID:-//webcollect/hollowellsc//NONSGML v1.0//EN
BEGIN:VTIMEZONE
TZID:Europe/London
BEGIN:DAYLIGHT
TZOFFSETFROM:+0000
RRULE:FREQ=YEARLY;BYMONTH=3;BYDAY=-1SU
DTSTART:19810329T010000
TZNAME:BST
TZOFFSETTO:+0100
END:DAYLIGHT
BEGIN:STANDARD
TZOFFSETFROM:+0100
RRULE:FREQ=YEARLY;BYMONTH=10;BYDAY=-1SU
DTSTART:19961027T020000
TZNAME:GMT
TZOFFSETTO:+0000
END:STANDARD
END:VTIMEZONE
BEGIN:VEVENT
UID:event_product_457312@webcollect.org.uk
DTSTAMP:20260422T160401Z
ORGANIZER;CN=HSC ADMIN Membership (Susan Jones):MAILTO:membership@hollowellsc.org.uk
DTSTART;VALUE=DATE:20260509
DESCRIPTION:Would you like to learn a new skill\, or build your children's confidence on the water? Perhaps you sailed as a child but have been too busy since? Why not consider watersports at your local family friendly sailing club?At Hollowell Sailing Club we offer sailing\, stand-up paddle-boarding and Model Radio Yachting. Hollowell Scullers also operate on the reservoir and can offer separate...
SUMMARY:Saturday 9 May 10:00am - 1 person Discover/Rediscover Sailing - Tour & Taster FREE 2026(7 places avail) - Hollowell Sailing Club
LOCATION:Hollowell Sailing Club
END:VEVENT
BEGIN:VEVENT
UID:event_product_457313@webcollect.org.uk
DTSTAMP:20260422T160401Z
ORGANIZER;CN=HSC ADMIN Membership (Susan Jones):MAILTO:membership@hollowellsc.org.uk
DTSTART;VALUE=DATE:20260509
DESCRIPTION:Would you like to learn a new skill\, or build your children's confidence on the water? Perhaps you sailed as a child but have been too busy since? Why not consider watersports at your local family friendly sailing club?At Hollowell Sailing Club we offer sailing\, stand-up paddle-boarding and Model Radio Yachting. Hollowell Scullers also operate on the reservoir and can offer separate...
SUMMARY:Saturday 9 May 10:30am - 1 person Discover/Rediscover Sailing - Tour & Taster FREE 2026(8 places avail) - Hollowell Sailing Club
LOCATION:Hollowell Sailing Club
END:VEVENT
BEGIN:VEVENT
UID:event_product_457314@webcollect.org.uk
DTSTAMP:20260422T160401Z
ORGANIZER;CN=HSC ADMIN Membership (Susan Jones):MAILTO:membership@hollowellsc.org.uk
DTSTART;VALUE=DATE:20260509
DESCRIPTION:Would you like to learn a new skill\, or build your children's confidence on the water? Perhaps you sailed as a child but have been too busy since? Why not consider watersports at your local family friendly sailing club?At Hollowell Sailing Club we offer sailing\, stand-up paddle-boarding and Model Radio Yachting. Hollowell Scullers also operate on the reservoir and can offer separate...
SUMMARY:Saturday 9 May 11:00am - 1 person Discover/Rediscover Sailing - Tour & Taster FREE 2026(7 places avail) - Hollowell Sailing Club
LOCATION:Hollowell Sailing Club
END:VEVENT
BEGIN:VEVENT
UID:event_product_457315@webcollect.org.uk
DTSTAMP:20260422T160401Z
ORGANIZER;CN=HSC ADMIN Membership (Susan Jones):MAILTO:membership@hollowellsc.org.uk
DTSTART;VALUE=DATE:20260509
DESCRIPTION:Would you like to learn a new skill\, or build your children's confidence on the water? Perhaps you sailed as a child but have been too busy since? Why not consider watersports at your local family friendly sailing club?At Hollowell Sailing Club we offer sailing\, stand-up paddle-boarding and Model Radio Yachting. Hollowell Scullers also operate on the reservoir and can offer separate...
SUMMARY:Saturday 9 May 11:30am - 1 person Discover/Rediscover Sailing - Tour & Taster FREE 2026(8 places avail) - Hollowell Sailing Club
LOCATION:Hollowell Sailing Club
END:VEVENT
BEGIN:VEVENT
UID:event_product_457316@webcollect.org.uk
DTSTAMP:20260422T160401Z
ORGANIZER;CN=HSC ADMIN Membership (Susan Jones):MAILTO:membership@hollowellsc.org.uk
DTSTART;VALUE=DATE:20260509
DESCRIPTION:Would you like to learn a new skill\, or build your children's confidence on the water? Perhaps you sailed as a child but have been too busy since? Why not consider watersports at your local family friendly sailing club?At Hollowell Sailing Club we offer sailing\, stand-up paddle-boarding and Model Radio Yachting. Hollowell Scullers also operate on the reservoir and can offer separate...
SUMMARY:Saturday 9 May 12:00am - 1 person Discover/Rediscover Sailing - Tour & Taster FREE 2026(3 places avail) - Hollowell Sailing Club
LOCATION:Hollowell Sailing Club
END:VEVENT
BEGIN:VEVENT
UID:event_product_457317@webcollect.org.uk
DTSTAMP:20260422T160401Z
ORGANIZER;CN=HSC ADMIN Membership (Susan Jones):MAILTO:membership@hollowellsc.org.uk
DTSTART;VALUE=DATE:20260620
DESCRIPTION:Would you like to learn a new skill\, or build your children's confidence on the water? Perhaps you sailed as a child but have been too busy since? Why not consider watersports at your local family friendly sailing club?At Hollowell Sailing Club we offer sailing\, stand-up paddle-boarding and Model Radio Yachting. Hollowell Scullers also operate on the reservoir and can offer separate...
SUMMARY:Saturday 20 June 10:00am - 1 person Discover/Rediscover Sailing - Tour & Taster FREE 2026(8 places avail) - Hollowell Sailing Club
LOCATION:Hollowell Sailing Club
END:VEVENT
BEGIN:VEVENT
UID:event_product_457318@webcollect.org.uk
DTSTAMP:20260422T160401Z
ORGANIZER;CN=HSC ADMIN Membership (Susan Jones):MAILTO:membership@hollowellsc.org.uk
DTSTART;VALUE=DATE:20260620
DESCRIPTION:Would you like to learn a new skill\, or build your children's confidence on the water? Perhaps you sailed as a child but have been too busy since? Why not consider watersports at your local family friendly sailing club?At Hollowell Sailing Club we offer sailing\, stand-up paddle-boarding and Model Radio Yachting. Hollowell Scullers also operate on the reservoir and can offer separate...
SUMMARY:Saturday 20 June 10:30am - 1 person Discover/Rediscover Sailing - Tour & Taster FREE 2026(8 places avail) - Hollowell Sailing Club
LOCATION:Hollowell Sailing Club
END:VEVENT
BEGIN:VEVENT
UID:event_product_457319@webcollect.org.uk
DTSTAMP:20260422T160401Z
ORGANIZER;CN=HSC ADMIN Membership (Susan Jones):MAILTO:membership@hollowellsc.org.uk
DTSTART;VALUE=DATE:20260620
DESCRIPTION:Would you like to learn a new skill\, or build your children's confidence on the water? Perhaps you sailed as a child but have been too busy since? Why not consider watersports at your local family friendly sailing club?At Hollowell Sailing Club we offer sailing\, stand-up paddle-boarding and Model Radio Yachting. Hollowell Scullers also operate on the reservoir and can offer separate...
SUMMARY:Saturday 20 June 11:00am - 1 person Discover/Rediscover Sailing - Tour & Taster FREE 2026(8 places avail) - Hollowell Sailing Club
LOCATION:Hollowell Sailing Club
END:VEVENT
BEGIN:VEVENT
UID:event_product_457320@webcollect.org.uk
DTSTAMP:20260422T160401Z
ORGANIZER;CN=HSC ADMIN Membership (Susan Jones):MAILTO:membership@hollowellsc.org.uk
DTSTART;VALUE=DATE:20260620
DESCRIPTION:Would you like to learn a new skill\, or build your children's confidence on the water? Perhaps you sailed as a child but have been too busy since? Why not consider watersports at your local family friendly sailing club?At Hollowell Sailing Club we offer sailing\, stand-up paddle-boarding and Model Radio Yachting. Hollowell Scullers also operate on the reservoir and can offer separate...
SUMMARY:Saturday 20 June 11:30am - 1 person Discover/Rediscover Sailing - Tour & Taster FREE 2026(8 places avail) - Hollowell Sailing Club
LOCATION:Hollowell Sailing Club
END:VEVENT
BEGIN:VEVENT
UID:event_product_457321@webcollect.org.uk
DTSTAMP:20260422T160401Z
ORGANIZER;CN=HSC ADMIN Membership (Susan Jones):MAILTO:membership@hollowellsc.org.uk
DTSTART;VALUE=DATE:20260620
DESCRIPTION:Would you like to learn a new skill\, or build your children's confidence on the water? Perhaps you sailed as a child but have been too busy since? Why not consider watersports at your local family friendly sailing club?At Hollowell Sailing Club we offer sailing\, stand-up paddle-boarding and Model Radio Yachting. Hollowell Scullers also operate on the reservoir and can offer separate...
SUMMARY:Saturday 20 June 12:00am - 1 person Discover/Rediscover Sailing - Tour & Taster FREE 2026(3 places avail) - Hollowell Sailing Club
LOCATION:Hollowell Sailing Club
END:VEVENT
END:VCALENDAR
