BEGIN:VCALENDAR
METHOD:PUBLISH
PRODID:-//webcollect/hollowellsc//NONSGML v1.0//EN
BEGIN:VTIMEZONE
TZID:Europe/London
BEGIN:DAYLIGHT
TZOFFSETFROM:+0000
RRULE:FREQ=YEARLY;BYMONTH=3;BYDAY=-1SU
DTSTART:19810329T010000
TZNAME:BST
TZOFFSETTO:+0100
END:DAYLIGHT
BEGIN:STANDARD
TZOFFSETFROM:+0100
RRULE:FREQ=YEARLY;BYMONTH=10;BYDAY=-1SU
DTSTART:19961027T020000
TZNAME:GMT
TZOFFSETTO:+0000
END:STANDARD
END:VTIMEZONE
BEGIN:VEVENT
UID:event_product_440819@webcollect.org.uk
DTSTAMP:20260422T183733Z
ORGANIZER;CN=HSC ADMIN Youth Training (Jenny Sturt):MAILTO:youth-train@hollowellsc.org.uk
DTSTART;VALUE=DATE:20260912
DESCRIPTION:This is a 2 day course for juniors and youths from 8 years upwards who have already done a stage 1 course. By the end of it you will be able tack\, gybe and control boat speed to sail a triangular course\, and understand basic sailing principles to get RYA Stage 2 certification! The cost of £70 includes instruction\, use of a boat and buoyancy aid\, and an RYA certificate. Non-members can also do...
SUMMARY:Stage 2 - 2 days Junior RYA Stage 2 Course- 2026(12 places avail) - Hollowell Sailing Club
LOCATION:Hollowell Sailing Club
END:VEVENT
END:VCALENDAR
