BEGIN:VCALENDAR
METHOD:PUBLISH
PRODID:-//webcollect/hollowellsc//NONSGML v1.0//EN
BEGIN:VTIMEZONE
TZID:Europe/London
BEGIN:DAYLIGHT
TZOFFSETFROM:+0000
RRULE:FREQ=YEARLY;BYMONTH=3;BYDAY=-1SU
DTSTART:19810329T010000
TZNAME:BST
TZOFFSETTO:+0100
END:DAYLIGHT
BEGIN:STANDARD
TZOFFSETFROM:+0100
RRULE:FREQ=YEARLY;BYMONTH=10;BYDAY=-1SU
DTSTART:19961027T020000
TZNAME:GMT
TZOFFSETTO:+0000
END:STANDARD
END:VTIMEZONE
BEGIN:VEVENT
UID:event_product_440820@webcollect.org.uk
DTSTAMP:20260422T160921Z
ORGANIZER;CN=HSC ADMIN Youth Training (Jenny Sturt):MAILTO:youth-train@hollowellsc.org.uk
DTSTART;VALUE=DATE:20260412
DESCRIPTION:For those that already have their Stage 1 we have regular Sunday Morning Coaching sessions which take you right through the RYA stages (e.g. tacking\, gybing\, sailing different boats) and into the racing domain. We encourage our young sailors to take part in the club racing after lunch. As progress continues the young sailors are encouraged to sail at local and national events. Sunday Coaching...
SUMMARY:Youth Coaching (11 sessions) Junior & Youth Coaching (11 sessions) 2026(22 places avail) - Hollowell Sailing Club
LOCATION:Hollowell Sailing Club
END:VEVENT
END:VCALENDAR
